From mboxrd@z Thu Jan 1 00:00:00 1970 Return-Path: Received: from mails.dpdk.org (mails.dpdk.org [217.70.189.124]) by inbox.dpdk.org (Postfix) with ESMTP id B8BBE461BF for ; Fri, 7 Feb 2025 20:45:08 +0100 (CET) Received: from mails.dpdk.org (localhost [127.0.0.1]) by mails.dpdk.org (Postfix) with ESMTP id B64884029A; Fri, 7 Feb 2025 20:45:08 +0100 (CET) Received: from mail-pl1-f225.google.com (mail-pl1-f225.google.com [209.85.214.225]) by mails.dpdk.org (Postfix) with ESMTP id 62CDB4026C for ; Fri, 7 Feb 2025 20:45:07 +0100 (CET) Received: by mail-pl1-f225.google.com with SMTP id d9443c01a7336-21f20666e72so52902165ad.1 for ; Fri, 07 Feb 2025 11:45:07 -0800 (PST) DKIM-Signature: v=1; a=rsa-sha256; c=relaxed/relaxed; d=iol.unh.edu; s=unh-iol; t=1738957506; x=1739562306; darn=dpdk.org; h=cc:to:from:subject:message-id:date:from:to:cc:subject:date :message-id:reply-to; bh=/Xmq1D55iQDI3BWCuIX4oqUS1rQi6ayKStGoFfANeRo=; b=fAxCModb82d3mL2iW6C4h+VQSTkzbrYZgn7vMAzKKG5dYF2XN3rTmBNKokdQstgndp A2qg2HbS3DqNnoaeRsJwcaIVn2vUsg+9rcHzFk2+lH/eaBb8qPd2ZsUqIIKlgG7QyKyO rViYMNlqXsCzvVsC17ip6nCcbfqJtqMGwghk0= X-Google-DKIM-Signature: v=1; a=rsa-sha256; c=relaxed/relaxed; d=1e100.net; s=20230601; t=1738957506; x=1739562306; h=cc:to:from:subject:message-id:date:x-gm-message-state:from:to:cc :subject:date:message-id:reply-to; bh=/Xmq1D55iQDI3BWCuIX4oqUS1rQi6ayKStGoFfANeRo=; b=ESizwMuy+YLZhxkrA4mYaXF5nD72lKiuICMvxUj8neh25nwTLHT7MqEKTkKhD9w6rd 1NOwJYyx46BqkooeyYdrZ4q07Ir36rxSVmXliAQE5b18i2eASAkGwfMPiP1/0/voFVrq xn7ZHXNod8z/7+aKVqMU3ez2d0ZVunQrd8U4TWT4s1Fp44XfEhUh6bN7FTKCUvZfL7Ee h2XIJMg1xR2a4j6G8rR5Co/8/LPZOEVNj70c0ymfXeFH1iIXc1ENi1wX93Qs9xT/BTS9 wtNASJlRGhTIMQevS/iJeSaruFxw8nxdagqTK3i8+Pwh3GrVPg+aoeqprtI2Dpo4Gt/F kyAg== X-Gm-Message-State: AOJu0YzuqrHd6kqP8VrkAu9sEtDYs8b4J6t2NBbefwJaAYrcybhnrthq GC1EY+GlSobIJVpU0SVc6/azP3C45vUVkoLU0KnI+zQ6+SSHfq2itxakKsLm1oYcsJIRt/iIkIj Qn3YR20uh3hchoC4KOe/unbQkCK2W7xk9BMwW2SJV X-Gm-Gg: ASbGncuJ3/PVPIw81voqXs0LBKjxf9VLmVApKPJmxK0RJVLtu0tZhCdcK233+rXq2aV /T31ZHg4ZvMivNBdv7XjKlaZyCiF8D0IXgSrmlG6NFes2I87eEB2qe/lMc9mQDjbi431RWNy5UX ZDGiOv69z2ubtHLEhL2JEZiJ1hTwapOHjhtmtdZHCM3rPDlk3v194wk9/OhjUwYiWDEUmziDQdl R8GKrBJeALKgmp9l58N967QVFp6jC9OGwA8mFMqXQwGOiQ07ZVxHKa4i0M6jLyzWBrLlvb21gcX 5AeLZ0y+rL887lxnpEi/Jr85RYkRkg== X-Google-Smtp-Source: AGHT+IFmiDvF91u9b5p9eQ7loFqjm0SoqSL9RxPDh/huX1QEFKMRAe617u+RWNVW4OFU3hMvf7nmM5Nj3wrH X-Received: by 2002:a05:6a00:2289:b0:725:f153:22d5 with SMTP id d2e1a72fcca58-7305d54d821mr8355528b3a.18.1738957506371; Fri, 07 Feb 2025 11:45:06 -0800 (PST) Received: from postal.iol.unh.edu (postal.iol.unh.edu. [132.177.123.84]) by smtp-relay.gmail.com with ESMTPS id d2e1a72fcca58-73048aac0b3sm190492b3a.4.2025.02.07.11.45.06 (version=TLS1_2 cipher=ECDHE-ECDSA-AES128-GCM-SHA256 bits=128/128); Fri, 07 Feb 2025 11:45:06 -0800 (PST) X-Relaying-Domain: iol.unh.edu Date: Fri, 07 Feb 2025 11:45:06 -0800 (PST) Message-ID: <67a662c2.a70a0220.2ab93a.a142SMTPIN_ADDED_MISSING@mx.google.com> Received: from [172.21.0.13] (unknown [172.18.0.240]) by postal.iol.unh.edu (Postfix) with ESMTP id 7588F6052471; Fri, 7 Feb 2025 14:44:35 -0500 (EST) Subject: |SUCCESS| [GIT MASTER] fd51012de5369679e807be1d6a81d63ef15015ce From: dpdklab@iol.unh.edu To: Test Report Cc: dpdk-test-reports@iol.unh.edu Content-Type: text/plain X-BeenThere: test-report@dpdk.org X-Mailman-Version: 2.1.29 Precedence: list List-Id: automatic DPDK test reports List-Unsubscribe: , List-Archive: List-Post: List-Help: List-Subscribe: , Errors-To: test-report-bounces@dpdk.org _Testing PASS_ Branch: dpdk fd51012de5369679e807be1d6a81d63ef15015ce --> testing pass Test environment and result as below: +---------------------+--------------------+------------------+-------------------+-------------------+-------------------------+----------------------+ | Environment | dpdk_meson_compile | dpdk_compile_ovs | dpdk_compile_spdk | dpdk_msvc_compile | dpdk_llvm_clang_compile | dpdk_mingw64_compile | +=====================+====================+==================+===================+===================+=========================+======================+ | CentOS Stream 9 | PASS | PASS | PASS | SKIPPED | SKIPPED | SKIPPED | +---------------------+--------------------+------------------+-------------------+-------------------+-------------------------+----------------------+ | Debian 12 | PASS | PASS | PASS | SKIPPED | SKIPPED | SKIPPED | +---------------------+--------------------+------------------+-------------------+-------------------+-------------------------+----------------------+ | Fedora 40 (Clang) | PASS | PASS | PASS | SKIPPED | SKIPPED | SKIPPED | +---------------------+--------------------+------------------+-------------------+-------------------+-------------------------+----------------------+ | Debian Bullseye | PASS | PASS | PASS | SKIPPED | SKIPPED | SKIPPED | +---------------------+--------------------+------------------+-------------------+-------------------+-------------------------+----------------------+ | Fedora 41 (Clang) | PASS | PASS | PASS | SKIPPED | SKIPPED | SKIPPED | +---------------------+--------------------+------------------+-------------------+-------------------+-------------------------+----------------------+ | Fedora 40 | PASS | PASS | PASS | SKIPPED | SKIPPED | SKIPPED | +---------------------+--------------------+------------------+-------------------+-------------------+-------------------------+----------------------+ | RHEL8 | PASS | PASS | SKIPPED | SKIPPED | SKIPPED | SKIPPED | +---------------------+--------------------+------------------+-------------------+-------------------+-------------------------+----------------------+ | Fedora 41 | PASS | PASS | PASS | SKIPPED | SKIPPED | SKIPPED | +---------------------+--------------------+------------------+-------------------+-------------------+-------------------------+----------------------+ | RHEL9 | PASS | PASS | SKIPPED | SKIPPED | SKIPPED | SKIPPED | +---------------------+--------------------+------------------+-------------------+-------------------+-------------------------+----------------------+ | Arch Linux | PASS | PASS | SKIPPED | SKIPPED | SKIPPED | SKIPPED | +---------------------+--------------------+------------------+-------------------+-------------------+-------------------------+----------------------+ | Ubuntu 24.04 | PASS | PASS | PASS | SKIPPED | SKIPPED | SKIPPED | +---------------------+--------------------+------------------+-------------------+-------------------+-------------------------+----------------------+ | Ubuntu 22.04 | PASS | PASS | PASS | SKIPPED | SKIPPED | SKIPPED | +---------------------+--------------------+------------------+-------------------+-------------------+-------------------------+----------------------+ | Ubuntu 20.04 | PASS | SKIPPED | SKIPPED | SKIPPED | SKIPPED | SKIPPED | +---------------------+--------------------+------------------+-------------------+-------------------+-------------------------+----------------------+ | Alpine | PASS | PASS | SKIPPED | SKIPPED | SKIPPED | SKIPPED | +---------------------+--------------------+------------------+-------------------+-------------------+-------------------------+----------------------+ | FreeBSD 13.4 | PASS | SKIPPED | SKIPPED | SKIPPED | SKIPPED | SKIPPED | +---------------------+--------------------+------------------+-------------------+-------------------+-------------------------+----------------------+ | FreeBSD 14.2 | PASS | SKIPPED | SKIPPED | SKIPPED | SKIPPED | SKIPPED | +---------------------+--------------------+------------------+-------------------+-------------------+-------------------------+----------------------+ | openSUSE Leap 15 | PASS | SKIPPED | SKIPPED | SKIPPED | SKIPPED | SKIPPED | +---------------------+--------------------+------------------+-------------------+-------------------+-------------------------+----------------------+ | Windows Server 2022 | SKIPPED | SKIPPED | SKIPPED | PASS | PASS | PASS | +---------------------+--------------------+------------------+-------------------+-------------------+-------------------------+----------------------+ CentOS Stream 9 Kernel: Depends on container host Compiler: gcc 11.5.0 20240719 (Red Hat 11.5.0-2) Debian 12 Kernel: Depends on container host Compiler: gcc (Debian 12.2.0-14) 12.2.0 Fedora 40 (Clang) Kernel: Depends on container host Compiler: clang 18.1.8 (Fedora 18.1.8-1.fc40) Debian Bullseye Kernel: Depends on container host Compiler: gcc (Debian 10.2.1-6) 10.2.1 20210110 Fedora 41 (Clang) Kernel: Depends on container host Compiler: clang 19.1.5 (Fedora 19.1.5-1.fc41) Fedora 40 Kernel: Depends on container host Compiler: gcc 14.2.1 20240912 (Red Hat 14.2.1-3) RHEL8 Kernel: Depends on container host Compiler: gcc 8.5.0 20210514 (Red Hat 8.5.0-22) Fedora 41 Kernel: Depends on container host Compiler: gcc 14.2.1 20240912 (Red Hat 14.2.1-3) RHEL9 Kernel: Depends on container host Compiler: gcc 11.5.0 20240719 (Red Hat 11.5.0-2) Arch Linux Kernel: Depends on container host Compiler: gcc 14.2.1 20240910 Ubuntu 24.04 Kernel: Depends on container host Compiler: gcc (Ubuntu 13.3.0-6ubuntu2~24.04) 13.3.0 Ubuntu 22.04 Kernel: Depends on container host Compiler: gcc (Ubuntu 11.4.0-1ubuntu1~22.04) 11.4.0 Ubuntu 20.04 Kernel: Depends on container host Compiler: gcc (Ubuntu 9.4.0-1ubuntu1~20.04.2) 9.4.0 Alpine Kernel: Depends on container host Compiler: gcc (Alpine 14.2.0) 14.2.0 FreeBSD 13.4 Kernel: 13.4-RELEASE-p1 Compiler: clang 18.1.6 FreeBSD 14.2 Kernel: 14.2-RELEASE Compiler: clang 18.1.6 openSUSE Leap 15 Kernel: Depends on container host Compiler: gcc (SUSE Linux) 7.5.0 Windows Server 2022 Kernel: 10.0.20348.2031 Compiler: clang 15.0.7, gcc 14.1.0 (MinGW), and MSVC VS 19.39.33521 To view detailed results, visit: https://lab.dpdk.org/results/dashboard/tarballs/32116/ UNH-IOL DPDK Community Lab To manage your email subscriptions, visit: https://lab.dpdk.org/results/dashboard/preferences/subscriptions/