From mboxrd@z Thu Jan 1 00:00:00 1970 Return-Path: Received: from mails.dpdk.org (mails.dpdk.org [217.70.189.124]) by inbox.dpdk.org (Postfix) with ESMTP id E1D7D461BF for ; Fri, 7 Feb 2025 20:45:27 +0100 (CET) Received: from mails.dpdk.org (localhost [127.0.0.1]) by mails.dpdk.org (Postfix) with ESMTP id DC81C4029A; Fri, 7 Feb 2025 20:45:27 +0100 (CET) Received: from mail-yw1-f226.google.com (mail-yw1-f226.google.com [209.85.128.226]) by mails.dpdk.org (Postfix) with ESMTP id D85024026C for ; Fri, 7 Feb 2025 20:45:26 +0100 (CET) Received: by mail-yw1-f226.google.com with SMTP id 00721157ae682-6f679788fd1so16144997b3.2 for ; Fri, 07 Feb 2025 11:45:26 -0800 (PST) DKIM-Signature: v=1; a=rsa-sha256; c=relaxed/relaxed; d=iol.unh.edu; s=unh-iol; t=1738957526; x=1739562326; darn=dpdk.org; h=references:in-reply-to:cc:to:from:subject:message-id:date:from:to :cc:subject:date:message-id:reply-to; bh=+R3oEHFejjGkPoXoy8fPFGg9i1CG3N2Ldr/59Dd33rQ=; b=fomhEiUZjJVBor05XwQ0IJ3eWSigU2dTSGL+1quqKjCHZLHdo4m9FCml9DPG6z65LK eZQMiTRKobkl830ITF8EBR3CdKooILoJ53dq/7DcOWxBybvNN6rdBfaHopwc8VeO3pQd ffn4ht/sQDrGjTHTJMasV2yCBeCILWZpEMRk8= X-Google-DKIM-Signature: v=1; a=rsa-sha256; c=relaxed/relaxed; d=1e100.net; s=20230601; t=1738957526; x=1739562326; h=references:in-reply-to:cc:to:from:subject:message-id:date :x-gm-message-state:from:to:cc:subject:date:message-id:reply-to; bh=+R3oEHFejjGkPoXoy8fPFGg9i1CG3N2Ldr/59Dd33rQ=; b=PSGs+e8bYGMhmwdKo2+Pm8mdFU0AFrmIlPLPyOzMzIDL9uyjYuEYbzETBzfK8omcL/ CeYEUkj5+eUH0O4X4zL+5NEyuwZZNZst8QRLxHwNIKIB3QaFEgNv57EwD9mLWp0cL4s0 MiZUzk2kH0wGW2ALZ6by8hnKKxWBIiIH1uOWTkWvGaFc4iCECfpibu8KIB/CWKtRBvbS xu2D7BlicqqKwG7+/wSold5HHBs1TExt8J11/Ewm6vAPVOpAUnU3/+N0D60VO0kUJHOy 4O64Eo9aqFDQ/tjU8pXL8pYVQuMqXRZhV6CEHOrvXW6+zl0bRmKbl7HFmyT6UL7Ry/hc GX1g== X-Gm-Message-State: AOJu0YwY+dMl4TyfY1Cl7MSm6BBNaL6HwvcpMjb3KTmOJmUvJlYRQTZ3 bQ9mEadE7n8r7jSLpq75ae4dYPb6tMUgO0UYRW39dS5rDdZ+39MfmsKctgS0MC7oFb7sOa6fpi7 2VzRFvUx0ABMTHt91oQAGxxkG49Yis1QdPNpD9b1Y X-Gm-Gg: ASbGncvzk1i60DkkHxMs3APRclrj5BebZsmzoDIsAXxJ2ZiKZDIiCpbdbDQyWX/K6mh ssF+F/ZCSXH3o5SVoz7tys0TgWOwLOJzZLEI6iUyDXdXpg0ilzkIRVEmTe/6nYqnCl2FVpLD23A bX0H9bT7Q5NG26XJBqA8mDV9IM08QXcHol3x89dP3EZP2Hq8Y62s2LlQ7+dIw1govm0aVP1+rZH 6mCM/awyKzcXRpZaLQwlOhSJSF3CshDSgwZbxbai26XFBca1b+YjBI29Wi1RW5LYzfSwuUGJzQV P6CiipNkBl0V0ixdDyYxywVEI65ElQ== X-Google-Smtp-Source: AGHT+IEV9d1O9gGf8opd0sGdnf4Q4SdtOom0094tv2g/5GhUGUVndjxwNxdB4ehNa45aXSwvisArvaYogxoL X-Received: by 2002:a05:690c:9989:b0:6ef:7312:d05e with SMTP id 00721157ae682-6f9b28783a4mr48813117b3.19.1738957526211; Fri, 07 Feb 2025 11:45:26 -0800 (PST) Received: from postal.iol.unh.edu (postal.iol.unh.edu. [132.177.123.84]) by smtp-relay.gmail.com with ESMTPS id 00721157ae682-6f99fd60d1esm504727b3.32.2025.02.07.11.45.26 (version=TLS1_2 cipher=ECDHE-ECDSA-AES128-GCM-SHA256 bits=128/128); Fri, 07 Feb 2025 11:45:26 -0800 (PST) X-Relaying-Domain: iol.unh.edu Date: Fri, 07 Feb 2025 11:45:26 -0800 (PST) Message-ID: <67a662d6.050a0220.1b5d82.2495SMTPIN_ADDED_MISSING@mx.google.com> Received: from [172.21.0.14] (unknown [172.18.0.240]) by postal.iol.unh.edu (Postfix) with ESMTP id CC0CB6052477; Fri, 7 Feb 2025 14:44:55 -0500 (EST) Subject: |SUCCESS| pw149642-149643 [PATCH] [v3,2/2] config/arm: sort SOCs alp From: dpdklab@iol.unh.edu To: Test Report Cc: dpdk-test-reports@iol.unh.edu In-Reply-To: <20250106183146.540161-2-wathsala.vithanage@arm.com> References: <20250106183146.540161-2-wathsala.vithanage@arm.com> Content-Type: text/plain X-BeenThere: test-report@dpdk.org X-Mailman-Version: 2.1.29 Precedence: list List-Id: automatic DPDK test reports List-Unsubscribe: , List-Archive: List-Post: List-Help: List-Subscribe: , Errors-To: test-report-bounces@dpdk.org Test-Label: iol-compile-amd64-testing Test-Status: SUCCESS http://dpdk.org/patch/149643 _Testing PASS RETEST #1_ Submitter: Wathsala Vithanage Date: Monday, January 06 2025 18:31:46 DPDK git baseline: Repo:dpdk Branch: master CommitID:fd51012de5369679e807be1d6a81d63ef15015ce 149642-149643 --> testing pass Test environment and result as below: +---------------------+--------------------+------------------+-------------------+-------------------------+-------------------+----------------------+ | Environment | dpdk_meson_compile | dpdk_compile_ovs | dpdk_compile_spdk | dpdk_llvm_clang_compile | dpdk_msvc_compile | dpdk_mingw64_compile | +=====================+====================+==================+===================+=========================+===================+======================+ | Debian Bullseye | PASS | PASS | PASS | SKIPPED | SKIPPED | SKIPPED | +---------------------+--------------------+------------------+-------------------+-------------------------+-------------------+----------------------+ | CentOS Stream 9 | PASS | PASS | PASS | SKIPPED | SKIPPED | SKIPPED | +---------------------+--------------------+------------------+-------------------+-------------------------+-------------------+----------------------+ | Debian 12 | PASS | PASS | PASS | SKIPPED | SKIPPED | SKIPPED | +---------------------+--------------------+------------------+-------------------+-------------------------+-------------------+----------------------+ | Fedora 40 (Clang) | PASS | PASS | PASS | SKIPPED | SKIPPED | SKIPPED | +---------------------+--------------------+------------------+-------------------+-------------------------+-------------------+----------------------+ | Fedora 40 | PASS | PASS | PASS | SKIPPED | SKIPPED | SKIPPED | +---------------------+--------------------+------------------+-------------------+-------------------------+-------------------+----------------------+ | Fedora 41 (Clang) | PASS | PASS | PASS | SKIPPED | SKIPPED | SKIPPED | +---------------------+--------------------+------------------+-------------------+-------------------------+-------------------+----------------------+ | Fedora 41 | PASS | PASS | PASS | SKIPPED | SKIPPED | SKIPPED | +---------------------+--------------------+------------------+-------------------+-------------------------+-------------------+----------------------+ | openSUSE Leap 15 | PASS | SKIPPED | SKIPPED | SKIPPED | SKIPPED | SKIPPED | +---------------------+--------------------+------------------+-------------------+-------------------------+-------------------+----------------------+ | RHEL8 | PASS | PASS | SKIPPED | SKIPPED | SKIPPED | SKIPPED | +---------------------+--------------------+------------------+-------------------+-------------------------+-------------------+----------------------+ | RHEL9 | PASS | PASS | SKIPPED | SKIPPED | SKIPPED | SKIPPED | +---------------------+--------------------+------------------+-------------------+-------------------------+-------------------+----------------------+ | Ubuntu 22.04 | PASS | PASS | PASS | SKIPPED | SKIPPED | SKIPPED | +---------------------+--------------------+------------------+-------------------+-------------------------+-------------------+----------------------+ | Ubuntu 24.04 | PASS | PASS | PASS | SKIPPED | SKIPPED | SKIPPED | +---------------------+--------------------+------------------+-------------------+-------------------------+-------------------+----------------------+ | Alpine | PASS | PASS | SKIPPED | SKIPPED | SKIPPED | SKIPPED | +---------------------+--------------------+------------------+-------------------+-------------------------+-------------------+----------------------+ | FreeBSD 13.4 | PASS | SKIPPED | SKIPPED | SKIPPED | SKIPPED | SKIPPED | +---------------------+--------------------+------------------+-------------------+-------------------------+-------------------+----------------------+ | FreeBSD 14.2 | PASS | SKIPPED | SKIPPED | SKIPPED | SKIPPED | SKIPPED | +---------------------+--------------------+------------------+-------------------+-------------------------+-------------------+----------------------+ | Ubuntu 20.04 | PASS | SKIPPED | SKIPPED | SKIPPED | SKIPPED | SKIPPED | +---------------------+--------------------+------------------+-------------------+-------------------------+-------------------+----------------------+ | Windows Server 2022 | SKIPPED | SKIPPED | SKIPPED | PASS | PASS | PASS | +---------------------+--------------------+------------------+-------------------+-------------------------+-------------------+----------------------+ Debian Bullseye Kernel: Depends on container host Compiler: gcc (Debian 10.2.1-6) 10.2.1 20210110 CentOS Stream 9 Kernel: Depends on container host Compiler: gcc 11.5.0 20240719 (Red Hat 11.5.0-2) Debian 12 Kernel: Depends on container host Compiler: gcc (Debian 12.2.0-14) 12.2.0 Fedora 40 (Clang) Kernel: Depends on container host Compiler: clang 18.1.8 (Fedora 18.1.8-1.fc40) Fedora 40 Kernel: Depends on container host Compiler: gcc 14.2.1 20240912 (Red Hat 14.2.1-3) Fedora 41 (Clang) Kernel: Depends on container host Compiler: clang 19.1.5 (Fedora 19.1.5-1.fc41) Fedora 41 Kernel: Depends on container host Compiler: gcc 14.2.1 20240912 (Red Hat 14.2.1-3) openSUSE Leap 15 Kernel: Depends on container host Compiler: gcc (SUSE Linux) 7.5.0 RHEL8 Kernel: Depends on container host Compiler: gcc 8.5.0 20210514 (Red Hat 8.5.0-22) RHEL9 Kernel: Depends on container host Compiler: gcc 11.5.0 20240719 (Red Hat 11.5.0-2) Ubuntu 22.04 Kernel: Depends on container host Compiler: gcc (Ubuntu 11.4.0-1ubuntu1~22.04) 11.4.0 Ubuntu 24.04 Kernel: Depends on container host Compiler: gcc (Ubuntu 13.3.0-6ubuntu2~24.04) 13.3.0 Alpine Kernel: Depends on container host Compiler: gcc (Alpine 14.2.0) 14.2.0 FreeBSD 13.4 Kernel: 13.4-RELEASE-p1 Compiler: clang 18.1.6 FreeBSD 14.2 Kernel: 14.2-RELEASE Compiler: clang 18.1.6 Ubuntu 20.04 Kernel: Depends on container host Compiler: gcc (Ubuntu 9.4.0-1ubuntu1~20.04.2) 9.4.0 Windows Server 2022 Kernel: 10.0.20348.2031 Compiler: clang 15.0.7, gcc 14.1.0 (MinGW), and MSVC VS 19.39.33521 To view detailed results, visit: https://lab.dpdk.org/results/dashboard/patchsets/32260/ UNH-IOL DPDK Community Lab To manage your email subscriptions, visit: https://lab.dpdk.org/results/dashboard/preferences/subscriptions/