From mboxrd@z Thu Jan 1 00:00:00 1970 Return-Path: Received: from mails.dpdk.org (mails.dpdk.org [217.70.189.124]) by inbox.dpdk.org (Postfix) with ESMTP id 00474461BF for ; Fri, 7 Feb 2025 20:45:32 +0100 (CET) Received: from mails.dpdk.org (localhost [127.0.0.1]) by mails.dpdk.org (Postfix) with ESMTP id F1A434029A; Fri, 7 Feb 2025 20:45:32 +0100 (CET) Received: from mail-pl1-f226.google.com (mail-pl1-f226.google.com [209.85.214.226]) by mails.dpdk.org (Postfix) with ESMTP id 3EA5D4026C for ; Fri, 7 Feb 2025 20:45:29 +0100 (CET) Received: by mail-pl1-f226.google.com with SMTP id d9443c01a7336-21f40deb941so44058045ad.2 for ; Fri, 07 Feb 2025 11:45:29 -0800 (PST) DKIM-Signature: v=1; a=rsa-sha256; c=relaxed/relaxed; d=iol.unh.edu; s=unh-iol; t=1738957528; x=1739562328; darn=dpdk.org; h=references:in-reply-to:cc:to:from:subject:message-id:date:from:to :cc:subject:date:message-id:reply-to; bh=7Ru5F6dipROK8oXh6YsZnAjHerfZoXyAnp9kpmGYl/8=; b=KlBoxCP0Rq6LHpAB/jcJGjX8FXge0/+L1oyVjDx+u4Adq02OuPrixdeVU4nYYDjZkF uJb0pMPH+vkpK+1PA15L9kL2XCRENAJTgtlipdeQ3gEW9OSOAK3orFrfasWHLD6PpISw mGE44vxNL2fdY5Tj/34FLKWXkqz2Y0NkHaW3Q= X-Google-DKIM-Signature: v=1; a=rsa-sha256; c=relaxed/relaxed; d=1e100.net; s=20230601; t=1738957528; x=1739562328; h=references:in-reply-to:cc:to:from:subject:message-id:date :x-gm-message-state:from:to:cc:subject:date:message-id:reply-to; bh=7Ru5F6dipROK8oXh6YsZnAjHerfZoXyAnp9kpmGYl/8=; b=KaONkMZCljTGn/PMnHoWlx8lZfzC+WwiKIX02z0SAmG9QUIt1QWLtvW1fX/9+9wcam tzlWh3y9ktrbjpg2Lbp4cr2l6FbpW/iUsODIKD+Es9JjmID9IM16sDW5U2dUawI2ni0g E3JKK2+poXOHnGKbau9sSnOtRSF3hz0/H2CSvODmZxWJSvfjcYIIn+caEbKTPLaYYk8E 7a91C1uwYPQIFWB0sio9uxNSU1ZfCfRuTHnYYct5eUk5TP+0twWyro5uKnESj+RUbtVS YiC7yEq08Oy+2XQxc+gfESQfvI50blfpsEQhBHFy9O4lZl8/Gg00kAxGKfzGtwKXb2b1 xpeg== X-Gm-Message-State: AOJu0YzrVrACxnrlprioQSMu/PnCI93HLE8xC/JK3y9Zru9RKyu91OTr fVwcI1tlikI3zJJOrJxRpDh7HEi/AtdfxDqLGI3S0cPOLS01didp89BDX1M73Cqy55l0PGtDbDz CZFWkjRmwgBIrac02qk2C1/ECx78pHE065Z0iaezC X-Gm-Gg: ASbGncuxfZMDiaXCU7obEIOcYndkewzjIB9FMNehDPuQHfn4uAaIEfHM7nuHEtHO3nl QEQHn1EY9+oL5Q6t8UhJSpnjLPWOlWdmwPTIptfQKqX0u7ZILgOMYSHoCMhgs4VBMu04PJqSgD9 nApzRjUBcjTxLP5GcTypFDmLjmdYHrvm8F9mUfhvbYTms8c38sSMqHZKkDbRw4UccJkq7MAWuK9 WQoJyi7Zy7Cp/DugRaXJSUhh520s9EbVh+g5r6jjWvnH9y0dpeUE4epQILXGM4wcM+kl2vDxl+n BiBwJ6sfJk5pDlkm4Oo11K2JGY0o8g== X-Google-Smtp-Source: AGHT+IGG9bzQ/TctxGqk/vGChaXtinNIZX8xN7PeeX6GydRrhpF5BVIVv+BYaPWpm/7g8lOGJJFAOl7yC4+j X-Received: by 2002:a17:90b:2ccf:b0:2ee:9d49:3ae6 with SMTP id 98e67ed59e1d1-2fa24064034mr6924355a91.10.1738957528419; Fri, 07 Feb 2025 11:45:28 -0800 (PST) Received: from postal.iol.unh.edu (postal.iol.unh.edu. [132.177.123.84]) by smtp-relay.gmail.com with ESMTPS id 98e67ed59e1d1-2fa26e079b3sm150700a91.3.2025.02.07.11.45.28 (version=TLS1_2 cipher=ECDHE-ECDSA-AES128-GCM-SHA256 bits=128/128); Fri, 07 Feb 2025 11:45:28 -0800 (PST) X-Relaying-Domain: iol.unh.edu Date: Fri, 07 Feb 2025 11:45:28 -0800 (PST) Message-ID: <67a662d8.170a0220.17f6f1.7044SMTPIN_ADDED_MISSING@mx.google.com> Received: from [172.21.0.17] (unknown [172.18.0.240]) by postal.iol.unh.edu (Postfix) with ESMTP id 8FDB66052472; Fri, 7 Feb 2025 14:45:27 -0500 (EST) Subject: |SUCCESS| pw149641 [PATCH] [v3] dts: reform hello world test suite From: dpdklab@iol.unh.edu To: Test Report Cc: dpdk-test-reports@iol.unh.edu In-Reply-To: <20250106175847.27547-1-dmarx@iol.unh.edu> References: <20250106175847.27547-1-dmarx@iol.unh.edu> Content-Type: text/plain X-BeenThere: test-report@dpdk.org X-Mailman-Version: 2.1.29 Precedence: list List-Id: automatic DPDK test reports List-Unsubscribe: , List-Archive: List-Post: List-Help: List-Subscribe: , Errors-To: test-report-bounces@dpdk.org Test-Label: iol-compile-amd64-testing Test-Status: SUCCESS http://dpdk.org/patch/149641 _Testing PASS_ Submitter: Dean Marx Date: Monday, January 06 2025 17:58:47 DPDK git baseline: Repo:dpdk Branch: master CommitID:fd51012de5369679e807be1d6a81d63ef15015ce 149641 --> testing pass Test environment and result as below: +---------------------+--------------------+------------------+-------------------+-------------------+-------------------------+ | Environment | dpdk_meson_compile | dpdk_compile_ovs | dpdk_compile_spdk | dpdk_msvc_compile | dpdk_llvm_clang_compile | +=====================+====================+==================+===================+===================+=========================+ | Debian Bullseye | PASS | PASS | PASS | SKIPPED | SKIPPED | +---------------------+--------------------+------------------+-------------------+-------------------+-------------------------+ | Debian 12 | PASS | PASS | PASS | SKIPPED | SKIPPED | +---------------------+--------------------+------------------+-------------------+-------------------+-------------------------+ | Fedora 40 (Clang) | PASS | PASS | PASS | SKIPPED | SKIPPED | +---------------------+--------------------+------------------+-------------------+-------------------+-------------------------+ | Fedora 40 | PASS | PASS | PASS | SKIPPED | SKIPPED | +---------------------+--------------------+------------------+-------------------+-------------------+-------------------------+ | openSUSE Leap 15 | PASS | SKIPPED | SKIPPED | SKIPPED | SKIPPED | +---------------------+--------------------+------------------+-------------------+-------------------+-------------------------+ | Fedora 41 | PASS | PASS | PASS | SKIPPED | SKIPPED | +---------------------+--------------------+------------------+-------------------+-------------------+-------------------------+ | RHEL8 | PASS | PASS | SKIPPED | SKIPPED | SKIPPED | +---------------------+--------------------+------------------+-------------------+-------------------+-------------------------+ | RHEL9 | PASS | PASS | SKIPPED | SKIPPED | SKIPPED | +---------------------+--------------------+------------------+-------------------+-------------------+-------------------------+ | Ubuntu 20.04 | PASS | SKIPPED | SKIPPED | SKIPPED | SKIPPED | +---------------------+--------------------+------------------+-------------------+-------------------+-------------------------+ | Ubuntu 22.04 | PASS | PASS | PASS | SKIPPED | SKIPPED | +---------------------+--------------------+------------------+-------------------+-------------------+-------------------------+ | Ubuntu 24.04 | PASS | PASS | PASS | SKIPPED | SKIPPED | +---------------------+--------------------+------------------+-------------------+-------------------+-------------------------+ | Alpine | PASS | PASS | SKIPPED | SKIPPED | SKIPPED | +---------------------+--------------------+------------------+-------------------+-------------------+-------------------------+ | FreeBSD 13.4 | PASS | SKIPPED | SKIPPED | SKIPPED | SKIPPED | +---------------------+--------------------+------------------+-------------------+-------------------+-------------------------+ | FreeBSD 14.2 | PASS | SKIPPED | SKIPPED | SKIPPED | SKIPPED | +---------------------+--------------------+------------------+-------------------+-------------------+-------------------------+ | Windows Server 2022 | SKIPPED | SKIPPED | SKIPPED | PASS | PASS | +---------------------+--------------------+------------------+-------------------+-------------------+-------------------------+ Debian Bullseye Kernel: Depends on container host Compiler: gcc (Debian 10.2.1-6) 10.2.1 20210110 Debian 12 Kernel: Depends on container host Compiler: gcc (Debian 12.2.0-14) 12.2.0 Fedora 40 (Clang) Kernel: Depends on container host Compiler: clang 18.1.8 (Fedora 18.1.8-1.fc40) Fedora 40 Kernel: Depends on container host Compiler: gcc 14.2.1 20240912 (Red Hat 14.2.1-3) openSUSE Leap 15 Kernel: Depends on container host Compiler: gcc (SUSE Linux) 7.5.0 Fedora 41 Kernel: Depends on container host Compiler: gcc 14.2.1 20240912 (Red Hat 14.2.1-3) RHEL8 Kernel: Depends on container host Compiler: gcc 8.5.0 20210514 (Red Hat 8.5.0-22) RHEL9 Kernel: Depends on container host Compiler: gcc 11.5.0 20240719 (Red Hat 11.5.0-2) Ubuntu 20.04 Kernel: Depends on container host Compiler: gcc (Ubuntu 9.4.0-1ubuntu1~20.04.2) 9.4.0 Ubuntu 22.04 Kernel: Depends on container host Compiler: gcc (Ubuntu 11.4.0-1ubuntu1~22.04) 11.4.0 Ubuntu 24.04 Kernel: Depends on container host Compiler: gcc (Ubuntu 13.3.0-6ubuntu2~24.04) 13.3.0 Alpine Kernel: Depends on container host Compiler: gcc (Alpine 14.2.0) 14.2.0 FreeBSD 13.4 Kernel: 13.4-RELEASE-p1 Compiler: clang 18.1.6 FreeBSD 14.2 Kernel: 14.2-RELEASE Compiler: clang 18.1.6 Windows Server 2022 Kernel: 10.0.20348.2031 Compiler: clang 15.0.7, gcc 14.1.0 (MinGW), and MSVC VS 19.39.33521 To view detailed results, visit: https://lab.dpdk.org/results/dashboard/patchsets/32259/ UNH-IOL DPDK Community Lab To manage your email subscriptions, visit: https://lab.dpdk.org/results/dashboard/preferences/subscriptions/