From mboxrd@z Thu Jan 1 00:00:00 1970 Return-Path: Received: from mails.dpdk.org (mails.dpdk.org [217.70.189.124]) by inbox.dpdk.org (Postfix) with ESMTP id AB3D9461BF for ; Fri, 7 Feb 2025 20:47:36 +0100 (CET) Received: from mails.dpdk.org (localhost [127.0.0.1]) by mails.dpdk.org (Postfix) with ESMTP id A80D34029A; Fri, 7 Feb 2025 20:47:36 +0100 (CET) Received: from mail-pj1-f98.google.com (mail-pj1-f98.google.com [209.85.216.98]) by mails.dpdk.org (Postfix) with ESMTP id A0BBD4026C for ; Fri, 7 Feb 2025 20:47:34 +0100 (CET) Received: by mail-pj1-f98.google.com with SMTP id 98e67ed59e1d1-2fa1c093d6eso2451257a91.0 for ; Fri, 07 Feb 2025 11:47:34 -0800 (PST) DKIM-Signature: v=1; a=rsa-sha256; c=relaxed/relaxed; d=iol.unh.edu; s=unh-iol; t=1738957654; x=1739562454; darn=dpdk.org; h=references:in-reply-to:cc:to:from:subject:message-id:date:from:to :cc:subject:date:message-id:reply-to; bh=73StLMrCZvnuP/HtVVdGUUt6G9Ss/teMQWooJh0+qY4=; b=YTGYbu1ZNvc7KpjK1/UW8nKHyUG3sQQm8LERmb5I2TQxJ1kpjGhcLt4CHxxOpd39gv RUCcPAHfq9JJIutnShO9FMOyAEUGEN25BZz7B6lOxAe0Q/EsP2kVwtV4ERRUfae/xa4F l3S4vZD4v2rRIbKfig/jppwH9ZHsHgXjdgNWA= X-Google-DKIM-Signature: v=1; a=rsa-sha256; c=relaxed/relaxed; d=1e100.net; s=20230601; t=1738957654; x=1739562454; h=references:in-reply-to:cc:to:from:subject:message-id:date :x-gm-message-state:from:to:cc:subject:date:message-id:reply-to; bh=73StLMrCZvnuP/HtVVdGUUt6G9Ss/teMQWooJh0+qY4=; b=AAKi+0vHr3VclzS7tEezZDXnoOVksido1/ITgUHrNf8xu5xvzfcJeWVsVyA45JZi31 hPxc+kR9XMqMA4RkTIpNRJHYoV4REAWojfzQIj4kxsqXHi2apz7m6yKZC+0/A1KnY/gO M97mC0OV+PXjr3qZnKaYqMBSk9/m6pOdTX5rs5fO8odoXOCYzm11xpsS//MrVeqP5Xy2 dW1viC2zmDE43mmsnC5RKfFAGgvJkis1a1lGn6+lsbNnT9x0/kg3gb6ZFYSaJuwcX0Ah DZ0TF5Cs2emmqH1lB3XtElsWXl8CtDxjmFyJbymx36Bg9qbArMey4URvCvg628LqkvqX sBJg== X-Gm-Message-State: AOJu0YxUQexo4F57D94RSpkJwq89F8ZgguFT4KExZN80k2B/aYVhGHOA YbRZ8PxFa034RKU+oiTZN/zAETovZ24u4WtvRwjhnmfHwkicgIQSkRpG+9lMCetVCDgBhm6LTT0 geon3ZdQDqQATFFhyv+xqBNE5ceklLjqcPTRm5qD1 X-Gm-Gg: ASbGncsWYTQS4Ezm7oAu6ztzURc/kb4VF2E0abFHTDMdoK34xP0zI6evi5nv7Y9VYld hj4zbze9ieFedJ4t1VYoOEiWoKEuNE4906tE61gt9NW41kQPUEojPri9Wsu0NFBEYVWs7xwlnNI 80kinaIC0ElB/PCjG2iBg0vDrmDjdpDwMNW/FQy8M7HP1Ql5YuVnXV67ds08Wny8VqQ2xdQR2zx ugiHbjprt2sE0fehf/u3nsX6smZF4rLQ5rg+/AR1Bd6JbnqlKmdZoHef0JAfK0MyaLimVS3vca4 lUMr8+/hJZyLZMZpXsn1sysfNALS6w== X-Google-Smtp-Source: AGHT+IGqTtkBfUoLGoiDW+4zb+8N+GFJ+jClJQIsFXxcyhdk7ac8PZr2YSM5lriTrAhGjbTy25X2/uOKLqFC X-Received: by 2002:a17:90b:1910:b0:2ee:aed2:c15c with SMTP id 98e67ed59e1d1-2fa243e39bemr6264914a91.28.1738957653770; Fri, 07 Feb 2025 11:47:33 -0800 (PST) Received: from postal.iol.unh.edu (postal.iol.unh.edu. [132.177.123.84]) by smtp-relay.gmail.com with ESMTPS id 98e67ed59e1d1-2fa09a69b7asm304700a91.8.2025.02.07.11.47.33 (version=TLS1_2 cipher=ECDHE-ECDSA-AES128-GCM-SHA256 bits=128/128); Fri, 07 Feb 2025 11:47:33 -0800 (PST) X-Relaying-Domain: iol.unh.edu Date: Fri, 07 Feb 2025 11:47:33 -0800 (PST) Message-ID: <67a66355.170a0220.1b9c5.055bSMTPIN_ADDED_MISSING@mx.google.com> Received: from [172.21.0.5] (unknown [172.18.0.240]) by postal.iol.unh.edu (Postfix) with ESMTP id F30716052471; Fri, 7 Feb 2025 14:47:32 -0500 (EST) Subject: |SUCCESS| pw149636 [PATCH] [v2] ring: add the second version of the From: dpdklab@iol.unh.edu To: Test Report Cc: dpdk-test-reports@iol.unh.edu In-Reply-To: <20250105151345.3314-1-chcchc88@163.com> References: <20250105151345.3314-1-chcchc88@163.com> Content-Type: text/plain X-BeenThere: test-report@dpdk.org X-Mailman-Version: 2.1.29 Precedence: list List-Id: automatic DPDK test reports List-Unsubscribe: , List-Archive: List-Post: List-Help: List-Subscribe: , Errors-To: test-report-bounces@dpdk.org Test-Label: iol-compile-amd64-testing Test-Status: SUCCESS http://dpdk.org/patch/149636 _Testing PASS_ Submitter: Huichao Cai Date: Sunday, January 05 2025 15:13:45 DPDK git baseline: Repo:dpdk Branch: master CommitID:fd51012de5369679e807be1d6a81d63ef15015ce 149636 --> testing pass Test environment and result as below: +---------------------+--------------------+------------------+-------------------+-------------------+-------------------------+----------------------+ | Environment | dpdk_meson_compile | dpdk_compile_ovs | dpdk_compile_spdk | dpdk_msvc_compile | dpdk_llvm_clang_compile | dpdk_mingw64_compile | +=====================+====================+==================+===================+===================+=========================+======================+ | Debian Bullseye | PASS | PASS | PASS | SKIPPED | SKIPPED | SKIPPED | +---------------------+--------------------+------------------+-------------------+-------------------+-------------------------+----------------------+ | Debian 12 | PASS | PASS | PASS | SKIPPED | SKIPPED | SKIPPED | +---------------------+--------------------+------------------+-------------------+-------------------+-------------------------+----------------------+ | CentOS Stream 9 | PASS | PASS | PASS | SKIPPED | SKIPPED | SKIPPED | +---------------------+--------------------+------------------+-------------------+-------------------+-------------------------+----------------------+ | Fedora 40 (Clang) | PASS | PASS | PASS | SKIPPED | SKIPPED | SKIPPED | +---------------------+--------------------+------------------+-------------------+-------------------+-------------------------+----------------------+ | Fedora 40 | PASS | PASS | PASS | SKIPPED | SKIPPED | SKIPPED | +---------------------+--------------------+------------------+-------------------+-------------------+-------------------------+----------------------+ | Fedora 41 (Clang) | PASS | PASS | PASS | SKIPPED | SKIPPED | SKIPPED | +---------------------+--------------------+------------------+-------------------+-------------------+-------------------------+----------------------+ | RHEL9 | PASS | PASS | SKIPPED | SKIPPED | SKIPPED | SKIPPED | +---------------------+--------------------+------------------+-------------------+-------------------+-------------------------+----------------------+ | RHEL8 | PASS | PASS | SKIPPED | SKIPPED | SKIPPED | SKIPPED | +---------------------+--------------------+------------------+-------------------+-------------------+-------------------------+----------------------+ | Fedora 41 | PASS | PASS | PASS | SKIPPED | SKIPPED | SKIPPED | +---------------------+--------------------+------------------+-------------------+-------------------+-------------------------+----------------------+ | openSUSE Leap 15 | PASS | SKIPPED | SKIPPED | SKIPPED | SKIPPED | SKIPPED | +---------------------+--------------------+------------------+-------------------+-------------------+-------------------------+----------------------+ | Ubuntu 20.04 | PASS | SKIPPED | SKIPPED | SKIPPED | SKIPPED | SKIPPED | +---------------------+--------------------+------------------+-------------------+-------------------+-------------------------+----------------------+ | Ubuntu 24.04 | PASS | PASS | PASS | SKIPPED | SKIPPED | SKIPPED | +---------------------+--------------------+------------------+-------------------+-------------------+-------------------------+----------------------+ | Ubuntu 22.04 | PASS | PASS | PASS | SKIPPED | SKIPPED | SKIPPED | +---------------------+--------------------+------------------+-------------------+-------------------+-------------------------+----------------------+ | Alpine | PASS | PASS | SKIPPED | SKIPPED | SKIPPED | SKIPPED | +---------------------+--------------------+------------------+-------------------+-------------------+-------------------------+----------------------+ | FreeBSD 13.4 | PASS | SKIPPED | SKIPPED | SKIPPED | SKIPPED | SKIPPED | +---------------------+--------------------+------------------+-------------------+-------------------+-------------------------+----------------------+ | FreeBSD 14.2 | PASS | SKIPPED | SKIPPED | SKIPPED | SKIPPED | SKIPPED | +---------------------+--------------------+------------------+-------------------+-------------------+-------------------------+----------------------+ | Windows Server 2022 | SKIPPED | SKIPPED | SKIPPED | PASS | PASS | PASS | +---------------------+--------------------+------------------+-------------------+-------------------+-------------------------+----------------------+ Debian Bullseye Kernel: Depends on container host Compiler: gcc (Debian 10.2.1-6) 10.2.1 20210110 Debian 12 Kernel: Depends on container host Compiler: gcc (Debian 12.2.0-14) 12.2.0 CentOS Stream 9 Kernel: Depends on container host Compiler: gcc 11.5.0 20240719 (Red Hat 11.5.0-2) Fedora 40 (Clang) Kernel: Depends on container host Compiler: clang 18.1.8 (Fedora 18.1.8-1.fc40) Fedora 40 Kernel: Depends on container host Compiler: gcc 14.2.1 20240912 (Red Hat 14.2.1-3) Fedora 41 (Clang) Kernel: Depends on container host Compiler: clang 19.1.5 (Fedora 19.1.5-1.fc41) RHEL9 Kernel: Depends on container host Compiler: gcc 11.5.0 20240719 (Red Hat 11.5.0-2) RHEL8 Kernel: Depends on container host Compiler: gcc 8.5.0 20210514 (Red Hat 8.5.0-22) Fedora 41 Kernel: Depends on container host Compiler: gcc 14.2.1 20240912 (Red Hat 14.2.1-3) openSUSE Leap 15 Kernel: Depends on container host Compiler: gcc (SUSE Linux) 7.5.0 Ubuntu 20.04 Kernel: Depends on container host Compiler: gcc (Ubuntu 9.4.0-1ubuntu1~20.04.2) 9.4.0 Ubuntu 24.04 Kernel: Depends on container host Compiler: gcc (Ubuntu 13.3.0-6ubuntu2~24.04) 13.3.0 Ubuntu 22.04 Kernel: Depends on container host Compiler: gcc (Ubuntu 11.4.0-1ubuntu1~22.04) 11.4.0 Alpine Kernel: Depends on container host Compiler: gcc (Alpine 14.2.0) 14.2.0 FreeBSD 13.4 Kernel: 13.4-RELEASE-p1 Compiler: clang 18.1.6 FreeBSD 14.2 Kernel: 14.2-RELEASE Compiler: clang 18.1.6 Windows Server 2022 Kernel: 10.0.20348.2031 Compiler: clang 15.0.7, gcc 14.1.0 (MinGW), and MSVC VS 19.39.33521 To view detailed results, visit: https://lab.dpdk.org/results/dashboard/patchsets/32255/ UNH-IOL DPDK Community Lab To manage your email subscriptions, visit: https://lab.dpdk.org/results/dashboard/preferences/subscriptions/