From mboxrd@z Thu Jan 1 00:00:00 1970 Return-Path: Received: from mails.dpdk.org (mails.dpdk.org [217.70.189.124]) by inbox.dpdk.org (Postfix) with ESMTP id B6EEB461BF for ; Fri, 7 Feb 2025 20:47:39 +0100 (CET) Received: from mails.dpdk.org (localhost [127.0.0.1]) by mails.dpdk.org (Postfix) with ESMTP id B4B464029A; Fri, 7 Feb 2025 20:47:39 +0100 (CET) Received: from mail-pl1-f228.google.com (mail-pl1-f228.google.com [209.85.214.228]) by mails.dpdk.org (Postfix) with ESMTP id BD4B64026C for ; Fri, 7 Feb 2025 20:47:37 +0100 (CET) Received: by mail-pl1-f228.google.com with SMTP id d9443c01a7336-2166f1e589cso64143295ad.3 for ; Fri, 07 Feb 2025 11:47:37 -0800 (PST) DKIM-Signature: v=1; a=rsa-sha256; c=relaxed/relaxed; d=iol.unh.edu; s=unh-iol; t=1738957657; x=1739562457; darn=dpdk.org; h=references:in-reply-to:cc:to:from:subject:message-id:date:from:to :cc:subject:date:message-id:reply-to; bh=7eCRDgliI8ZYCg5BMQX1BCuzExOmjfXPwMgdwJO3OFA=; b=UAsZak4Am9opDjKc+IDKOTwSk5NKFx8LiWtH69C2DVYKUElrQtYqBmJW1pGtIZy14w ptYZmXSRBHCJywS+V+GkzXvjy+0xoPaS4ATiPGVatScgLK7w74VybXe/4tA/fsoiRtsQ g+oJwYLnh6aN1z3zkBQ2dV/Ud9t8EbgQUpyTE= X-Google-DKIM-Signature: v=1; a=rsa-sha256; c=relaxed/relaxed; d=1e100.net; s=20230601; t=1738957657; x=1739562457; h=references:in-reply-to:cc:to:from:subject:message-id:date :x-gm-message-state:from:to:cc:subject:date:message-id:reply-to; bh=7eCRDgliI8ZYCg5BMQX1BCuzExOmjfXPwMgdwJO3OFA=; b=CEJtjM6eRTIvmxPAJET9naGoZ92CkfDpw/wDotEuPro6aZOs8liVE4WR4kc3cQX5+K zNqd1rz8rEYJZ7Cs7BYtXZXseFbvBq5LntePaYolX8JK0dNWRTJGvoeNl3W/M3qEttZn juIxF4aBSVHX/nd3MsKQkQ8HvyAbwZONWkAScGHnZNKuLFSqEbN0s8jWdoxZHCMcCY11 tLpM5I3B/tk93TifqZASsUkN9eL8h2rB+Cj/YJ1t8wAem6godDgTf5bJb98Ezwt6p8GL 3D65r7RXwZRr4qaUMJpdqF9b/VSLs/raadIrBn8UW3a/5ef8qNhC2dm/y2P2YYD34uTQ dVcw== X-Gm-Message-State: AOJu0YzX7oXVZCC1hQYwdmK1T0so1jCwSoXSd4UNUDK6CnRVnt7UeceU MCMAttvLRG/x1BNcNV0aZFtNUsspQcEntc3TtO/0l7PCaJZxAQbrsUoqKIJ18bgZ+X6zYmDIal9 0U1H8OQe/pK3gzRf/wDp4YAXZFH0fN8+tG5PjAyiR X-Gm-Gg: ASbGncsH8UyoQZwYo9lJZRh31IFv/L53QOhrKtzrzgoctHwRCfND+qc1LBwDZq340a+ NgjfZrehgLltESb8VB+wpXCD7bVtzmZ025DdA3adjSL8S9ylVf9e3W0Ru97U1gxu7bYlyb86K3o +7kHoB8mjDTayO8onn1JySfXvLBhpmV4desqQ+OsZ2s6ypq/chI69wlEHzETnWwCCsJ3hdqjjkq Hk071nTug1872eaSAI1+QV1C9OZgA3RUXEyOekr9JIbDnxVRwOGm4if2+lHE9AgEBBPs8Qq6avc dTwR91L104IopLbBhtOmDaxv17rmUg== X-Google-Smtp-Source: AGHT+IEB7p/7ijYxLDiZLOr3IC/qw3UIf+/WNJsHkAiuOUsIWNtseIBw/sWSwcfCA4Lu4S8tXURljEvCQjyc X-Received: by 2002:a17:903:987:b0:215:a964:e680 with SMTP id d9443c01a7336-21f4e6ce779mr74994205ad.25.1738957657026; Fri, 07 Feb 2025 11:47:37 -0800 (PST) Received: from postal.iol.unh.edu (postal.iol.unh.edu. [132.177.123.84]) by smtp-relay.gmail.com with ESMTPS id d9443c01a7336-21f36839e9dsm2166365ad.75.2025.02.07.11.47.36 (version=TLS1_2 cipher=ECDHE-ECDSA-AES128-GCM-SHA256 bits=128/128); Fri, 07 Feb 2025 11:47:37 -0800 (PST) X-Relaying-Domain: iol.unh.edu Date: Fri, 07 Feb 2025 11:47:37 -0800 (PST) Message-ID: <67a66359.170a0220.19712a.af18SMTPIN_ADDED_MISSING@mx.google.com> Received: from [172.21.0.13] (unknown [172.18.0.240]) by postal.iol.unh.edu (Postfix) with ESMTP id 2F6AD6052472; Fri, 7 Feb 2025 14:47:36 -0500 (EST) Subject: |SUCCESS| pw149612 [PATCH] app/test-fib: enable test-fib on Windows From: dpdklab@iol.unh.edu To: Test Report Cc: dpdk-test-reports@iol.unh.edu In-Reply-To: <1736028594-15393-1-git-send-email-andremue@linux.microsoft.com> References: <1736028594-15393-1-git-send-email-andremue@linux.microsoft.com> Content-Type: text/plain X-BeenThere: test-report@dpdk.org X-Mailman-Version: 2.1.29 Precedence: list List-Id: automatic DPDK test reports List-Unsubscribe: , List-Archive: List-Post: List-Help: List-Subscribe: , Errors-To: test-report-bounces@dpdk.org Test-Label: iol-compile-amd64-testing Test-Status: SUCCESS http://dpdk.org/patch/149612 _Testing PASS_ Submitter: Andre Muezerie Date: Saturday, January 04 2025 22:09:54 DPDK git baseline: Repo:dpdk Branch: master CommitID:fd51012de5369679e807be1d6a81d63ef15015ce 149612 --> testing pass Test environment and result as below: +---------------------+--------------------+------------------+-------------------+-------------------+-------------------------+----------------------+ | Environment | dpdk_meson_compile | dpdk_compile_ovs | dpdk_compile_spdk | dpdk_msvc_compile | dpdk_llvm_clang_compile | dpdk_mingw64_compile | +=====================+====================+==================+===================+===================+=========================+======================+ | CentOS Stream 9 | PASS | PASS | PASS | SKIPPED | SKIPPED | SKIPPED | +---------------------+--------------------+------------------+-------------------+-------------------+-------------------------+----------------------+ | Debian Bullseye | PASS | PASS | PASS | SKIPPED | SKIPPED | SKIPPED | +---------------------+--------------------+------------------+-------------------+-------------------+-------------------------+----------------------+ | Fedora 40 (Clang) | PASS | PASS | PASS | SKIPPED | SKIPPED | SKIPPED | +---------------------+--------------------+------------------+-------------------+-------------------+-------------------------+----------------------+ | Fedora 41 | PASS | PASS | PASS | SKIPPED | SKIPPED | SKIPPED | +---------------------+--------------------+------------------+-------------------+-------------------+-------------------------+----------------------+ | RHEL8 | PASS | PASS | SKIPPED | SKIPPED | SKIPPED | SKIPPED | +---------------------+--------------------+------------------+-------------------+-------------------+-------------------------+----------------------+ | Ubuntu 20.04 | PASS | SKIPPED | SKIPPED | SKIPPED | SKIPPED | SKIPPED | +---------------------+--------------------+------------------+-------------------+-------------------+-------------------------+----------------------+ | Fedora 41 (Clang) | PASS | PASS | PASS | SKIPPED | SKIPPED | SKIPPED | +---------------------+--------------------+------------------+-------------------+-------------------+-------------------------+----------------------+ | Fedora 40 | PASS | PASS | PASS | SKIPPED | SKIPPED | SKIPPED | +---------------------+--------------------+------------------+-------------------+-------------------+-------------------------+----------------------+ | openSUSE Leap 15 | PASS | SKIPPED | SKIPPED | SKIPPED | SKIPPED | SKIPPED | +---------------------+--------------------+------------------+-------------------+-------------------+-------------------------+----------------------+ | RHEL9 | PASS | PASS | SKIPPED | SKIPPED | SKIPPED | SKIPPED | +---------------------+--------------------+------------------+-------------------+-------------------+-------------------------+----------------------+ | Ubuntu 24.04 | PASS | PASS | PASS | SKIPPED | SKIPPED | SKIPPED | +---------------------+--------------------+------------------+-------------------+-------------------+-------------------------+----------------------+ | Ubuntu 22.04 | PASS | PASS | PASS | SKIPPED | SKIPPED | SKIPPED | +---------------------+--------------------+------------------+-------------------+-------------------+-------------------------+----------------------+ | FreeBSD 13.4 | PASS | SKIPPED | SKIPPED | SKIPPED | SKIPPED | SKIPPED | +---------------------+--------------------+------------------+-------------------+-------------------+-------------------------+----------------------+ | FreeBSD 14.2 | PASS | SKIPPED | SKIPPED | SKIPPED | SKIPPED | SKIPPED | +---------------------+--------------------+------------------+-------------------+-------------------+-------------------------+----------------------+ | Debian 12 | PASS | PASS | PASS | SKIPPED | SKIPPED | SKIPPED | +---------------------+--------------------+------------------+-------------------+-------------------+-------------------------+----------------------+ | Alpine | PASS | PASS | SKIPPED | SKIPPED | SKIPPED | SKIPPED | +---------------------+--------------------+------------------+-------------------+-------------------+-------------------------+----------------------+ | Windows Server 2022 | SKIPPED | SKIPPED | SKIPPED | PASS | PASS | PASS | +---------------------+--------------------+------------------+-------------------+-------------------+-------------------------+----------------------+ CentOS Stream 9 Kernel: Depends on container host Compiler: gcc 11.5.0 20240719 (Red Hat 11.5.0-2) Debian Bullseye Kernel: Depends on container host Compiler: gcc (Debian 10.2.1-6) 10.2.1 20210110 Fedora 40 (Clang) Kernel: Depends on container host Compiler: clang 18.1.8 (Fedora 18.1.8-1.fc40) Fedora 41 Kernel: Depends on container host Compiler: gcc 14.2.1 20240912 (Red Hat 14.2.1-3) RHEL8 Kernel: Depends on container host Compiler: gcc 8.5.0 20210514 (Red Hat 8.5.0-22) Ubuntu 20.04 Kernel: Depends on container host Compiler: gcc (Ubuntu 9.4.0-1ubuntu1~20.04.2) 9.4.0 Fedora 41 (Clang) Kernel: Depends on container host Compiler: clang 19.1.5 (Fedora 19.1.5-1.fc41) Fedora 40 Kernel: Depends on container host Compiler: gcc 14.2.1 20240912 (Red Hat 14.2.1-3) openSUSE Leap 15 Kernel: Depends on container host Compiler: gcc (SUSE Linux) 7.5.0 RHEL9 Kernel: Depends on container host Compiler: gcc 11.5.0 20240719 (Red Hat 11.5.0-2) Ubuntu 24.04 Kernel: Depends on container host Compiler: gcc (Ubuntu 13.3.0-6ubuntu2~24.04) 13.3.0 Ubuntu 22.04 Kernel: Depends on container host Compiler: gcc (Ubuntu 11.4.0-1ubuntu1~22.04) 11.4.0 FreeBSD 13.4 Kernel: 13.4-RELEASE-p1 Compiler: clang 18.1.6 FreeBSD 14.2 Kernel: 14.2-RELEASE Compiler: clang 18.1.6 Debian 12 Kernel: Depends on container host Compiler: gcc (Debian 12.2.0-14) 12.2.0 Alpine Kernel: Depends on container host Compiler: gcc (Alpine 14.2.0) 14.2.0 Windows Server 2022 Kernel: 10.0.20348.2031 Compiler: clang 15.0.7, gcc 14.1.0 (MinGW), and MSVC VS 19.39.33521 To view detailed results, visit: https://lab.dpdk.org/results/dashboard/patchsets/32251/ UNH-IOL DPDK Community Lab To manage your email subscriptions, visit: https://lab.dpdk.org/results/dashboard/preferences/subscriptions/