From mboxrd@z Thu Jan 1 00:00:00 1970 Return-Path: Received: from mails.dpdk.org (mails.dpdk.org [217.70.189.124]) by inbox.dpdk.org (Postfix) with ESMTP id ECEAA461BF for ; Fri, 7 Feb 2025 20:48:07 +0100 (CET) Received: from mails.dpdk.org (localhost [127.0.0.1]) by mails.dpdk.org (Postfix) with ESMTP id EA6D14029A; Fri, 7 Feb 2025 20:48:07 +0100 (CET) Received: from mail-io1-f98.google.com (mail-io1-f98.google.com [209.85.166.98]) by mails.dpdk.org (Postfix) with ESMTP id A18004026C for ; Fri, 7 Feb 2025 20:48:06 +0100 (CET) Received: by mail-io1-f98.google.com with SMTP id ca18e2360f4ac-844e06e5d11so70322639f.0 for ; Fri, 07 Feb 2025 11:48:06 -0800 (PST) DKIM-Signature: v=1; a=rsa-sha256; c=relaxed/relaxed; d=iol.unh.edu; s=unh-iol; t=1738957686; x=1739562486; darn=dpdk.org; h=references:in-reply-to:cc:to:from:subject:message-id:date:from:to :cc:subject:date:message-id:reply-to; bh=xL8OA/bLJaZ4deUxAi4fTUc4thCjZtyHORgAlZUgbYU=; b=MEQTnDRsK9FhmXg4LX3vthadB7qniibFyOoFG5CpdYcRxLN++IO2N/Bv+9T7p5FLH7 tqiteTlilzJR8wHWTZWVLBjuZ4ofCAaXsCsuD0k2Bj0SU7PDs7iGX60BjYnIxOw3z/18 xbZZgEVvSv3EfxnxPJlW0wexn1HbzTukfQJPc= X-Google-DKIM-Signature: v=1; a=rsa-sha256; c=relaxed/relaxed; d=1e100.net; s=20230601; t=1738957686; x=1739562486; h=references:in-reply-to:cc:to:from:subject:message-id:date :x-gm-message-state:from:to:cc:subject:date:message-id:reply-to; bh=xL8OA/bLJaZ4deUxAi4fTUc4thCjZtyHORgAlZUgbYU=; b=pEmZicN4ZMhNze3/rCiQwAPfxdutCnI0w9QgXBPQRU/hH6df4yN16i4aTni/jIyZ/8 qT6OvoLFU0Bi1MbBemh0rKpUo/KLx3SiMcEZbpzwrtRY8CBC8nQpNi2Kf1bvMAgDYeii k9Yjj4FEvFWo7GRJMXFj0U7NDt+pAaVmdTphpCt1SxS3fxd+TMOVayZgZr6hfmEo7HEn BOEUb9b+1OIqG9weIHfHJo9seZglUN/bYOF8qy2Z48thIJFYhZb9nbVzvQbcpJ4e/V4x 82jJFrP7tE+xO45rdggR/cbpHzM2yhN3u+W5o6pVbokuheo5iHgL/r3kWbzGsb2KtP+o DeXA== X-Gm-Message-State: AOJu0YyVWfxu94wZHTGkveBJ1lbSUBoO5BzUV+AFgK+zRK8XJ2yt0P4H wBHCVyLlbPzxMs+eWFm9xmoJ7F35rEwB0pXLfJ/tBC8qzGpkWRVGFvODr/dhOCPD2HgT1DcL6C9 RHDVjjG2AmbgfeapGS4YWdNOnMtI1kRbIC4Egmw1v X-Gm-Gg: ASbGnctdGGEq3ddXsQWaFAV3nnQkbLCAERfBSr9rslgFW31lYm6NdvdDZPUp3W9xJDa w7cdy+D2R/yemEWPSrcm0frZw6rXGfeTBF9QAo5Zijiuw/uLvPCp6X8t1d0QJINeItr1+nVNNhF IE6kSsGTDtL9cihmAYQWWEw64KpXLjQ3bNjsiXJAmf/FkUGJ8I6lo+S4zgFCsTNiGTRFXjy31pT Pd8T59Gq0jeSVWWf+NerekyhQe8sa3uO45CRdV1g98g+SFMf+PqlZu5pmBq0mJuxGX7296he1rO PoHrYFILq+YzSd4R5q0yfaLbD10Ggg== X-Google-Smtp-Source: AGHT+IGjIyswaBxjpcdnUmMS/erRXvmAx376mtjkgZBRm+8NnquNmu/TBCtMiHpS6lIaXNPYVFTlkgWkqjeM X-Received: by 2002:a05:6e02:1a64:b0:3cf:fa94:cad with SMTP id e9e14a558f8ab-3d13dd1fe51mr36100515ab.8.1738957685940; Fri, 07 Feb 2025 11:48:05 -0800 (PST) Received: from postal.iol.unh.edu (postal.iol.unh.edu. [132.177.123.84]) by smtp-relay.gmail.com with ESMTPS id e9e14a558f8ab-3d1474bf7casm786515ab.45.2025.02.07.11.48.05 (version=TLS1_2 cipher=ECDHE-ECDSA-AES128-GCM-SHA256 bits=128/128); Fri, 07 Feb 2025 11:48:05 -0800 (PST) X-Relaying-Domain: iol.unh.edu Date: Fri, 07 Feb 2025 11:48:05 -0800 (PST) Message-ID: <67a66375.050a0220.289163.37efSMTPIN_ADDED_MISSING@mx.google.com> Received: from [172.21.0.9] (unknown [172.18.0.240]) by postal.iol.unh.edu (Postfix) with ESMTP id 66BAC6052471; Fri, 7 Feb 2025 14:47:35 -0500 (EST) Subject: |SUCCESS| pw149613-149630 [PATCH] [v13,21/21] hash: remove use of VL From: dpdklab@iol.unh.edu To: Test Report Cc: dpdk-test-reports@iol.unh.edu In-Reply-To: <1736045218-15957-22-git-send-email-andremue@linux.microsoft.com> References: <1736045218-15957-22-git-send-email-andremue@linux.microsoft.com> Content-Type: text/plain X-BeenThere: test-report@dpdk.org X-Mailman-Version: 2.1.29 Precedence: list List-Id: automatic DPDK test reports List-Unsubscribe: , List-Archive: List-Post: List-Help: List-Subscribe: , Errors-To: test-report-bounces@dpdk.org Test-Label: iol-compile-amd64-testing Test-Status: SUCCESS http://dpdk.org/patch/149630 _Testing PASS_ Submitter: Andre Muezerie Date: Sunday, January 05 2025 02:46:58 DPDK git baseline: Repo:dpdk Branch: master CommitID:fd51012de5369679e807be1d6a81d63ef15015ce 149613-149630 --> testing pass Test environment and result as below: +---------------------+--------------------+------------------+-------------------+-------------------------+-------------------+----------------------+ | Environment | dpdk_meson_compile | dpdk_compile_ovs | dpdk_compile_spdk | dpdk_llvm_clang_compile | dpdk_msvc_compile | dpdk_mingw64_compile | +=====================+====================+==================+===================+=========================+===================+======================+ | Debian Bullseye | PASS | PASS | PASS | SKIPPED | SKIPPED | SKIPPED | +---------------------+--------------------+------------------+-------------------+-------------------------+-------------------+----------------------+ | CentOS Stream 9 | PASS | PASS | PASS | SKIPPED | SKIPPED | SKIPPED | +---------------------+--------------------+------------------+-------------------+-------------------------+-------------------+----------------------+ | Debian 12 | PASS | PASS | PASS | SKIPPED | SKIPPED | SKIPPED | +---------------------+--------------------+------------------+-------------------+-------------------------+-------------------+----------------------+ | Fedora 40 | PASS | PASS | PASS | SKIPPED | SKIPPED | SKIPPED | +---------------------+--------------------+------------------+-------------------+-------------------------+-------------------+----------------------+ | openSUSE Leap 15 | PASS | SKIPPED | SKIPPED | SKIPPED | SKIPPED | SKIPPED | +---------------------+--------------------+------------------+-------------------+-------------------------+-------------------+----------------------+ | Fedora 41 | PASS | PASS | PASS | SKIPPED | SKIPPED | SKIPPED | +---------------------+--------------------+------------------+-------------------+-------------------------+-------------------+----------------------+ | Fedora 41 (Clang) | PASS | PASS | PASS | SKIPPED | SKIPPED | SKIPPED | +---------------------+--------------------+------------------+-------------------+-------------------------+-------------------+----------------------+ | RHEL9 | PASS | PASS | SKIPPED | SKIPPED | SKIPPED | SKIPPED | +---------------------+--------------------+------------------+-------------------+-------------------------+-------------------+----------------------+ | Ubuntu 20.04 | PASS | SKIPPED | SKIPPED | SKIPPED | SKIPPED | SKIPPED | +---------------------+--------------------+------------------+-------------------+-------------------------+-------------------+----------------------+ | Ubuntu 22.04 | PASS | PASS | PASS | SKIPPED | SKIPPED | SKIPPED | +---------------------+--------------------+------------------+-------------------+-------------------------+-------------------+----------------------+ | Ubuntu 24.04 | PASS | PASS | PASS | SKIPPED | SKIPPED | SKIPPED | +---------------------+--------------------+------------------+-------------------+-------------------------+-------------------+----------------------+ | Alpine | PASS | PASS | SKIPPED | SKIPPED | SKIPPED | SKIPPED | +---------------------+--------------------+------------------+-------------------+-------------------------+-------------------+----------------------+ | FreeBSD 13.4 | PASS | SKIPPED | SKIPPED | SKIPPED | SKIPPED | SKIPPED | +---------------------+--------------------+------------------+-------------------+-------------------------+-------------------+----------------------+ | FreeBSD 14.2 | PASS | SKIPPED | SKIPPED | SKIPPED | SKIPPED | SKIPPED | +---------------------+--------------------+------------------+-------------------+-------------------------+-------------------+----------------------+ | RHEL8 | PASS | PASS | SKIPPED | SKIPPED | SKIPPED | SKIPPED | +---------------------+--------------------+------------------+-------------------+-------------------------+-------------------+----------------------+ | Fedora 40 (Clang) | PASS | PASS | PASS | SKIPPED | SKIPPED | SKIPPED | +---------------------+--------------------+------------------+-------------------+-------------------------+-------------------+----------------------+ | Windows Server 2022 | SKIPPED | SKIPPED | SKIPPED | PASS | PASS | PASS | +---------------------+--------------------+------------------+-------------------+-------------------------+-------------------+----------------------+ Debian Bullseye Kernel: Depends on container host Compiler: gcc (Debian 10.2.1-6) 10.2.1 20210110 CentOS Stream 9 Kernel: Depends on container host Compiler: gcc 11.5.0 20240719 (Red Hat 11.5.0-2) Debian 12 Kernel: Depends on container host Compiler: gcc (Debian 12.2.0-14) 12.2.0 Fedora 40 Kernel: Depends on container host Compiler: gcc 14.2.1 20240912 (Red Hat 14.2.1-3) openSUSE Leap 15 Kernel: Depends on container host Compiler: gcc (SUSE Linux) 7.5.0 Fedora 41 Kernel: Depends on container host Compiler: gcc 14.2.1 20240912 (Red Hat 14.2.1-3) Fedora 41 (Clang) Kernel: Depends on container host Compiler: clang 19.1.5 (Fedora 19.1.5-1.fc41) RHEL9 Kernel: Depends on container host Compiler: gcc 11.5.0 20240719 (Red Hat 11.5.0-2) Ubuntu 20.04 Kernel: Depends on container host Compiler: gcc (Ubuntu 9.4.0-1ubuntu1~20.04.2) 9.4.0 Ubuntu 22.04 Kernel: Depends on container host Compiler: gcc (Ubuntu 11.4.0-1ubuntu1~22.04) 11.4.0 Ubuntu 24.04 Kernel: Depends on container host Compiler: gcc (Ubuntu 13.3.0-6ubuntu2~24.04) 13.3.0 Alpine Kernel: Depends on container host Compiler: gcc (Alpine 14.2.0) 14.2.0 FreeBSD 13.4 Kernel: 13.4-RELEASE-p1 Compiler: clang 18.1.6 FreeBSD 14.2 Kernel: 14.2-RELEASE Compiler: clang 18.1.6 RHEL8 Kernel: Depends on container host Compiler: gcc 8.5.0 20210514 (Red Hat 8.5.0-22) Fedora 40 (Clang) Kernel: Depends on container host Compiler: clang 18.1.8 (Fedora 18.1.8-1.fc40) Windows Server 2022 Kernel: 10.0.20348.2031 Compiler: clang 15.0.7, gcc 14.1.0 (MinGW), and MSVC VS 19.39.33521 To view detailed results, visit: https://lab.dpdk.org/results/dashboard/patchsets/32252/ UNH-IOL DPDK Community Lab To manage your email subscriptions, visit: https://lab.dpdk.org/results/dashboard/preferences/subscriptions/