From mboxrd@z Thu Jan 1 00:00:00 1970 Return-Path: Received: from mails.dpdk.org (mails.dpdk.org [217.70.189.124]) by inbox.dpdk.org (Postfix) with ESMTP id 3D4E9461BF for ; Fri, 7 Feb 2025 20:49:18 +0100 (CET) Received: from mails.dpdk.org (localhost [127.0.0.1]) by mails.dpdk.org (Postfix) with ESMTP id 3A7E94029A; Fri, 7 Feb 2025 20:49:18 +0100 (CET) Received: from mail-pl1-f228.google.com (mail-pl1-f228.google.com [209.85.214.228]) by mails.dpdk.org (Postfix) with ESMTP id 906754026C for ; Fri, 7 Feb 2025 20:49:14 +0100 (CET) Received: by mail-pl1-f228.google.com with SMTP id d9443c01a7336-21f55fbb72bso18589485ad.2 for ; Fri, 07 Feb 2025 11:49:14 -0800 (PST) DKIM-Signature: v=1; a=rsa-sha256; c=relaxed/relaxed; d=iol.unh.edu; s=unh-iol; t=1738957754; x=1739562554; darn=dpdk.org; h=references:in-reply-to:cc:to:from:subject:message-id:date:from:to :cc:subject:date:message-id:reply-to; bh=DN57NqDFFdCIuaga9nzrUUQmZwuTnECmawAUjEi/MXc=; b=hknNvOdkCY2ZE2+4srpIRw/a08cqFQ61671iXI4AhyDupDvOwLUr9qXsRKsEZol4SK U/paMxYSAW0IgnnwvUm2EOwe64DMl2pXaQ3hFsBC1pnS0a4yd7PhyKjUNNqDY0KhKbqy adCXDt00wx/lYsIrTY6TrkgSotqnO8e2amvoI= X-Google-DKIM-Signature: v=1; a=rsa-sha256; c=relaxed/relaxed; d=1e100.net; s=20230601; t=1738957754; x=1739562554; h=references:in-reply-to:cc:to:from:subject:message-id:date :x-gm-message-state:from:to:cc:subject:date:message-id:reply-to; bh=DN57NqDFFdCIuaga9nzrUUQmZwuTnECmawAUjEi/MXc=; b=wypJcrTdNL2BAW2fzk/KGsisjf+nLQL2Pouw8FOtuEsVxOKbGy8XZXkY33IBtvl27w opQBgoCj3xhkJuMQiRnSGGiKSP5a21ao2Mjr3SZa/34Q2HrCRdyDwmdW8R2niKtqc90K VYLvQfKqJRwLiRxqiJ7TfG4jubzKMzuyyzxaFmrezk0MYZcaNZLF7XsAHvulwoVRdyht 2GD/SLhwTV/ghHAg+ayroYPuzkZULyPkjkrfMfmfCQ7gxe5TmPjUHVuxPFygJzz0vJOu j1UrPq/nO69KxqriQ7ZA6yasEGLwFf+YAXjZFUdL1glKZ9Gt4CphoGYxMRDmfAEetP/0 HQ/Q== X-Gm-Message-State: AOJu0YxTnMMm87y8c5Fgy//P4XKOebzrlixLKpo5dEg+GUBh89ygOYEs NOfafpXTOnnUM0GUXxcJv6jj8qO1BM51tH4N/ITSxALJPoy5KFSjcamqfBqOHEDzQEn0nY3nFq+ 5nS9VWIMKllL8gklhEBL/MtrSMRlIohxf6IT+h1LB X-Gm-Gg: ASbGncsX79Btz/q4nZrZrge9fBjzKPa4bfybhh9SKLprj7MvyvZN9pb5FVBSpOsp9BT sb6YgHMs/og2wM3hDuTTHo6HbaWcvkRvMamRPgI535zV24uDM7M+y6Gxkb3o9n3gPCHlITIPph1 MWT39/IbxWyZ0Iu2gOiMs8Y8rU/dya1k1h7kpv1to4RWyZrhjbGPRzXAtXtAjoiLQQqF7u2ol2o mj6BtkHk2vCyV3f23NY3UmNa4GLfNIDY3nlyVPGykJLBINSWY/844VxBygKO00qWGo/qQfqowpY HCsHHJxAhyqJ7ZS5OlBOIigP6zu4qQ== X-Google-Smtp-Source: AGHT+IGY29qnH/JTmfjmtUC3JdtY9XsIox4fJXfwvqjNka25MBSZs+TCGyf1dSpv52BBPgFST6mhFil8dIWG X-Received: by 2002:a17:902:d4cc:b0:21f:6a36:7bf3 with SMTP id d9443c01a7336-21f6a369009mr1830375ad.12.1738957753690; Fri, 07 Feb 2025 11:49:13 -0800 (PST) Received: from postal.iol.unh.edu (postal.iol.unh.edu. [132.177.123.84]) by smtp-relay.gmail.com with ESMTPS id 98e67ed59e1d1-2fa396bb908sm62483a91.9.2025.02.07.11.49.13 (version=TLS1_2 cipher=ECDHE-ECDSA-AES128-GCM-SHA256 bits=128/128); Fri, 07 Feb 2025 11:49:13 -0800 (PST) X-Relaying-Domain: iol.unh.edu Date: Fri, 07 Feb 2025 11:49:13 -0800 (PST) Message-ID: <67a663b9.170a0220.23e67b.2d1bSMTPIN_ADDED_MISSING@mx.google.com> Received: from [172.21.0.14] (unknown [172.18.0.240]) by postal.iol.unh.edu (Postfix) with ESMTP id DB1FD605247D; Fri, 7 Feb 2025 14:49:12 -0500 (EST) Subject: |SUCCESS| pw149604-149606 [PATCH] [v11,3/3] drivers/net: add diagnos From: dpdklab@iol.unh.edu To: Test Report Cc: dpdk-test-reports@iol.unh.edu In-Reply-To: <1735918611-17374-4-git-send-email-andremue@linux.microsoft.com> References: <1735918611-17374-4-git-send-email-andremue@linux.microsoft.com> Content-Type: text/plain X-BeenThere: test-report@dpdk.org X-Mailman-Version: 2.1.29 Precedence: list List-Id: automatic DPDK test reports List-Unsubscribe: , List-Archive: List-Post: List-Help: List-Subscribe: , Errors-To: test-report-bounces@dpdk.org Test-Label: iol-compile-amd64-testing Test-Status: SUCCESS http://dpdk.org/patch/149606 _Testing PASS_ Submitter: Andre Muezerie Date: Friday, January 03 2025 15:36:51 DPDK git baseline: Repo:dpdk Branch: master CommitID:fd51012de5369679e807be1d6a81d63ef15015ce 149604-149606 --> testing pass Test environment and result as below: +---------------------+--------------------+------------------+-------------------+-------------------+-------------------------+----------------------+ | Environment | dpdk_meson_compile | dpdk_compile_ovs | dpdk_compile_spdk | dpdk_msvc_compile | dpdk_llvm_clang_compile | dpdk_mingw64_compile | +=====================+====================+==================+===================+===================+=========================+======================+ | CentOS Stream 9 | PASS | PASS | PASS | SKIPPED | SKIPPED | SKIPPED | +---------------------+--------------------+------------------+-------------------+-------------------+-------------------------+----------------------+ | Debian Bullseye | PASS | PASS | PASS | SKIPPED | SKIPPED | SKIPPED | +---------------------+--------------------+------------------+-------------------+-------------------+-------------------------+----------------------+ | Debian 12 | PASS | PASS | PASS | SKIPPED | SKIPPED | SKIPPED | +---------------------+--------------------+------------------+-------------------+-------------------+-------------------------+----------------------+ | RHEL9 | PASS | PASS | SKIPPED | SKIPPED | SKIPPED | SKIPPED | +---------------------+--------------------+------------------+-------------------+-------------------+-------------------------+----------------------+ | Fedora 40 (Clang) | PASS | PASS | PASS | SKIPPED | SKIPPED | SKIPPED | +---------------------+--------------------+------------------+-------------------+-------------------+-------------------------+----------------------+ | Fedora 41 | PASS | PASS | PASS | SKIPPED | SKIPPED | SKIPPED | +---------------------+--------------------+------------------+-------------------+-------------------+-------------------------+----------------------+ | Fedora 41 (Clang) | PASS | PASS | PASS | SKIPPED | SKIPPED | SKIPPED | +---------------------+--------------------+------------------+-------------------+-------------------+-------------------------+----------------------+ | Alpine | PASS | PASS | SKIPPED | SKIPPED | SKIPPED | SKIPPED | +---------------------+--------------------+------------------+-------------------+-------------------+-------------------------+----------------------+ | openSUSE Leap 15 | PASS | SKIPPED | SKIPPED | SKIPPED | SKIPPED | SKIPPED | +---------------------+--------------------+------------------+-------------------+-------------------+-------------------------+----------------------+ | Ubuntu 20.04 | PASS | SKIPPED | SKIPPED | SKIPPED | SKIPPED | SKIPPED | +---------------------+--------------------+------------------+-------------------+-------------------+-------------------------+----------------------+ | Ubuntu 22.04 | PASS | PASS | PASS | SKIPPED | SKIPPED | SKIPPED | +---------------------+--------------------+------------------+-------------------+-------------------+-------------------------+----------------------+ | RHEL8 | PASS | PASS | SKIPPED | SKIPPED | SKIPPED | SKIPPED | +---------------------+--------------------+------------------+-------------------+-------------------+-------------------------+----------------------+ | Fedora 40 | PASS | PASS | PASS | SKIPPED | SKIPPED | SKIPPED | +---------------------+--------------------+------------------+-------------------+-------------------+-------------------------+----------------------+ | Ubuntu 24.04 | PASS | PASS | PASS | SKIPPED | SKIPPED | SKIPPED | +---------------------+--------------------+------------------+-------------------+-------------------+-------------------------+----------------------+ | FreeBSD 13.4 | PASS | SKIPPED | SKIPPED | SKIPPED | SKIPPED | SKIPPED | +---------------------+--------------------+------------------+-------------------+-------------------+-------------------------+----------------------+ | FreeBSD 14.2 | PASS | SKIPPED | SKIPPED | SKIPPED | SKIPPED | SKIPPED | +---------------------+--------------------+------------------+-------------------+-------------------+-------------------------+----------------------+ | Windows Server 2022 | SKIPPED | SKIPPED | SKIPPED | PASS | PASS | PASS | +---------------------+--------------------+------------------+-------------------+-------------------+-------------------------+----------------------+ CentOS Stream 9 Kernel: Depends on container host Compiler: gcc 11.5.0 20240719 (Red Hat 11.5.0-2) Debian Bullseye Kernel: Depends on container host Compiler: gcc (Debian 10.2.1-6) 10.2.1 20210110 Debian 12 Kernel: Depends on container host Compiler: gcc (Debian 12.2.0-14) 12.2.0 RHEL9 Kernel: Depends on container host Compiler: gcc 11.5.0 20240719 (Red Hat 11.5.0-2) Fedora 40 (Clang) Kernel: Depends on container host Compiler: clang 18.1.8 (Fedora 18.1.8-1.fc40) Fedora 41 Kernel: Depends on container host Compiler: gcc 14.2.1 20240912 (Red Hat 14.2.1-3) Fedora 41 (Clang) Kernel: Depends on container host Compiler: clang 19.1.5 (Fedora 19.1.5-1.fc41) Alpine Kernel: Depends on container host Compiler: gcc (Alpine 14.2.0) 14.2.0 openSUSE Leap 15 Kernel: Depends on container host Compiler: gcc (SUSE Linux) 7.5.0 Ubuntu 20.04 Kernel: Depends on container host Compiler: gcc (Ubuntu 9.4.0-1ubuntu1~20.04.2) 9.4.0 Ubuntu 22.04 Kernel: Depends on container host Compiler: gcc (Ubuntu 11.4.0-1ubuntu1~22.04) 11.4.0 RHEL8 Kernel: Depends on container host Compiler: gcc 8.5.0 20210514 (Red Hat 8.5.0-22) Fedora 40 Kernel: Depends on container host Compiler: gcc 14.2.1 20240912 (Red Hat 14.2.1-3) Ubuntu 24.04 Kernel: Depends on container host Compiler: gcc (Ubuntu 13.3.0-6ubuntu2~24.04) 13.3.0 FreeBSD 13.4 Kernel: 13.4-RELEASE-p1 Compiler: clang 18.1.6 FreeBSD 14.2 Kernel: 14.2-RELEASE Compiler: clang 18.1.6 Windows Server 2022 Kernel: 10.0.20348.2031 Compiler: clang 15.0.7, gcc 14.1.0 (MinGW), and MSVC VS 19.39.33521 To view detailed results, visit: https://lab.dpdk.org/results/dashboard/patchsets/32249/ UNH-IOL DPDK Community Lab To manage your email subscriptions, visit: https://lab.dpdk.org/results/dashboard/preferences/subscriptions/