From mboxrd@z Thu Jan 1 00:00:00 1970 Return-Path: Received: from mails.dpdk.org (mails.dpdk.org [217.70.189.124]) by inbox.dpdk.org (Postfix) with ESMTP id 6A77E461BF for ; Fri, 7 Feb 2025 20:49:25 +0100 (CET) Received: from mails.dpdk.org (localhost [127.0.0.1]) by mails.dpdk.org (Postfix) with ESMTP id 64718402C9; Fri, 7 Feb 2025 20:49:25 +0100 (CET) Received: from mail-io1-f98.google.com (mail-io1-f98.google.com [209.85.166.98]) by mails.dpdk.org (Postfix) with ESMTP id 73C6E4026C for ; Fri, 7 Feb 2025 20:49:23 +0100 (CET) Received: by mail-io1-f98.google.com with SMTP id ca18e2360f4ac-84a012f7232so102313939f.0 for ; Fri, 07 Feb 2025 11:49:23 -0800 (PST) DKIM-Signature: v=1; a=rsa-sha256; c=relaxed/relaxed; d=iol.unh.edu; s=unh-iol; t=1738957763; x=1739562563; darn=dpdk.org; h=references:in-reply-to:cc:to:from:subject:message-id:date:from:to :cc:subject:date:message-id:reply-to; bh=R4/+M977bxqCq+wsEGo2NUxixHZEjHUxL3rWqto7L68=; b=WhWzF+rir8nhcBDH/aZ+fIPRbWa6Bdhx1QvbNUI9fe4DSkZUWGxLhQ0ued41zDZped 7geDTjJQQjkFNTfYBSUPlIlplQ91MwdTsLeIbtngAUuF8NoPDP0l63JwD5OB71XgJiye VUJX/EqNfheLcE2YD5Vt+Pw2YK0GsWH3mrXnU= X-Google-DKIM-Signature: v=1; a=rsa-sha256; c=relaxed/relaxed; d=1e100.net; s=20230601; t=1738957763; x=1739562563; h=references:in-reply-to:cc:to:from:subject:message-id:date :x-gm-message-state:from:to:cc:subject:date:message-id:reply-to; bh=R4/+M977bxqCq+wsEGo2NUxixHZEjHUxL3rWqto7L68=; b=VZzGVlz5S+N8A1yU6WD5iqJPKUk44GPdZpeKO47XuD4Ht79sVjRZ37vRev8yrjn20K ZJDluobX8uteAxoMGQvpW0CunhKNEngFWzjZ2RAYoglwVbGDKUlWwAAh/u1OU+CVt8+P A9wIwOHb3wOsvsw/BvBbQEMut4QCyjn5UvtjPMvRfvGFoP/fA100s6ILJ2jRBAsoqNof hEz3miK13jc06kCKrslckKn+XJSmPQuzwLrJq+TWP2GeO0gdqc0KtH60ZG9yhT7atpix 4R0dPAHoLfwutt0f5YU70CLOpneKqHGVRU6LVLXNZ+ATmesd3QOsDc8UeFX38OYQ/D91 wtLg== X-Gm-Message-State: AOJu0Yy39nbs0K9A35laILA+LGaPApjpmtzlwh5xUi5uTEwSyBgnmYTc Ey6I6RoFV/Awbxmkt4x2E++eD+8EN0g2HFFxY86MlyzhMIPPr5POoamzmW2hfdDzLk4nI6NJldx yWQyXGr9AdkfJ3O0wW09xIj0g3LIj6cC4+4kxVLS8 X-Gm-Gg: ASbGncugiAYQbY8vNjFDPp7rw6eu6mKFRJGYeAVe0JFul7gCvV/hB3mGFrjvENXzHVw 018s1NeqEPxRsiqQxTx/KIiPoqet6HZmj4+b68bRVxUMgJon60sAxC1nR3bvf/Ugc1TUpQLQJfy MXHC5vxfZP/7huIXsCa7NxD6UwNWJaec7VDEF9pUnHSJxGI2/Sj0SYakXAIKm71wGDBQ2/vBJHa xVofxxpixPnrWGzt7tcyZk085sePRN0XT3kZNepDx71+vpqYnxzZ7tm14Astrw+c2rE99p+eLnE /TDred/H1fo/qQNArrs3aQs0iM+jaQ== X-Google-Smtp-Source: AGHT+IGWqXfIM6bXJEfeg18s6nun14zq3Tn+ZknUXN+KqVnZ13XiK2vmll1GoUKg/zwKvBbGnQzTx0+28U9a X-Received: by 2002:a05:6602:1ca:b0:841:ab27:acac with SMTP id ca18e2360f4ac-854f39a4610mr703257539f.2.1738957762808; Fri, 07 Feb 2025 11:49:22 -0800 (PST) Received: from postal.iol.unh.edu (postal.iol.unh.edu. [132.177.123.84]) by smtp-relay.gmail.com with ESMTPS id 8926c6da1cb9f-4eccf9f5823sm254549173.38.2025.02.07.11.49.22 (version=TLS1_2 cipher=ECDHE-ECDSA-AES128-GCM-SHA256 bits=128/128); Fri, 07 Feb 2025 11:49:22 -0800 (PST) X-Relaying-Domain: iol.unh.edu Date: Fri, 07 Feb 2025 11:49:22 -0800 (PST) Message-ID: <67a663c2.050a0220.3aa7eb.d2a4SMTPIN_ADDED_MISSING@mx.google.com> Received: from [172.21.0.17] (unknown [172.18.0.240]) by postal.iol.unh.edu (Postfix) with ESMTP id 4E47C6052483; Fri, 7 Feb 2025 14:49:22 -0500 (EST) Subject: |SUCCESS| pw149512-149514 [PATCH] [v4,3/3] drivers/net: add diagnost From: dpdklab@iol.unh.edu To: Test Report Cc: dpdk-test-reports@iol.unh.edu In-Reply-To: <1735574370-22090-4-git-send-email-andremue@linux.microsoft.com> References: <1735574370-22090-4-git-send-email-andremue@linux.microsoft.com> Content-Type: text/plain X-BeenThere: test-report@dpdk.org X-Mailman-Version: 2.1.29 Precedence: list List-Id: automatic DPDK test reports List-Unsubscribe: , List-Archive: List-Post: List-Help: List-Subscribe: , Errors-To: test-report-bounces@dpdk.org Test-Label: iol-compile-amd64-testing Test-Status: SUCCESS http://dpdk.org/patch/149514 _Testing PASS_ Submitter: Andre Muezerie Date: Monday, December 30 2024 15:59:30 DPDK git baseline: Repo:dpdk Branch: master CommitID:fd51012de5369679e807be1d6a81d63ef15015ce 149512-149514 --> testing pass Test environment and result as below: +---------------------+--------------------+------------------+-------------------+-------------------+-------------------------+----------------------+ | Environment | dpdk_meson_compile | dpdk_compile_ovs | dpdk_compile_spdk | dpdk_msvc_compile | dpdk_llvm_clang_compile | dpdk_mingw64_compile | +=====================+====================+==================+===================+===================+=========================+======================+ | Debian Bullseye | PASS | PASS | PASS | SKIPPED | SKIPPED | SKIPPED | +---------------------+--------------------+------------------+-------------------+-------------------+-------------------------+----------------------+ | CentOS Stream 9 | PASS | PASS | PASS | SKIPPED | SKIPPED | SKIPPED | +---------------------+--------------------+------------------+-------------------+-------------------+-------------------------+----------------------+ | Debian 12 | PASS | PASS | PASS | SKIPPED | SKIPPED | SKIPPED | +---------------------+--------------------+------------------+-------------------+-------------------+-------------------------+----------------------+ | Fedora 40 | PASS | PASS | PASS | SKIPPED | SKIPPED | SKIPPED | +---------------------+--------------------+------------------+-------------------+-------------------+-------------------------+----------------------+ | Fedora 40 (Clang) | PASS | PASS | PASS | SKIPPED | SKIPPED | SKIPPED | +---------------------+--------------------+------------------+-------------------+-------------------+-------------------------+----------------------+ | Fedora 41 | PASS | PASS | PASS | SKIPPED | SKIPPED | SKIPPED | +---------------------+--------------------+------------------+-------------------+-------------------+-------------------------+----------------------+ | Fedora 41 (Clang) | PASS | PASS | PASS | SKIPPED | SKIPPED | SKIPPED | +---------------------+--------------------+------------------+-------------------+-------------------+-------------------------+----------------------+ | openSUSE Leap 15 | PASS | SKIPPED | SKIPPED | SKIPPED | SKIPPED | SKIPPED | +---------------------+--------------------+------------------+-------------------+-------------------+-------------------------+----------------------+ | RHEL8 | PASS | PASS | SKIPPED | SKIPPED | SKIPPED | SKIPPED | +---------------------+--------------------+------------------+-------------------+-------------------+-------------------------+----------------------+ | RHEL9 | PASS | PASS | SKIPPED | SKIPPED | SKIPPED | SKIPPED | +---------------------+--------------------+------------------+-------------------+-------------------+-------------------------+----------------------+ | Ubuntu 20.04 | PASS | SKIPPED | SKIPPED | SKIPPED | SKIPPED | SKIPPED | +---------------------+--------------------+------------------+-------------------+-------------------+-------------------------+----------------------+ | Ubuntu 22.04 | PASS | PASS | PASS | SKIPPED | SKIPPED | SKIPPED | +---------------------+--------------------+------------------+-------------------+-------------------+-------------------------+----------------------+ | Ubuntu 24.04 | PASS | PASS | PASS | SKIPPED | SKIPPED | SKIPPED | +---------------------+--------------------+------------------+-------------------+-------------------+-------------------------+----------------------+ | Alpine | PASS | PASS | SKIPPED | SKIPPED | SKIPPED | SKIPPED | +---------------------+--------------------+------------------+-------------------+-------------------+-------------------------+----------------------+ | FreeBSD 13.4 | PASS | SKIPPED | SKIPPED | SKIPPED | SKIPPED | SKIPPED | +---------------------+--------------------+------------------+-------------------+-------------------+-------------------------+----------------------+ | FreeBSD 14.2 | PASS | SKIPPED | SKIPPED | SKIPPED | SKIPPED | SKIPPED | +---------------------+--------------------+------------------+-------------------+-------------------+-------------------------+----------------------+ | Windows Server 2022 | SKIPPED | SKIPPED | SKIPPED | PASS | PASS | PASS | +---------------------+--------------------+------------------+-------------------+-------------------+-------------------------+----------------------+ Debian Bullseye Kernel: Depends on container host Compiler: gcc (Debian 10.2.1-6) 10.2.1 20210110 CentOS Stream 9 Kernel: Depends on container host Compiler: gcc 11.5.0 20240719 (Red Hat 11.5.0-2) Debian 12 Kernel: Depends on container host Compiler: gcc (Debian 12.2.0-14) 12.2.0 Fedora 40 Kernel: Depends on container host Compiler: gcc 14.2.1 20240912 (Red Hat 14.2.1-3) Fedora 40 (Clang) Kernel: Depends on container host Compiler: clang 18.1.8 (Fedora 18.1.8-1.fc40) Fedora 41 Kernel: Depends on container host Compiler: gcc 14.2.1 20240912 (Red Hat 14.2.1-3) Fedora 41 (Clang) Kernel: Depends on container host Compiler: clang 19.1.5 (Fedora 19.1.5-1.fc41) openSUSE Leap 15 Kernel: Depends on container host Compiler: gcc (SUSE Linux) 7.5.0 RHEL8 Kernel: Depends on container host Compiler: gcc 8.5.0 20210514 (Red Hat 8.5.0-22) RHEL9 Kernel: Depends on container host Compiler: gcc 11.5.0 20240719 (Red Hat 11.5.0-2) Ubuntu 20.04 Kernel: Depends on container host Compiler: gcc (Ubuntu 9.4.0-1ubuntu1~20.04.2) 9.4.0 Ubuntu 22.04 Kernel: Depends on container host Compiler: gcc (Ubuntu 11.4.0-1ubuntu1~22.04) 11.4.0 Ubuntu 24.04 Kernel: Depends on container host Compiler: gcc (Ubuntu 13.3.0-6ubuntu2~24.04) 13.3.0 Alpine Kernel: Depends on container host Compiler: gcc (Alpine 14.2.0) 14.2.0 FreeBSD 13.4 Kernel: 13.4-RELEASE-p1 Compiler: clang 18.1.6 FreeBSD 14.2 Kernel: 14.2-RELEASE Compiler: clang 18.1.6 Windows Server 2022 Kernel: 10.0.20348.2031 Compiler: clang 15.0.7, gcc 14.1.0 (MinGW), and MSVC VS 19.39.33521 To view detailed results, visit: https://lab.dpdk.org/results/dashboard/patchsets/32226/ UNH-IOL DPDK Community Lab To manage your email subscriptions, visit: https://lab.dpdk.org/results/dashboard/preferences/subscriptions/