From mboxrd@z Thu Jan 1 00:00:00 1970 Return-Path: Received: from mails.dpdk.org (mails.dpdk.org [217.70.189.124]) by inbox.dpdk.org (Postfix) with ESMTP id 8C6CE461BF for ; Fri, 7 Feb 2025 20:49:32 +0100 (CET) Received: from mails.dpdk.org (localhost [127.0.0.1]) by mails.dpdk.org (Postfix) with ESMTP id 89BBD402DB; Fri, 7 Feb 2025 20:49:32 +0100 (CET) Received: from mail-io1-f97.google.com (mail-io1-f97.google.com [209.85.166.97]) by mails.dpdk.org (Postfix) with ESMTP id 88E544026C for ; Fri, 7 Feb 2025 20:49:29 +0100 (CET) Received: by mail-io1-f97.google.com with SMTP id ca18e2360f4ac-844e6d1283aso101790739f.1 for ; Fri, 07 Feb 2025 11:49:29 -0800 (PST) DKIM-Signature: v=1; a=rsa-sha256; c=relaxed/relaxed; d=iol.unh.edu; s=unh-iol; t=1738957769; x=1739562569; darn=dpdk.org; h=cc:to:from:subject:message-id:date:from:to:cc:subject:date :message-id:reply-to; bh=M5IM7Cfe8qshPxLNj/VtXm2aCUymToFQs8h673XD+JI=; b=epMGmcNGqtZYhsxO9l+KXb9NlQYvrA6g2U1GlSSdl/fCJ+ClAjvAxMpb1OzQcf6QSf I1kvrqoV7Eao7zB99Ha56jHuUdpL5xj74eF3zpXbJ6+coRov/U80llDP5qdjIKgwtahL 5XBWugF5rA59KiCgCY7lVuNPk7TA5jej6bG4Y= X-Google-DKIM-Signature: v=1; a=rsa-sha256; c=relaxed/relaxed; d=1e100.net; s=20230601; t=1738957769; x=1739562569; h=cc:to:from:subject:message-id:date:x-gm-message-state:from:to:cc :subject:date:message-id:reply-to; bh=M5IM7Cfe8qshPxLNj/VtXm2aCUymToFQs8h673XD+JI=; b=RSllRruKwEbeoB/Me7GXia8565i8RGCPF38T4f3sb+/5LvkvGgCSpfzPqTgIAphANQ ELM7CPd+DO6icguh4xjl6gMqhKua4oKFS+YiLBcYE4nM/BIeFThPvFKn0jgapNI5s/JD fK++osnxsIA2LSmyi3h4byA11QLor9z3/1IZnNSe52uJ7MnnNW57kNN5lg7Rg1g9FXnM TwfngWd39QfzdrjW0ukMcSREcnIwlWII+df1XgHExBTZm7QsiGXj3oDjjLF0ZJQBRfUh umjSadXfl7KL2706NsBEZHhOfhhDzgc/OfBEttwJhnlLDt/LIBeRLQpHRx/4x7/JtgfX jQOA== X-Gm-Message-State: AOJu0YynFl3+N6Tl7UHrx3MVlAt3YFfgi6IpydkHNIgTlJdAe/lW8/z1 kkx1MHiZcmOUTEoXRsvNseYzKrbmfgkqo6IrQe6KXhDnxW8DsCWoofGm4jHpWrbW4Y8MhxKJWnl ey4sJXTZxKRgqGqruCYbh1ENxpncp8aWX/kk78xKM X-Gm-Gg: ASbGncvYNjfC3yrbKfulkteCa+QPiFXWkiRKmbfd7abm8zl7I0DBvAxamPS9xEkECca hpdiKpCnaIqCuMCZIkuiz19uvM1MU8gCe9Omkd/8ft8fxnGLY5kZjhyKLWQGglEinTu1nI3y0aM Et8nHsT8WAqz7y1nfviBJflPbHXzODquo80eM5hYVDvKJlp8rbwzrLlk9BC7mouL74G+dSJiyiO AVYeTUs5kmnNo0nsA70eZlTDbu/UNByS+8lnibOgbMSdGjzch1T3y0TXBwE4tr8rlecL4ZLtkYh a71T4tpgoZGQqB8rJyxC9GXIKFguyw== X-Google-Smtp-Source: AGHT+IHQYoDvXPZsDVktqz60J7j5jgxjZK3zAkAHWZop4/EkuCdLiCI/WPgunVYckscKMHR+WWtGobMQBh9a X-Received: by 2002:a6b:7e01:0:b0:84a:7a0d:cc67 with SMTP id ca18e2360f4ac-854f3a72a05mr673714339f.8.1738957768725; Fri, 07 Feb 2025 11:49:28 -0800 (PST) Received: from postal.iol.unh.edu (postal.iol.unh.edu. [132.177.123.84]) by smtp-relay.gmail.com with ESMTPS id 8926c6da1cb9f-4eccf9a97b8sm266190173.8.2025.02.07.11.49.28 (version=TLS1_2 cipher=ECDHE-ECDSA-AES128-GCM-SHA256 bits=128/128); Fri, 07 Feb 2025 11:49:28 -0800 (PST) X-Relaying-Domain: iol.unh.edu Date: Fri, 07 Feb 2025 11:49:28 -0800 (PST) Message-ID: <67a663c8.050a0220.1bb614.d761SMTPIN_ADDED_MISSING@mx.google.com> Received: from [172.21.0.7] (unknown [172.18.0.240]) by postal.iol.unh.edu (Postfix) with ESMTP id 39BFE6052477; Fri, 7 Feb 2025 14:48:58 -0500 (EST) Subject: |SUCCESS| [GIT MASTER] fd51012de5369679e807be1d6a81d63ef15015ce From: dpdklab@iol.unh.edu To: Test Report Cc: dpdk-test-reports@iol.unh.edu Content-Type: text/plain X-BeenThere: test-report@dpdk.org X-Mailman-Version: 2.1.29 Precedence: list List-Id: automatic DPDK test reports List-Unsubscribe: , List-Archive: List-Post: List-Help: List-Subscribe: , Errors-To: test-report-bounces@dpdk.org _Testing PASS_ Branch: dpdk fd51012de5369679e807be1d6a81d63ef15015ce --> testing pass Test environment and result as below: +---------------------+--------------------+------------------+-------------------+-------------------------+-------------------+----------------------+ | Environment | dpdk_meson_compile | dpdk_compile_ovs | dpdk_compile_spdk | dpdk_llvm_clang_compile | dpdk_msvc_compile | dpdk_mingw64_compile | +=====================+====================+==================+===================+=========================+===================+======================+ | CentOS Stream 9 | PASS | PASS | PASS | SKIPPED | SKIPPED | SKIPPED | +---------------------+--------------------+------------------+-------------------+-------------------------+-------------------+----------------------+ | Debian 12 | PASS | PASS | PASS | SKIPPED | SKIPPED | SKIPPED | +---------------------+--------------------+------------------+-------------------+-------------------------+-------------------+----------------------+ | Debian Bullseye | PASS | PASS | PASS | SKIPPED | SKIPPED | SKIPPED | +---------------------+--------------------+------------------+-------------------+-------------------------+-------------------+----------------------+ | Fedora 41 (Clang) | PASS | PASS | PASS | SKIPPED | SKIPPED | SKIPPED | +---------------------+--------------------+------------------+-------------------+-------------------------+-------------------+----------------------+ | Fedora 40 (Clang) | PASS | PASS | PASS | SKIPPED | SKIPPED | SKIPPED | +---------------------+--------------------+------------------+-------------------+-------------------------+-------------------+----------------------+ | Fedora 41 | PASS | PASS | PASS | SKIPPED | SKIPPED | SKIPPED | +---------------------+--------------------+------------------+-------------------+-------------------------+-------------------+----------------------+ | RHEL8 | PASS | PASS | SKIPPED | SKIPPED | SKIPPED | SKIPPED | +---------------------+--------------------+------------------+-------------------+-------------------------+-------------------+----------------------+ | openSUSE Leap 15 | PASS | SKIPPED | SKIPPED | SKIPPED | SKIPPED | SKIPPED | +---------------------+--------------------+------------------+-------------------+-------------------------+-------------------+----------------------+ | RHEL9 | PASS | PASS | SKIPPED | SKIPPED | SKIPPED | SKIPPED | +---------------------+--------------------+------------------+-------------------+-------------------------+-------------------+----------------------+ | Ubuntu 20.04 | PASS | SKIPPED | SKIPPED | SKIPPED | SKIPPED | SKIPPED | +---------------------+--------------------+------------------+-------------------+-------------------------+-------------------+----------------------+ | Ubuntu 22.04 | PASS | PASS | PASS | SKIPPED | SKIPPED | SKIPPED | +---------------------+--------------------+------------------+-------------------+-------------------------+-------------------+----------------------+ | Ubuntu 24.04 | PASS | PASS | PASS | SKIPPED | SKIPPED | SKIPPED | +---------------------+--------------------+------------------+-------------------+-------------------------+-------------------+----------------------+ | Alpine | PASS | PASS | SKIPPED | SKIPPED | SKIPPED | SKIPPED | +---------------------+--------------------+------------------+-------------------+-------------------------+-------------------+----------------------+ | Arch Linux | PASS | PASS | SKIPPED | SKIPPED | SKIPPED | SKIPPED | +---------------------+--------------------+------------------+-------------------+-------------------------+-------------------+----------------------+ | FreeBSD 13.4 | PASS | SKIPPED | SKIPPED | SKIPPED | SKIPPED | SKIPPED | +---------------------+--------------------+------------------+-------------------+-------------------------+-------------------+----------------------+ | FreeBSD 14.2 | PASS | SKIPPED | SKIPPED | SKIPPED | SKIPPED | SKIPPED | +---------------------+--------------------+------------------+-------------------+-------------------------+-------------------+----------------------+ | Fedora 40 | PASS | PASS | PASS | SKIPPED | SKIPPED | SKIPPED | +---------------------+--------------------+------------------+-------------------+-------------------------+-------------------+----------------------+ | Windows Server 2022 | SKIPPED | SKIPPED | SKIPPED | PASS | PASS | PASS | +---------------------+--------------------+------------------+-------------------+-------------------------+-------------------+----------------------+ CentOS Stream 9 Kernel: Depends on container host Compiler: gcc 11.5.0 20240719 (Red Hat 11.5.0-2) Debian 12 Kernel: Depends on container host Compiler: gcc (Debian 12.2.0-14) 12.2.0 Debian Bullseye Kernel: Depends on container host Compiler: gcc (Debian 10.2.1-6) 10.2.1 20210110 Fedora 41 (Clang) Kernel: Depends on container host Compiler: clang 19.1.5 (Fedora 19.1.5-1.fc41) Fedora 40 (Clang) Kernel: Depends on container host Compiler: clang 18.1.8 (Fedora 18.1.8-1.fc40) Fedora 41 Kernel: Depends on container host Compiler: gcc 14.2.1 20240912 (Red Hat 14.2.1-3) RHEL8 Kernel: Depends on container host Compiler: gcc 8.5.0 20210514 (Red Hat 8.5.0-22) openSUSE Leap 15 Kernel: Depends on container host Compiler: gcc (SUSE Linux) 7.5.0 RHEL9 Kernel: Depends on container host Compiler: gcc 11.5.0 20240719 (Red Hat 11.5.0-2) Ubuntu 20.04 Kernel: Depends on container host Compiler: gcc (Ubuntu 9.4.0-1ubuntu1~20.04.2) 9.4.0 Ubuntu 22.04 Kernel: Depends on container host Compiler: gcc (Ubuntu 11.4.0-1ubuntu1~22.04) 11.4.0 Ubuntu 24.04 Kernel: Depends on container host Compiler: gcc (Ubuntu 13.3.0-6ubuntu2~24.04) 13.3.0 Alpine Kernel: Depends on container host Compiler: gcc (Alpine 14.2.0) 14.2.0 Arch Linux Kernel: Depends on container host Compiler: gcc 14.2.1 20240910 FreeBSD 13.4 Kernel: 13.4-RELEASE-p1 Compiler: clang 18.1.6 FreeBSD 14.2 Kernel: 14.2-RELEASE Compiler: clang 18.1.6 Fedora 40 Kernel: Depends on container host Compiler: gcc 14.2.1 20240912 (Red Hat 14.2.1-3) Windows Server 2022 Kernel: 10.0.20348.2031 Compiler: clang 15.0.7, gcc 14.1.0 (MinGW), and MSVC VS 19.39.33521 To view detailed results, visit: https://lab.dpdk.org/results/dashboard/tarballs/32105/ UNH-IOL DPDK Community Lab To manage your email subscriptions, visit: https://lab.dpdk.org/results/dashboard/preferences/subscriptions/