From mboxrd@z Thu Jan 1 00:00:00 1970 Return-Path: Received: from mails.dpdk.org (mails.dpdk.org [217.70.189.124]) by inbox.dpdk.org (Postfix) with ESMTP id 9DBD8461BF for ; Fri, 7 Feb 2025 20:49:39 +0100 (CET) Received: from mails.dpdk.org (localhost [127.0.0.1]) by mails.dpdk.org (Postfix) with ESMTP id 9A82B4029A; Fri, 7 Feb 2025 20:49:39 +0100 (CET) Received: from mail-ot1-f98.google.com (mail-ot1-f98.google.com [209.85.210.98]) by mails.dpdk.org (Postfix) with ESMTP id B0ED44026C for ; Fri, 7 Feb 2025 20:49:38 +0100 (CET) Received: by mail-ot1-f98.google.com with SMTP id 46e09a7af769-71e1158fe3eso1455648a34.1 for ; Fri, 07 Feb 2025 11:49:38 -0800 (PST) DKIM-Signature: v=1; a=rsa-sha256; c=relaxed/relaxed; d=iol.unh.edu; s=unh-iol; t=1738957778; x=1739562578; darn=dpdk.org; h=references:in-reply-to:cc:to:from:subject:message-id:date:from:to :cc:subject:date:message-id:reply-to; bh=xO30id9t2msZ6lxaOMmFWCcAxh0wAxVeIc+CSZz+iI4=; b=BcfeoxLih0FALbWu2HOxeGmNc76d5wEXQAbz/LOXww0ouLPZ2bvAxC0j3bgKwujMWG B+pG4mZr36ghg+KAAvlZyPTeg82s8o/dO+FrUM3T1a+X+sZQLPOvX7O0+v0BCC/t5kp8 ewnzARMmN8DDPi37QBSWnUyacQ8ibbSA7eqOA= X-Google-DKIM-Signature: v=1; a=rsa-sha256; c=relaxed/relaxed; d=1e100.net; s=20230601; t=1738957778; x=1739562578; h=references:in-reply-to:cc:to:from:subject:message-id:date :x-gm-message-state:from:to:cc:subject:date:message-id:reply-to; bh=xO30id9t2msZ6lxaOMmFWCcAxh0wAxVeIc+CSZz+iI4=; b=vDmCPhLBjEYp2ib4o9b75UiSMeT8gjVJmVUT774el+Bv2uBym4Ieo1p+L7Kx6lq8Dp g8mcgqRmgKyQhL8RYq5Xx14fAXNQqTB4DdiyGIh/5lsUcnmvVzAcGOVsOSWat5C3uWYf 99X7joI1JL0PXyCbOOAaNr622/C0qzaIFPU8oVWxFe13PIqXJIYUrgyLm6lnHfwROlfK UizoKNfhjDAXEcM33WfF2cPSqkOOZAQMMFAA7+VKOLwc1YPnx9yiRKS5SmitDLqSRULX thYmK6fbGqV9mfIsL9/lJc0AVEnOP7FS8/+owPwrdZbhJ/5vNvuVfI84Jeug3mjs/Kh2 Ge2g== X-Gm-Message-State: AOJu0YxsntJLEUZQ0QTk0o6vrdtzw+v0dz2L7kV3AdzYnQgqJJ7/qZHa 4dr56I7TlQVxb0Czfed9iyQucLYyHb6F+lAu5fFnKFPeNWA2a1cnex8E2nRMNDdDhhQzhTEmFqU 1lokQ1wBDrWE4Te+fg4dmvjdzTqSvQt00pfnwXDjn X-Gm-Gg: ASbGncszzbk1YfE3HXGZ9vtR/h8o0LRONc3wYiMpL8UnkbNyKURBcfw6RYoDxwjH9IC QgsJ3OE/reDXdXrEfhSLljn7ksaWrHEfM+gJWmIUP00ejZAW69X+qD9VgdJOgcaCJBQFLlqeZh8 HWqLy+RHOtz3fML/fa6hiTYVB8tqggEprcMdWjLjU/VxTk3X2lvbH8Iqr8uuSISvKP586ax60d3 pMjY1UbJ8yTfNAK39HlSeA24uMo1aEVA7GlJrLEUtdOQ8+uvyRDTVm7a6aglo1D7rdsajoMvLKG tujyCcwwVgbDz1I00fVnkrEDJFqbLA== X-Google-Smtp-Source: AGHT+IHMN4khfs9e+qoYpQeH3eNmeFEjgaHRN9IVnjiyQEpMI9H/kV6jdeIsgX2OqcKL+xYMN+WAu8M31gFO X-Received: by 2002:a05:6830:3819:b0:71d:46e8:b30 with SMTP id 46e09a7af769-726b87a3ea4mr3142361a34.1.1738957777971; Fri, 07 Feb 2025 11:49:37 -0800 (PST) Received: from postal.iol.unh.edu (postal.iol.unh.edu. [132.177.123.84]) by smtp-relay.gmail.com with ESMTPS id 006d021491bc7-5fc544eaa95sm139971eaf.14.2025.02.07.11.49.37 (version=TLS1_2 cipher=ECDHE-ECDSA-AES128-GCM-SHA256 bits=128/128); Fri, 07 Feb 2025 11:49:37 -0800 (PST) X-Relaying-Domain: iol.unh.edu Date: Fri, 07 Feb 2025 11:49:37 -0800 (PST) Message-ID: <67a663d1.4a0a0220.3b4c9b.75d7SMTPIN_ADDED_MISSING@mx.google.com> Received: from [172.21.0.9] (unknown [172.18.0.240]) by postal.iol.unh.edu (Postfix) with ESMTP id 6EE3C6052472; Fri, 7 Feb 2025 14:49:07 -0500 (EST) Subject: |SUCCESS| pw149610-149611 [PATCH] [v2,5/5] app/test: add tests for p From: dpdklab@iol.unh.edu To: Test Report Cc: dpdk-test-reports@iol.unh.edu In-Reply-To: <1735936781-24199-6-git-send-email-andremue@linux.microsoft.com> References: <1735936781-24199-6-git-send-email-andremue@linux.microsoft.com> Content-Type: text/plain X-BeenThere: test-report@dpdk.org X-Mailman-Version: 2.1.29 Precedence: list List-Id: automatic DPDK test reports List-Unsubscribe: , List-Archive: List-Post: List-Help: List-Subscribe: , Errors-To: test-report-bounces@dpdk.org Test-Label: iol-compile-amd64-testing Test-Status: SUCCESS http://dpdk.org/patch/149611 _Testing PASS_ Submitter: Andre Muezerie Date: Friday, January 03 2025 20:39:41 DPDK git baseline: Repo:dpdk Branch: master CommitID:fd51012de5369679e807be1d6a81d63ef15015ce 149610-149611 --> testing pass Test environment and result as below: +---------------------+--------------------+------------------+-------------------+-------------------+-------------------------+----------------------+ | Environment | dpdk_meson_compile | dpdk_compile_ovs | dpdk_compile_spdk | dpdk_msvc_compile | dpdk_llvm_clang_compile | dpdk_mingw64_compile | +=====================+====================+==================+===================+===================+=========================+======================+ | Debian 12 | PASS | PASS | PASS | SKIPPED | SKIPPED | SKIPPED | +---------------------+--------------------+------------------+-------------------+-------------------+-------------------------+----------------------+ | Debian Bullseye | PASS | PASS | PASS | SKIPPED | SKIPPED | SKIPPED | +---------------------+--------------------+------------------+-------------------+-------------------+-------------------------+----------------------+ | openSUSE Leap 15 | PASS | SKIPPED | SKIPPED | SKIPPED | SKIPPED | SKIPPED | +---------------------+--------------------+------------------+-------------------+-------------------+-------------------------+----------------------+ | RHEL8 | PASS | PASS | SKIPPED | SKIPPED | SKIPPED | SKIPPED | +---------------------+--------------------+------------------+-------------------+-------------------+-------------------------+----------------------+ | RHEL9 | PASS | PASS | SKIPPED | SKIPPED | SKIPPED | SKIPPED | +---------------------+--------------------+------------------+-------------------+-------------------+-------------------------+----------------------+ | Fedora 40 | PASS | PASS | PASS | SKIPPED | SKIPPED | SKIPPED | +---------------------+--------------------+------------------+-------------------+-------------------+-------------------------+----------------------+ | Fedora 41 | PASS | PASS | PASS | SKIPPED | SKIPPED | SKIPPED | +---------------------+--------------------+------------------+-------------------+-------------------+-------------------------+----------------------+ | Ubuntu 20.04 | PASS | SKIPPED | SKIPPED | SKIPPED | SKIPPED | SKIPPED | +---------------------+--------------------+------------------+-------------------+-------------------+-------------------------+----------------------+ | FreeBSD 13.4 | PASS | SKIPPED | SKIPPED | SKIPPED | SKIPPED | SKIPPED | +---------------------+--------------------+------------------+-------------------+-------------------+-------------------------+----------------------+ | Ubuntu 22.04 | PASS | PASS | PASS | SKIPPED | SKIPPED | SKIPPED | +---------------------+--------------------+------------------+-------------------+-------------------+-------------------------+----------------------+ | Ubuntu 24.04 | PASS | PASS | PASS | SKIPPED | SKIPPED | SKIPPED | +---------------------+--------------------+------------------+-------------------+-------------------+-------------------------+----------------------+ | Alpine | PASS | PASS | SKIPPED | SKIPPED | SKIPPED | SKIPPED | +---------------------+--------------------+------------------+-------------------+-------------------+-------------------------+----------------------+ | FreeBSD 14.2 | PASS | SKIPPED | SKIPPED | SKIPPED | SKIPPED | SKIPPED | +---------------------+--------------------+------------------+-------------------+-------------------+-------------------------+----------------------+ | Fedora 41 (Clang) | PASS | PASS | PASS | SKIPPED | SKIPPED | SKIPPED | +---------------------+--------------------+------------------+-------------------+-------------------+-------------------------+----------------------+ | Fedora 40 (Clang) | PASS | PASS | PASS | SKIPPED | SKIPPED | SKIPPED | +---------------------+--------------------+------------------+-------------------+-------------------+-------------------------+----------------------+ | Windows Server 2022 | SKIPPED | SKIPPED | SKIPPED | PASS | PASS | PASS | +---------------------+--------------------+------------------+-------------------+-------------------+-------------------------+----------------------+ Debian 12 Kernel: Depends on container host Compiler: gcc (Debian 12.2.0-14) 12.2.0 Debian Bullseye Kernel: Depends on container host Compiler: gcc (Debian 10.2.1-6) 10.2.1 20210110 openSUSE Leap 15 Kernel: Depends on container host Compiler: gcc (SUSE Linux) 7.5.0 RHEL8 Kernel: Depends on container host Compiler: gcc 8.5.0 20210514 (Red Hat 8.5.0-22) RHEL9 Kernel: Depends on container host Compiler: gcc 11.5.0 20240719 (Red Hat 11.5.0-2) Fedora 40 Kernel: Depends on container host Compiler: gcc 14.2.1 20240912 (Red Hat 14.2.1-3) Fedora 41 Kernel: Depends on container host Compiler: gcc 14.2.1 20240912 (Red Hat 14.2.1-3) Ubuntu 20.04 Kernel: Depends on container host Compiler: gcc (Ubuntu 9.4.0-1ubuntu1~20.04.2) 9.4.0 FreeBSD 13.4 Kernel: 13.4-RELEASE-p1 Compiler: clang 18.1.6 Ubuntu 22.04 Kernel: Depends on container host Compiler: gcc (Ubuntu 11.4.0-1ubuntu1~22.04) 11.4.0 Ubuntu 24.04 Kernel: Depends on container host Compiler: gcc (Ubuntu 13.3.0-6ubuntu2~24.04) 13.3.0 Alpine Kernel: Depends on container host Compiler: gcc (Alpine 14.2.0) 14.2.0 FreeBSD 14.2 Kernel: 14.2-RELEASE Compiler: clang 18.1.6 Fedora 41 (Clang) Kernel: Depends on container host Compiler: clang 19.1.5 (Fedora 19.1.5-1.fc41) Fedora 40 (Clang) Kernel: Depends on container host Compiler: clang 18.1.8 (Fedora 18.1.8-1.fc40) Windows Server 2022 Kernel: 10.0.20348.2031 Compiler: clang 15.0.7, gcc 14.1.0 (MinGW), and MSVC VS 19.39.33521 To view detailed results, visit: https://lab.dpdk.org/results/dashboard/patchsets/32250/ UNH-IOL DPDK Community Lab To manage your email subscriptions, visit: https://lab.dpdk.org/results/dashboard/preferences/subscriptions/