From mboxrd@z Thu Jan 1 00:00:00 1970 Return-Path: Received: from mails.dpdk.org (mails.dpdk.org [217.70.189.124]) by inbox.dpdk.org (Postfix) with ESMTP id 1D2CC461BF for ; Fri, 7 Feb 2025 20:51:47 +0100 (CET) Received: from mails.dpdk.org (localhost [127.0.0.1]) by mails.dpdk.org (Postfix) with ESMTP id 1A46E4029A; Fri, 7 Feb 2025 20:51:47 +0100 (CET) Received: from mail-io1-f100.google.com (mail-io1-f100.google.com [209.85.166.100]) by mails.dpdk.org (Postfix) with ESMTP id ED9714026C for ; Fri, 7 Feb 2025 20:51:37 +0100 (CET) Received: by mail-io1-f100.google.com with SMTP id ca18e2360f4ac-844e10ef3cfso185727039f.2 for ; Fri, 07 Feb 2025 11:51:37 -0800 (PST) DKIM-Signature: v=1; a=rsa-sha256; c=relaxed/relaxed; d=iol.unh.edu; s=unh-iol; t=1738957897; x=1739562697; darn=dpdk.org; h=references:in-reply-to:cc:to:from:subject:message-id:date:from:to :cc:subject:date:message-id:reply-to; bh=TRq0YB17Kfe+FCY+z2izfLro6/GjUGqyNikGXelkmdM=; b=a2jBMYT41YPLRx+bNOfWaTyWQu0FfVy303nTA8BET0j4IvCvju41hTKaa5v0xxTJoe sDk1qrXCawTFbGHo0/2yKliveBvrp/0SmAkNpY8mEag6AuuKBckWvPVBDaTzxfUJGGbx gPkbqDoAaprIYeJC6YLJX5VwY4VggUh40J4X8= X-Google-DKIM-Signature: v=1; a=rsa-sha256; c=relaxed/relaxed; d=1e100.net; s=20230601; t=1738957897; x=1739562697; h=references:in-reply-to:cc:to:from:subject:message-id:date :x-gm-message-state:from:to:cc:subject:date:message-id:reply-to; bh=TRq0YB17Kfe+FCY+z2izfLro6/GjUGqyNikGXelkmdM=; b=Tk2ISnPzJrSAIjeL6CeymVux7F8WQCWAYCFqk9pP9UwJo+ZzN7+ycEoo3Ugx6uEnGe 8oYoU7t9NLRbxsAILDSbvTS5c4ck8BsmmAcMpaMv76rIqP9nbyJsD/ICxBkvHHAlIYA+ qMEZas43gD4fAuTk+i2CWFqKGy6WE3njc+wS5LOVnVaSYI4WpjglBdorXmW/61P9IrRB 3WCssGNBs+D67pyUOJ1Ue6BdM0vAn0G2RKm0YJvyQ+vE0J5MmFU5LMzb+b5itPGBmtVY 6FEzr6L0H8F4vk2d4pV6GOqNO801zlsNxTADkXJy4sL1jkLzJ44L8Ct0us7VZwxwRER1 0DDg== X-Gm-Message-State: AOJu0YyA+X727ClJsjg/4gHyMVO9LpqfOxv7+oWYcPAYJpFZk9Tur0b3 Ru9FR+Wps/z8SeEmf3/Y8p1uqCYemVL0CP+fida7kbdf482i7SH7kmOHlxMjZXD2xFlltpZpwDt upytxum07S41DKlbJgRqmyTJ3zFlYXCmhIiAK7P0X X-Gm-Gg: ASbGncsiD9v8A5lYB1g0W8X5O7Na+9oPEdZQaBdD3cG/lG+FoLWlThs3rCTg0rlm/7/ GPwfVsqQMtMaNmrRNnHYU0CWXjwAFNxb4ZaY+JxIaAqTnVraYZc+x56O7mCmQedh9gO9hG+PF9M wob4Z5QCEDzDM+GOFWMvyHWfUbXOekufRBxsXtZn7uM95cOKi8QlLw2gFAPOyGsab9ptzp43D9z LP7lbAkBVB0rsuEIfHwBbbEptZJ/d2KzehQSIcQ2sykaND7bcux64L8TTX7BISkafpmcp8EO5Lb 1fSDF/9pdcHc2JQ+Z2mm+7uxmEPUbQ== X-Google-Smtp-Source: AGHT+IHfEUqXlqL8dItUMWYFAhP0SZalZbKgz23Pyp92JYTUdUJSG5nI3a+b6dacod3WR8sFBL0FqxOgTivj X-Received: by 2002:a05:6602:3791:b0:849:c82e:c084 with SMTP id ca18e2360f4ac-854fd8a32cdmr528309039f.6.1738957897262; Fri, 07 Feb 2025 11:51:37 -0800 (PST) Received: from postal.iol.unh.edu (postal.iol.unh.edu. [132.177.123.84]) by smtp-relay.gmail.com with ESMTPS id ca18e2360f4ac-854f67402c3sm24936739f.20.2025.02.07.11.51.37 (version=TLS1_2 cipher=ECDHE-ECDSA-AES128-GCM-SHA256 bits=128/128); Fri, 07 Feb 2025 11:51:37 -0800 (PST) X-Relaying-Domain: iol.unh.edu Date: Fri, 07 Feb 2025 11:51:37 -0800 (PST) Message-ID: <67a66449.050a0220.3bd18c.cd6eSMTPIN_ADDED_MISSING@mx.google.com> Received: from [172.21.0.14] (unknown [172.18.0.240]) by postal.iol.unh.edu (Postfix) with ESMTP id C88856052484; Fri, 7 Feb 2025 14:51:36 -0500 (EST) Subject: |SUCCESS| pw149509-149508 [PATCH] [3/3] net/hns3: rename RAS module From: dpdklab@iol.unh.edu To: Test Report Cc: dpdk-test-reports@iol.unh.edu In-Reply-To: <20241230065405.18552-4-haijie1@huawei.com> References: <20241230065405.18552-4-haijie1@huawei.com> Content-Type: text/plain X-BeenThere: test-report@dpdk.org X-Mailman-Version: 2.1.29 Precedence: list List-Id: automatic DPDK test reports List-Unsubscribe: , List-Archive: List-Post: List-Help: List-Subscribe: , Errors-To: test-report-bounces@dpdk.org Test-Label: iol-compile-amd64-testing Test-Status: SUCCESS http://dpdk.org/patch/149508 _Testing PASS_ Submitter: Jie Hai Date: Monday, December 30 2024 06:54:05 DPDK git baseline: Repo:dpdk Branch: master CommitID:94ad302b4ebba4a5b6706a1c43ea0505e5098169 149509-149508 --> testing pass Test environment and result as below: +---------------------+--------------------+------------------+-------------------+-------------------------+-------------------+----------------------+ | Environment | dpdk_meson_compile | dpdk_compile_ovs | dpdk_compile_spdk | dpdk_llvm_clang_compile | dpdk_msvc_compile | dpdk_mingw64_compile | +=====================+====================+==================+===================+=========================+===================+======================+ | CentOS Stream 9 | PASS | PASS | PASS | SKIPPED | SKIPPED | SKIPPED | +---------------------+--------------------+------------------+-------------------+-------------------------+-------------------+----------------------+ | Debian Bullseye | PASS | PASS | PASS | SKIPPED | SKIPPED | SKIPPED | +---------------------+--------------------+------------------+-------------------+-------------------------+-------------------+----------------------+ | Debian 12 | PASS | PASS | PASS | SKIPPED | SKIPPED | SKIPPED | +---------------------+--------------------+------------------+-------------------+-------------------------+-------------------+----------------------+ | Fedora 40 | PASS | PASS | PASS | SKIPPED | SKIPPED | SKIPPED | +---------------------+--------------------+------------------+-------------------+-------------------------+-------------------+----------------------+ | Fedora 40 (Clang) | PASS | PASS | PASS | SKIPPED | SKIPPED | SKIPPED | +---------------------+--------------------+------------------+-------------------+-------------------------+-------------------+----------------------+ | Fedora 41 | PASS | PASS | PASS | SKIPPED | SKIPPED | SKIPPED | +---------------------+--------------------+------------------+-------------------+-------------------------+-------------------+----------------------+ | Fedora 41 (Clang) | PASS | PASS | PASS | SKIPPED | SKIPPED | SKIPPED | +---------------------+--------------------+------------------+-------------------+-------------------------+-------------------+----------------------+ | openSUSE Leap 15 | PASS | SKIPPED | SKIPPED | SKIPPED | SKIPPED | SKIPPED | +---------------------+--------------------+------------------+-------------------+-------------------------+-------------------+----------------------+ | Ubuntu 20.04 | PASS | SKIPPED | SKIPPED | SKIPPED | SKIPPED | SKIPPED | +---------------------+--------------------+------------------+-------------------+-------------------------+-------------------+----------------------+ | Ubuntu 24.04 | PASS | PASS | PASS | SKIPPED | SKIPPED | SKIPPED | +---------------------+--------------------+------------------+-------------------+-------------------------+-------------------+----------------------+ | RHEL8 | PASS | PASS | SKIPPED | SKIPPED | SKIPPED | SKIPPED | +---------------------+--------------------+------------------+-------------------+-------------------------+-------------------+----------------------+ | Alpine | PASS | PASS | SKIPPED | SKIPPED | SKIPPED | SKIPPED | +---------------------+--------------------+------------------+-------------------+-------------------------+-------------------+----------------------+ | FreeBSD 13.4 | PASS | SKIPPED | SKIPPED | SKIPPED | SKIPPED | SKIPPED | +---------------------+--------------------+------------------+-------------------+-------------------------+-------------------+----------------------+ | FreeBSD 14.2 | PASS | SKIPPED | SKIPPED | SKIPPED | SKIPPED | SKIPPED | +---------------------+--------------------+------------------+-------------------+-------------------------+-------------------+----------------------+ | RHEL9 | PASS | PASS | SKIPPED | SKIPPED | SKIPPED | SKIPPED | +---------------------+--------------------+------------------+-------------------+-------------------------+-------------------+----------------------+ | Ubuntu 22.04 | PASS | PASS | PASS | SKIPPED | SKIPPED | SKIPPED | +---------------------+--------------------+------------------+-------------------+-------------------------+-------------------+----------------------+ | Windows Server 2022 | SKIPPED | SKIPPED | SKIPPED | PASS | PASS | PASS | +---------------------+--------------------+------------------+-------------------+-------------------------+-------------------+----------------------+ CentOS Stream 9 Kernel: Depends on container host Compiler: gcc 11.5.0 20240719 (Red Hat 11.5.0-2) Debian Bullseye Kernel: Depends on container host Compiler: gcc (Debian 10.2.1-6) 10.2.1 20210110 Debian 12 Kernel: Depends on container host Compiler: gcc (Debian 12.2.0-14) 12.2.0 Fedora 40 Kernel: Depends on container host Compiler: gcc 14.2.1 20240912 (Red Hat 14.2.1-3) Fedora 40 (Clang) Kernel: Depends on container host Compiler: clang 18.1.8 (Fedora 18.1.8-1.fc40) Fedora 41 Kernel: Depends on container host Compiler: gcc 14.2.1 20240912 (Red Hat 14.2.1-3) Fedora 41 (Clang) Kernel: Depends on container host Compiler: clang 19.1.5 (Fedora 19.1.5-1.fc41) openSUSE Leap 15 Kernel: Depends on container host Compiler: gcc (SUSE Linux) 7.5.0 Ubuntu 20.04 Kernel: Depends on container host Compiler: gcc (Ubuntu 9.4.0-1ubuntu1~20.04.2) 9.4.0 Ubuntu 24.04 Kernel: Depends on container host Compiler: gcc (Ubuntu 13.3.0-6ubuntu2~24.04) 13.3.0 RHEL8 Kernel: Depends on container host Compiler: gcc 8.5.0 20210514 (Red Hat 8.5.0-22) Alpine Kernel: Depends on container host Compiler: gcc (Alpine 14.2.0) 14.2.0 FreeBSD 13.4 Kernel: 13.4-RELEASE-p1 Compiler: clang 18.1.6 FreeBSD 14.2 Kernel: 14.2-RELEASE Compiler: clang 18.1.6 RHEL9 Kernel: Depends on container host Compiler: gcc 11.5.0 20240719 (Red Hat 11.5.0-2) Ubuntu 22.04 Kernel: Depends on container host Compiler: gcc (Ubuntu 11.4.0-1ubuntu1~22.04) 11.4.0 Windows Server 2022 Kernel: 10.0.20348.2031 Compiler: clang 15.0.7, gcc 14.1.0 (MinGW), and MSVC VS 19.39.33521 To view detailed results, visit: https://lab.dpdk.org/results/dashboard/patchsets/32224/ UNH-IOL DPDK Community Lab To manage your email subscriptions, visit: https://lab.dpdk.org/results/dashboard/preferences/subscriptions/