From mboxrd@z Thu Jan 1 00:00:00 1970 Return-Path: Received: from mails.dpdk.org (mails.dpdk.org [217.70.189.124]) by inbox.dpdk.org (Postfix) with ESMTP id 32273461BF for ; Fri, 7 Feb 2025 20:52:02 +0100 (CET) Received: from mails.dpdk.org (localhost [127.0.0.1]) by mails.dpdk.org (Postfix) with ESMTP id 2EFBB4029A; Fri, 7 Feb 2025 20:52:02 +0100 (CET) Received: from mail-yw1-f226.google.com (mail-yw1-f226.google.com [209.85.128.226]) by mails.dpdk.org (Postfix) with ESMTP id 724B44026C for ; Fri, 7 Feb 2025 20:52:00 +0100 (CET) Received: by mail-yw1-f226.google.com with SMTP id 00721157ae682-6ef60e500d7so19975547b3.0 for ; Fri, 07 Feb 2025 11:52:00 -0800 (PST) DKIM-Signature: v=1; a=rsa-sha256; c=relaxed/relaxed; d=iol.unh.edu; s=unh-iol; t=1738957920; x=1739562720; darn=dpdk.org; h=cc:to:from:subject:message-id:date:from:to:cc:subject:date :message-id:reply-to; bh=o2pF+D/TGe73NXJULX7y409NNOF4W7Y+7SFQkQK5lBc=; b=U+23NKtOa6ILgz+0pd6jp/9iTati2ceBYQaccA6ORBeb3tI9kczRPmVGurHYLmBJuB QrY9RIRmmcIlBedTxjyOS16EC+JjL/lIBFSTnZlxGz2jwRpM8Vg91LbZsSlMD/rN0Dq3 3kTSKl2dcZRFpJNVYQBTXA7fP38/dcXeJmWSQ= X-Google-DKIM-Signature: v=1; a=rsa-sha256; c=relaxed/relaxed; d=1e100.net; s=20230601; t=1738957920; x=1739562720; h=cc:to:from:subject:message-id:date:x-gm-message-state:from:to:cc :subject:date:message-id:reply-to; bh=o2pF+D/TGe73NXJULX7y409NNOF4W7Y+7SFQkQK5lBc=; b=cVv2lpmqrDV56Yxh4PgCcXCLgjBNJAGptGUIBtRHUKbc6IrT/1ufvkKVYZsRj2xC8a rISpHMCmBIj47Ui+Clip97FsdGToOhHI9QMYoyzkl1GRF2Wqq+ZVg9C8q75bJsQ3EQIg PeeHzf6IuafsEQzIXhlSL1E/Yt6ZprQiYSvt1kPntQQ27wMyYy+8nMccuyCBcIB217Nm K1kOZ031lkCdY+MF/nunonk/P+ustzYwEMTOm0rAkUxafxxOY9LT5L3m37M2Cf9H0Apt AC2o30jD94ZS27qFOS8KPN2vIfKi/olkYiOcSWv0wb3OuUffgJHwtTw4dE8XIr+UTqzw GwCg== X-Gm-Message-State: AOJu0Yx/D6YBpkJHm3OOn4AmNiIxLaSosa63cXhc27vbKAY8pviSYb3M Ej+Pt4LDJCkOD+ZoLMfSzfRoALgIyhambKLzVQGkAJwAKAodUTI1nAk6N/ogIwVpTuk4fJPkbNo TX1Yn+2AdCtiTmWGfzFeEJAiC2aVlzHXW X-Gm-Gg: ASbGnct8hlGojl/TaWiqV4iiNQJ7FVKOtrHLQrPcCuDjaT/6RUC9UGB2ETvbV5DWWWu 36sbnMc1PsTZLAEfSvfQjR7YawTFf+RzzmiZvuCJ4i0qHM6U0y4x6DKVfN3QuP/+SG44UfvTw5U /3yG8AK/fsywOjPDqqHRwItXu5jj3XZm6VNTfc4V5HiSW3OxedmJxXVk9gXGuPsRx+zCTEvOKdi mhIh/bOuzcelXShMgmK9ihYWGpH3+rWUFe3v7l1pHqBzgUc1EWyQFAp6BrRXDwg8llFRQiz0omV UsyO32jRzqAIXoCA7CuJowfgZUGOuw== X-Google-Smtp-Source: AGHT+IHT2lzo1Fv2oBXMVeZUjqjHlMaH8y0RiSutrnfKNOpCRcw79nkETxWHHj7RUN22UnjeSjQphXu8YR8g X-Received: by 2002:a05:690c:4c04:b0:6ef:8c41:defc with SMTP id 00721157ae682-6f9b284bc95mr48185857b3.11.1738957919862; Fri, 07 Feb 2025 11:51:59 -0800 (PST) Received: from postal.iol.unh.edu (postal.iol.unh.edu. [132.177.123.84]) by smtp-relay.gmail.com with ESMTPS id 00721157ae682-6f99ff947a4sm553587b3.47.2025.02.07.11.51.59 (version=TLS1_2 cipher=ECDHE-ECDSA-AES128-GCM-SHA256 bits=128/128); Fri, 07 Feb 2025 11:51:59 -0800 (PST) X-Relaying-Domain: iol.unh.edu Date: Fri, 07 Feb 2025 11:51:59 -0800 (PST) Message-ID: <67a6645f.050a0220.abf35.2a24SMTPIN_ADDED_MISSING@mx.google.com> Received: from [172.21.0.10] (unknown [172.18.0.240]) by postal.iol.unh.edu (Postfix) with ESMTP id 795336052471; Fri, 7 Feb 2025 14:51:29 -0500 (EST) Subject: |SUCCESS| [GIT MASTER] f2eea2f37a82bb73fb01d56350708f7d70e21379 From: dpdklab@iol.unh.edu To: Test Report Cc: dpdk-test-reports@iol.unh.edu, Xueming Li , Christian Ehrhardt , Kevin Traynor , Luca Boccassi Content-Type: text/plain X-BeenThere: test-report@dpdk.org X-Mailman-Version: 2.1.29 Precedence: list List-Id: automatic DPDK test reports List-Unsubscribe: , List-Archive: List-Post: List-Help: List-Subscribe: , Errors-To: test-report-bounces@dpdk.org _Testing PASS_ Branch: tags/v24.11 f2eea2f37a82bb73fb01d56350708f7d70e21379 --> testing pass Test environment and result as below: +---------------------+--------------------+------------------+-------------------+-------------------------+-------------------+----------------------+ | Environment | dpdk_meson_compile | dpdk_compile_ovs | dpdk_compile_spdk | dpdk_llvm_clang_compile | dpdk_msvc_compile | dpdk_mingw64_compile | +=====================+====================+==================+===================+=========================+===================+======================+ | Fedora 40 | PASS | PASS | PASS | SKIPPED | SKIPPED | SKIPPED | +---------------------+--------------------+------------------+-------------------+-------------------------+-------------------+----------------------+ | Debian Bullseye | PASS | PASS | PASS | SKIPPED | SKIPPED | SKIPPED | +---------------------+--------------------+------------------+-------------------+-------------------------+-------------------+----------------------+ | Fedora 41 (Clang) | PASS | PASS | PASS | SKIPPED | SKIPPED | SKIPPED | +---------------------+--------------------+------------------+-------------------+-------------------------+-------------------+----------------------+ | CentOS Stream 9 | PASS | PASS | PASS | SKIPPED | SKIPPED | SKIPPED | +---------------------+--------------------+------------------+-------------------+-------------------------+-------------------+----------------------+ | openSUSE Leap 15 | PASS | SKIPPED | SKIPPED | SKIPPED | SKIPPED | SKIPPED | +---------------------+--------------------+------------------+-------------------+-------------------------+-------------------+----------------------+ | Fedora 40 (Clang) | PASS | PASS | PASS | SKIPPED | SKIPPED | SKIPPED | +---------------------+--------------------+------------------+-------------------+-------------------------+-------------------+----------------------+ | Ubuntu 22.04 | PASS | PASS | PASS | SKIPPED | SKIPPED | SKIPPED | +---------------------+--------------------+------------------+-------------------+-------------------------+-------------------+----------------------+ | RHEL8 | PASS | PASS | SKIPPED | SKIPPED | SKIPPED | SKIPPED | +---------------------+--------------------+------------------+-------------------+-------------------------+-------------------+----------------------+ | Ubuntu 20.04 | PASS | SKIPPED | SKIPPED | SKIPPED | SKIPPED | SKIPPED | +---------------------+--------------------+------------------+-------------------+-------------------------+-------------------+----------------------+ | Fedora 41 | PASS | PASS | PASS | SKIPPED | SKIPPED | SKIPPED | +---------------------+--------------------+------------------+-------------------+-------------------------+-------------------+----------------------+ | RHEL9 | PASS | PASS | SKIPPED | SKIPPED | SKIPPED | SKIPPED | +---------------------+--------------------+------------------+-------------------+-------------------------+-------------------+----------------------+ | Ubuntu 24.04 | PASS | PASS | PASS | SKIPPED | SKIPPED | SKIPPED | +---------------------+--------------------+------------------+-------------------+-------------------------+-------------------+----------------------+ | Alpine | PASS | PASS | SKIPPED | SKIPPED | SKIPPED | SKIPPED | +---------------------+--------------------+------------------+-------------------+-------------------------+-------------------+----------------------+ | FreeBSD 13.4 | PASS | SKIPPED | SKIPPED | SKIPPED | SKIPPED | SKIPPED | +---------------------+--------------------+------------------+-------------------+-------------------------+-------------------+----------------------+ | FreeBSD 14.2 | PASS | SKIPPED | SKIPPED | SKIPPED | SKIPPED | SKIPPED | +---------------------+--------------------+------------------+-------------------+-------------------------+-------------------+----------------------+ | Windows Server 2022 | SKIPPED | SKIPPED | SKIPPED | PASS | PASS | PASS | +---------------------+--------------------+------------------+-------------------+-------------------------+-------------------+----------------------+ Fedora 40 Kernel: Depends on container host Compiler: gcc 14.2.1 20240912 (Red Hat 14.2.1-3) Debian Bullseye Kernel: Depends on container host Compiler: gcc (Debian 10.2.1-6) 10.2.1 20210110 Fedora 41 (Clang) Kernel: Depends on container host Compiler: clang 19.1.5 (Fedora 19.1.5-1.fc41) CentOS Stream 9 Kernel: Depends on container host Compiler: gcc 11.5.0 20240719 (Red Hat 11.5.0-2) openSUSE Leap 15 Kernel: Depends on container host Compiler: gcc (SUSE Linux) 7.5.0 Fedora 40 (Clang) Kernel: Depends on container host Compiler: clang 18.1.8 (Fedora 18.1.8-1.fc40) Ubuntu 22.04 Kernel: Depends on container host Compiler: gcc (Ubuntu 11.4.0-1ubuntu1~22.04) 11.4.0 RHEL8 Kernel: Depends on container host Compiler: gcc 8.5.0 20210514 (Red Hat 8.5.0-22) Ubuntu 20.04 Kernel: Depends on container host Compiler: gcc (Ubuntu 9.4.0-1ubuntu1~20.04.2) 9.4.0 Fedora 41 Kernel: Depends on container host Compiler: gcc 14.2.1 20240912 (Red Hat 14.2.1-3) RHEL9 Kernel: Depends on container host Compiler: gcc 11.5.0 20240719 (Red Hat 11.5.0-2) Ubuntu 24.04 Kernel: Depends on container host Compiler: gcc (Ubuntu 13.3.0-6ubuntu2~24.04) 13.3.0 Alpine Kernel: Depends on container host Compiler: gcc (Alpine 14.2.0) 14.2.0 FreeBSD 13.4 Kernel: 13.4-RELEASE-p1 Compiler: clang 18.1.6 FreeBSD 14.2 Kernel: 14.2-RELEASE Compiler: clang 18.1.6 Windows Server 2022 Kernel: 10.0.20348.2031 Compiler: clang 15.0.7, gcc 14.1.0 (MinGW), and MSVC VS 19.39.33521 To view detailed results, visit: https://lab.dpdk.org/results/dashboard/tarballs/32080/ UNH-IOL DPDK Community Lab To manage your email subscriptions, visit: https://lab.dpdk.org/results/dashboard/preferences/subscriptions/