From mboxrd@z Thu Jan 1 00:00:00 1970 Return-Path: Received: from mails.dpdk.org (mails.dpdk.org [217.70.189.124]) by inbox.dpdk.org (Postfix) with ESMTP id 3CE1A461BF for ; Fri, 7 Feb 2025 20:52:06 +0100 (CET) Received: from mails.dpdk.org (localhost [127.0.0.1]) by mails.dpdk.org (Postfix) with ESMTP id 3A7274029A; Fri, 7 Feb 2025 20:52:06 +0100 (CET) Received: from mail-qt1-f225.google.com (mail-qt1-f225.google.com [209.85.160.225]) by mails.dpdk.org (Postfix) with ESMTP id 1937A4026C for ; Fri, 7 Feb 2025 20:52:04 +0100 (CET) Received: by mail-qt1-f225.google.com with SMTP id d75a77b69052e-46c8474d8daso19143681cf.3 for ; Fri, 07 Feb 2025 11:52:04 -0800 (PST) DKIM-Signature: v=1; a=rsa-sha256; c=relaxed/relaxed; d=iol.unh.edu; s=unh-iol; t=1738957923; x=1739562723; darn=dpdk.org; h=references:in-reply-to:cc:to:from:subject:message-id:date:from:to :cc:subject:date:message-id:reply-to; bh=7Ujnjweu6XxvQJ+jKmZvkACYviZqry33vhKrUde21qM=; b=Op8bHtrSrqmNveGrqqIZsNH8CUOrG3jNQzjaVCUsPoY0i8eDSE6ujLd60Q0rYscOCV Q8LB3hYKK40KFv0DVPyi58wP3/M2aVqHnI0LlvJBhW2aWBM1JDfydo5j5IvnVia5je7p fr/8qPGA+gbwX9cX608SK5t9zus02ELXLNVY8= X-Google-DKIM-Signature: v=1; a=rsa-sha256; c=relaxed/relaxed; d=1e100.net; s=20230601; t=1738957923; x=1739562723; h=references:in-reply-to:cc:to:from:subject:message-id:date :x-gm-message-state:from:to:cc:subject:date:message-id:reply-to; bh=7Ujnjweu6XxvQJ+jKmZvkACYviZqry33vhKrUde21qM=; b=M5FPVu4eSOWAg+bWYViTzYwEncf4LVWquRYm0hVyhKSkZKyWhE7Bv1uy3kUgTTQV1i J5yViTKGdxilCpz3fqAYh53vchzZrCbVwc6+gR3kc9P07fx34KZg6XsByyIU1iO09A7O /qEt35/FYbiEwKRuTYsywJkc3+RpVgtbfmF0PlgvdOp4mB326bTalCj4peOTXCu7+bSe mZTBnsmaFIuusR5PogL5SZk4n4T6nxwa9UPdFij0RB26tsQpS2NQY0DnBGDMfUTN7vZA C+c65KV63TiGpDBHMnHCRp7MuyjVRKcGu9VCqQFeWXQ0xIik6I/fa7zX+PlQWiqao75J 8ZXg== X-Gm-Message-State: AOJu0YyFi6UTiJfWTtayvggP9E4widX7miZMOCOByXqyadMHbN2u5flo Z3VtZ322Hhu7B7WSqI7erLjiSx51Cz2YlbPNzfwd/VK4Vx3HXFOwQPQUPAg22VcFYIxu8YvPOYe nQXj6a5eWjmqU/eP98GhnJG9dNt+jzeB2q+i066TQ X-Gm-Gg: ASbGncs21PxQRPhdHFbiE0AmogOIOSSMFTMRccc6QpOGjX9kV9YHN9263XzLGNKaI+f 4gT2flKC/zoyfNLc51BKm/Ad0sAZhdwXhtYiRDxK1q/BAmt942zr2Wuk4iX71kLwccxsDkMZ4rs MZ8fq7WREEQBZVI2euk9pPMNIm1S8R2dLUgQxUo0PQTaXLc5Cr3aTjKEgM2Rgrn4xrD6ebNvG2x TIADijkualj4w0XmrYWxFnkCxJFCAEgzx6mAEXLJ37yjZzfYBSY9SsbvfZNAztcX5C8x1gz0XLa M6pNUgnga5i7w1XgNophkXcFSmcpig== X-Google-Smtp-Source: AGHT+IHTLfopJS7zpPFiXFLm0CZagpLaCB9YXWyqrUwvI8EPtnVbptDVtrwGRDZlhkS+BZ/s70YiXsNR/hAt X-Received: by 2002:a05:622a:cd:b0:46c:791f:bf4e with SMTP id d75a77b69052e-471679ea706mr60678771cf.12.1738957923480; Fri, 07 Feb 2025 11:52:03 -0800 (PST) Received: from postal.iol.unh.edu (postal.iol.unh.edu. [132.177.123.84]) by smtp-relay.gmail.com with ESMTPS id d75a77b69052e-4714928d27csm2075211cf.6.2025.02.07.11.52.03 (version=TLS1_2 cipher=ECDHE-ECDSA-AES128-GCM-SHA256 bits=128/128); Fri, 07 Feb 2025 11:52:03 -0800 (PST) X-Relaying-Domain: iol.unh.edu Date: Fri, 07 Feb 2025 11:52:03 -0800 (PST) Message-ID: <67a66463.050a0220.2b65e3.a806SMTPIN_ADDED_MISSING@mx.google.com> Received: from [172.21.0.7] (unknown [172.18.0.240]) by postal.iol.unh.edu (Postfix) with ESMTP id 3B7236052477; Fri, 7 Feb 2025 14:51:33 -0500 (EST) Subject: |SUCCESS| pw149518-149519 [PATCH] [v2,2/2] dts: add softnic test From: dpdklab@iol.unh.edu To: Test Report Cc: dpdk-test-reports@iol.unh.edu In-Reply-To: <20241231113116.1510537-2-paul.szczepanek@arm.com> References: <20241231113116.1510537-2-paul.szczepanek@arm.com> Content-Type: text/plain X-BeenThere: test-report@dpdk.org X-Mailman-Version: 2.1.29 Precedence: list List-Id: automatic DPDK test reports List-Unsubscribe: , List-Archive: List-Post: List-Help: List-Subscribe: , Errors-To: test-report-bounces@dpdk.org Test-Label: iol-compile-amd64-testing Test-Status: SUCCESS http://dpdk.org/patch/149519 _Testing PASS_ Submitter: Paul Szczepanek Date: Tuesday, December 31 2024 11:31:16 DPDK git baseline: Repo:dpdk Branch: master CommitID:fd51012de5369679e807be1d6a81d63ef15015ce 149518-149519 --> testing pass Test environment and result as below: +---------------------+--------------------+------------------+-------------------+-------------------+-------------------------+----------------------+ | Environment | dpdk_meson_compile | dpdk_compile_ovs | dpdk_compile_spdk | dpdk_msvc_compile | dpdk_llvm_clang_compile | dpdk_mingw64_compile | +=====================+====================+==================+===================+===================+=========================+======================+ | CentOS Stream 9 | PASS | PASS | PASS | SKIPPED | SKIPPED | SKIPPED | +---------------------+--------------------+------------------+-------------------+-------------------+-------------------------+----------------------+ | Debian Bullseye | PASS | PASS | PASS | SKIPPED | SKIPPED | SKIPPED | +---------------------+--------------------+------------------+-------------------+-------------------+-------------------------+----------------------+ | Debian 12 | PASS | PASS | PASS | SKIPPED | SKIPPED | SKIPPED | +---------------------+--------------------+------------------+-------------------+-------------------+-------------------------+----------------------+ | Fedora 40 (Clang) | PASS | PASS | PASS | SKIPPED | SKIPPED | SKIPPED | +---------------------+--------------------+------------------+-------------------+-------------------+-------------------------+----------------------+ | Fedora 41 (Clang) | PASS | PASS | PASS | SKIPPED | SKIPPED | SKIPPED | +---------------------+--------------------+------------------+-------------------+-------------------+-------------------------+----------------------+ | Fedora 40 | PASS | PASS | PASS | SKIPPED | SKIPPED | SKIPPED | +---------------------+--------------------+------------------+-------------------+-------------------+-------------------------+----------------------+ | RHEL8 | PASS | PASS | SKIPPED | SKIPPED | SKIPPED | SKIPPED | +---------------------+--------------------+------------------+-------------------+-------------------+-------------------------+----------------------+ | Fedora 41 | PASS | PASS | PASS | SKIPPED | SKIPPED | SKIPPED | +---------------------+--------------------+------------------+-------------------+-------------------+-------------------------+----------------------+ | openSUSE Leap 15 | PASS | SKIPPED | SKIPPED | SKIPPED | SKIPPED | SKIPPED | +---------------------+--------------------+------------------+-------------------+-------------------+-------------------------+----------------------+ | RHEL9 | PASS | PASS | SKIPPED | SKIPPED | SKIPPED | SKIPPED | +---------------------+--------------------+------------------+-------------------+-------------------+-------------------------+----------------------+ | Ubuntu 20.04 | PASS | SKIPPED | SKIPPED | SKIPPED | SKIPPED | SKIPPED | +---------------------+--------------------+------------------+-------------------+-------------------+-------------------------+----------------------+ | Ubuntu 24.04 | PASS | PASS | PASS | SKIPPED | SKIPPED | SKIPPED | +---------------------+--------------------+------------------+-------------------+-------------------+-------------------------+----------------------+ | Alpine | PASS | PASS | SKIPPED | SKIPPED | SKIPPED | SKIPPED | +---------------------+--------------------+------------------+-------------------+-------------------+-------------------------+----------------------+ | FreeBSD 13.4 | PASS | SKIPPED | SKIPPED | SKIPPED | SKIPPED | SKIPPED | +---------------------+--------------------+------------------+-------------------+-------------------+-------------------------+----------------------+ | FreeBSD 14.2 | PASS | SKIPPED | SKIPPED | SKIPPED | SKIPPED | SKIPPED | +---------------------+--------------------+------------------+-------------------+-------------------+-------------------------+----------------------+ | Ubuntu 22.04 | PASS | PASS | PASS | SKIPPED | SKIPPED | SKIPPED | +---------------------+--------------------+------------------+-------------------+-------------------+-------------------------+----------------------+ | Windows Server 2022 | SKIPPED | SKIPPED | SKIPPED | PASS | PASS | PASS | +---------------------+--------------------+------------------+-------------------+-------------------+-------------------------+----------------------+ CentOS Stream 9 Kernel: Depends on container host Compiler: gcc 11.5.0 20240719 (Red Hat 11.5.0-2) Debian Bullseye Kernel: Depends on container host Compiler: gcc (Debian 10.2.1-6) 10.2.1 20210110 Debian 12 Kernel: Depends on container host Compiler: gcc (Debian 12.2.0-14) 12.2.0 Fedora 40 (Clang) Kernel: Depends on container host Compiler: clang 18.1.8 (Fedora 18.1.8-1.fc40) Fedora 41 (Clang) Kernel: Depends on container host Compiler: clang 19.1.5 (Fedora 19.1.5-1.fc41) Fedora 40 Kernel: Depends on container host Compiler: gcc 14.2.1 20240912 (Red Hat 14.2.1-3) RHEL8 Kernel: Depends on container host Compiler: gcc 8.5.0 20210514 (Red Hat 8.5.0-22) Fedora 41 Kernel: Depends on container host Compiler: gcc 14.2.1 20240912 (Red Hat 14.2.1-3) openSUSE Leap 15 Kernel: Depends on container host Compiler: gcc (SUSE Linux) 7.5.0 RHEL9 Kernel: Depends on container host Compiler: gcc 11.5.0 20240719 (Red Hat 11.5.0-2) Ubuntu 20.04 Kernel: Depends on container host Compiler: gcc (Ubuntu 9.4.0-1ubuntu1~20.04.2) 9.4.0 Ubuntu 24.04 Kernel: Depends on container host Compiler: gcc (Ubuntu 13.3.0-6ubuntu2~24.04) 13.3.0 Alpine Kernel: Depends on container host Compiler: gcc (Alpine 14.2.0) 14.2.0 FreeBSD 13.4 Kernel: 13.4-RELEASE-p1 Compiler: clang 18.1.6 FreeBSD 14.2 Kernel: 14.2-RELEASE Compiler: clang 18.1.6 Ubuntu 22.04 Kernel: Depends on container host Compiler: gcc (Ubuntu 11.4.0-1ubuntu1~22.04) 11.4.0 Windows Server 2022 Kernel: 10.0.20348.2031 Compiler: clang 15.0.7, gcc 14.1.0 (MinGW), and MSVC VS 19.39.33521 To view detailed results, visit: https://lab.dpdk.org/results/dashboard/patchsets/32229/ UNH-IOL DPDK Community Lab To manage your email subscriptions, visit: https://lab.dpdk.org/results/dashboard/preferences/subscriptions/