From mboxrd@z Thu Jan 1 00:00:00 1970 Return-Path: Received: from mails.dpdk.org (mails.dpdk.org [217.70.189.124]) by inbox.dpdk.org (Postfix) with ESMTP id 4E1BF461BF for ; Fri, 7 Feb 2025 20:52:09 +0100 (CET) Received: from mails.dpdk.org (localhost [127.0.0.1]) by mails.dpdk.org (Postfix) with ESMTP id 4B0504029A; Fri, 7 Feb 2025 20:52:09 +0100 (CET) Received: from mail-pj1-f100.google.com (mail-pj1-f100.google.com [209.85.216.100]) by mails.dpdk.org (Postfix) with ESMTP id 433744026C for ; Fri, 7 Feb 2025 20:52:08 +0100 (CET) Received: by mail-pj1-f100.google.com with SMTP id 98e67ed59e1d1-2efe25558ddso3522054a91.2 for ; Fri, 07 Feb 2025 11:52:08 -0800 (PST) DKIM-Signature: v=1; a=rsa-sha256; c=relaxed/relaxed; d=iol.unh.edu; s=unh-iol; t=1738957927; x=1739562727; darn=dpdk.org; h=references:in-reply-to:cc:to:from:subject:message-id:date:from:to :cc:subject:date:message-id:reply-to; bh=4U6UJEz4LLLum3C5LAVAUm5yYVLrkEQpAD/1a8NZc4w=; b=A231VK1IXy6SxGEs30kUCy5/AfIdQjVaSBlX+Yx/C3K8kPblyw7OLZdPD1x6YZfuSl v/PYlq34UZ2kzUD8dVM1QPx/BAnbOuYfxq4EuJhHnGF63WtSSqYbQvXKFr9V7OB0g0ty uKtjZ507AfbJghiy35Ayod4mvAJ5dbumEqoGw= X-Google-DKIM-Signature: v=1; a=rsa-sha256; c=relaxed/relaxed; d=1e100.net; s=20230601; t=1738957927; x=1739562727; h=references:in-reply-to:cc:to:from:subject:message-id:date :x-gm-message-state:from:to:cc:subject:date:message-id:reply-to; bh=4U6UJEz4LLLum3C5LAVAUm5yYVLrkEQpAD/1a8NZc4w=; b=iHK5mXbWKASZmSijQWqhidtafKa2cZlxoH6uTVhlK39D5vNDvC8KN9MBY8ZTyIIQ3N ycVKHsvHgEbdLnc6DUvk02Iz3KQ2ZQkw8GiOJPYGvNnQmKXUrKNpI/8rTrkEj8UtMQOb W24vqiby4sZOuG2tElNorN/jSOKt36ZHq01gOXs75nLOXf+RF8n7nwJfVLsHm3/4CwpP OaYZaud8PyRNdje7qvhpJKZQIed/zncKNVld1IJAe5DCM8WotqchQyGP96ptvTIgI2J0 xgW+zICqULIQvWnJnNIe8BNRytdyzIZBcAZV1IchG9R+AXnhcVFltTA9bOVi4HOCgTB5 WX+w== X-Gm-Message-State: AOJu0YxQsigz8VsLqa+8aEiQc3rmSPcrzOVS8uSuKBcyvhfkwrEbTj8o uoMgnEYKivqdtP8JEZYkI6IENad3l6AhV8Yu49TZTx8dReHbBae+cpDdTOSr3/gqAGH5eShYnGb XGhUrh34+o1fQrlflxUDDpgbRLNpIz5MTmtpcs7DJ X-Gm-Gg: ASbGncu4pzWQfk+uS1KThjHsIPtpyzaOYjh5wbyjJyVp54tnOLbUvioEJ8j5RQyI3xx 1EmlQC+QLFFek/8ilqeZX4IIelHBBfoxzjQLiuBWtINt7LsgG0/ivGkyqLmUCPHCVk8jviknsqW PDypio6A81iY+heh984l4E0e5okBN0M1rkOIlQpypTpb3dGQ7QsEChfr5fYquWMoRH2UM6uPaTE 4Ij4AEp0CflUU29zDTqRLI1oSgVOgjvV6/y1SyXJUh3PL6s7LOYzWrnuJUIm3AZgKXOtKcLB6PB h9QzKxjrJyYeYSsvMUR+htIO+Ew0LA== X-Google-Smtp-Source: AGHT+IFMWY4CkbYchD7IH+E6beQQGWwxQfUzDAOEbXOXmrziMzhpCRfjL/87zn46nUTE7Gw4tpCBnXC0KS3c X-Received: by 2002:a17:90b:3e8a:b0:2ee:d96a:5816 with SMTP id 98e67ed59e1d1-2fa24062e1fmr6999256a91.10.1738957927358; Fri, 07 Feb 2025 11:52:07 -0800 (PST) Received: from postal.iol.unh.edu (postal.iol.unh.edu. [132.177.123.84]) by smtp-relay.gmail.com with ESMTPS id 98e67ed59e1d1-2f9e1d7ba30sm480822a91.6.2025.02.07.11.52.07 (version=TLS1_2 cipher=ECDHE-ECDSA-AES128-GCM-SHA256 bits=128/128); Fri, 07 Feb 2025 11:52:07 -0800 (PST) X-Relaying-Domain: iol.unh.edu Date: Fri, 07 Feb 2025 11:52:07 -0800 (PST) Message-ID: <67a66467.170a0220.2262cc.7e8fSMTPIN_ADDED_MISSING@mx.google.com> Received: from [172.21.0.19] (unknown [172.18.0.240]) by postal.iol.unh.edu (Postfix) with ESMTP id 89D266052483; Fri, 7 Feb 2025 14:51:36 -0500 (EST) Subject: |SUCCESS| pw149504 [PATCH] [v2] drivers/net: use intrinsic to access From: dpdklab@iol.unh.edu To: Test Report Cc: dpdk-test-reports@iol.unh.edu In-Reply-To: <1735348983-19590-1-git-send-email-andremue@linux.microsoft.com> References: <1735348983-19590-1-git-send-email-andremue@linux.microsoft.com> Content-Type: text/plain X-BeenThere: test-report@dpdk.org X-Mailman-Version: 2.1.29 Precedence: list List-Id: automatic DPDK test reports List-Unsubscribe: , List-Archive: List-Post: List-Help: List-Subscribe: , Errors-To: test-report-bounces@dpdk.org Test-Label: iol-compile-amd64-testing Test-Status: SUCCESS http://dpdk.org/patch/149504 _Testing PASS_ Submitter: Andre Muezerie Date: Saturday, December 28 2024 01:23:03 DPDK git baseline: Repo:dpdk Branch: master CommitID:fd51012de5369679e807be1d6a81d63ef15015ce 149504 --> testing pass Test environment and result as below: +---------------------+--------------------+------------------+-------------------+-------------------+-------------------------+----------------------+ | Environment | dpdk_meson_compile | dpdk_compile_ovs | dpdk_compile_spdk | dpdk_msvc_compile | dpdk_llvm_clang_compile | dpdk_mingw64_compile | +=====================+====================+==================+===================+===================+=========================+======================+ | CentOS Stream 9 | PASS | PASS | PASS | SKIPPED | SKIPPED | SKIPPED | +---------------------+--------------------+------------------+-------------------+-------------------+-------------------------+----------------------+ | Debian 12 | PASS | PASS | PASS | SKIPPED | SKIPPED | SKIPPED | +---------------------+--------------------+------------------+-------------------+-------------------+-------------------------+----------------------+ | Fedora 41 (Clang) | PASS | PASS | PASS | SKIPPED | SKIPPED | SKIPPED | +---------------------+--------------------+------------------+-------------------+-------------------+-------------------------+----------------------+ | openSUSE Leap 15 | PASS | SKIPPED | SKIPPED | SKIPPED | SKIPPED | SKIPPED | +---------------------+--------------------+------------------+-------------------+-------------------+-------------------------+----------------------+ | Fedora 40 | PASS | PASS | PASS | SKIPPED | SKIPPED | SKIPPED | +---------------------+--------------------+------------------+-------------------+-------------------+-------------------------+----------------------+ | Fedora 40 (Clang) | PASS | PASS | PASS | SKIPPED | SKIPPED | SKIPPED | +---------------------+--------------------+------------------+-------------------+-------------------+-------------------------+----------------------+ | Fedora 41 | PASS | PASS | PASS | SKIPPED | SKIPPED | SKIPPED | +---------------------+--------------------+------------------+-------------------+-------------------+-------------------------+----------------------+ | RHEL8 | PASS | PASS | SKIPPED | SKIPPED | SKIPPED | SKIPPED | +---------------------+--------------------+------------------+-------------------+-------------------+-------------------------+----------------------+ | Ubuntu 20.04 | PASS | SKIPPED | SKIPPED | SKIPPED | SKIPPED | SKIPPED | +---------------------+--------------------+------------------+-------------------+-------------------+-------------------------+----------------------+ | RHEL9 | PASS | PASS | SKIPPED | SKIPPED | SKIPPED | SKIPPED | +---------------------+--------------------+------------------+-------------------+-------------------+-------------------------+----------------------+ | Ubuntu 22.04 | PASS | PASS | PASS | SKIPPED | SKIPPED | SKIPPED | +---------------------+--------------------+------------------+-------------------+-------------------+-------------------------+----------------------+ | Alpine | PASS | PASS | SKIPPED | SKIPPED | SKIPPED | SKIPPED | +---------------------+--------------------+------------------+-------------------+-------------------+-------------------------+----------------------+ | FreeBSD 13.4 | PASS | SKIPPED | SKIPPED | SKIPPED | SKIPPED | SKIPPED | +---------------------+--------------------+------------------+-------------------+-------------------+-------------------------+----------------------+ | FreeBSD 14.2 | PASS | SKIPPED | SKIPPED | SKIPPED | SKIPPED | SKIPPED | +---------------------+--------------------+------------------+-------------------+-------------------+-------------------------+----------------------+ | Debian Bullseye | PASS | PASS | PASS | SKIPPED | SKIPPED | SKIPPED | +---------------------+--------------------+------------------+-------------------+-------------------+-------------------------+----------------------+ | Ubuntu 24.04 | PASS | PASS | PASS | SKIPPED | SKIPPED | SKIPPED | +---------------------+--------------------+------------------+-------------------+-------------------+-------------------------+----------------------+ | Windows Server 2022 | SKIPPED | SKIPPED | SKIPPED | PASS | PASS | PASS | +---------------------+--------------------+------------------+-------------------+-------------------+-------------------------+----------------------+ CentOS Stream 9 Kernel: Depends on container host Compiler: gcc 11.5.0 20240719 (Red Hat 11.5.0-2) Debian 12 Kernel: Depends on container host Compiler: gcc (Debian 12.2.0-14) 12.2.0 Fedora 41 (Clang) Kernel: Depends on container host Compiler: clang 19.1.5 (Fedora 19.1.5-1.fc41) openSUSE Leap 15 Kernel: Depends on container host Compiler: gcc (SUSE Linux) 7.5.0 Fedora 40 Kernel: Depends on container host Compiler: gcc 14.2.1 20240912 (Red Hat 14.2.1-3) Fedora 40 (Clang) Kernel: Depends on container host Compiler: clang 18.1.8 (Fedora 18.1.8-1.fc40) Fedora 41 Kernel: Depends on container host Compiler: gcc 14.2.1 20240912 (Red Hat 14.2.1-3) RHEL8 Kernel: Depends on container host Compiler: gcc 8.5.0 20210514 (Red Hat 8.5.0-22) Ubuntu 20.04 Kernel: Depends on container host Compiler: gcc (Ubuntu 9.4.0-1ubuntu1~20.04.2) 9.4.0 RHEL9 Kernel: Depends on container host Compiler: gcc 11.5.0 20240719 (Red Hat 11.5.0-2) Ubuntu 22.04 Kernel: Depends on container host Compiler: gcc (Ubuntu 11.4.0-1ubuntu1~22.04) 11.4.0 Alpine Kernel: Depends on container host Compiler: gcc (Alpine 14.2.0) 14.2.0 FreeBSD 13.4 Kernel: 13.4-RELEASE-p1 Compiler: clang 18.1.6 FreeBSD 14.2 Kernel: 14.2-RELEASE Compiler: clang 18.1.6 Debian Bullseye Kernel: Depends on container host Compiler: gcc (Debian 10.2.1-6) 10.2.1 20210110 Ubuntu 24.04 Kernel: Depends on container host Compiler: gcc (Ubuntu 13.3.0-6ubuntu2~24.04) 13.3.0 Windows Server 2022 Kernel: 10.0.20348.2031 Compiler: clang 15.0.7, gcc 14.1.0 (MinGW), and MSVC VS 19.39.33521 To view detailed results, visit: https://lab.dpdk.org/results/dashboard/patchsets/32222/ UNH-IOL DPDK Community Lab To manage your email subscriptions, visit: https://lab.dpdk.org/results/dashboard/preferences/subscriptions/