From mboxrd@z Thu Jan 1 00:00:00 1970 Return-Path: Received: from mails.dpdk.org (mails.dpdk.org [217.70.189.124]) by inbox.dpdk.org (Postfix) with ESMTP id 5B3FA461BF for ; Fri, 7 Feb 2025 20:52:09 +0100 (CET) Received: from mails.dpdk.org (localhost [127.0.0.1]) by mails.dpdk.org (Postfix) with ESMTP id 5806C402C9; Fri, 7 Feb 2025 20:52:09 +0100 (CET) Received: from mail-pl1-f227.google.com (mail-pl1-f227.google.com [209.85.214.227]) by mails.dpdk.org (Postfix) with ESMTP id 953B84026C for ; Fri, 7 Feb 2025 20:52:08 +0100 (CET) Received: by mail-pl1-f227.google.com with SMTP id d9443c01a7336-21f3e2b4eceso41691295ad.2 for ; Fri, 07 Feb 2025 11:52:08 -0800 (PST) DKIM-Signature: v=1; a=rsa-sha256; c=relaxed/relaxed; d=iol.unh.edu; s=unh-iol; t=1738957928; x=1739562728; darn=dpdk.org; h=cc:to:from:subject:message-id:date:from:to:cc:subject:date :message-id:reply-to; bh=dMC9NMS6wsM+kD8DS9pLQMbnomipwpFVDfvcgJDdYEM=; b=e/Zf5R01OJ9aflAQQoqtrh8c+wJg8TE69jzsV+b3d5MwEXqaBzVo+AKD5KBETWiM5D PfJNM6IHE1I9Q3TlaWQe3CMJGb2kTriU8nAR9v3tJLS44tZg3/MGtRt6Xtzuy0fgx/TW m9bII+m3k7SjAFysdGRUL2yWo5L8e8Oomh0tE= X-Google-DKIM-Signature: v=1; a=rsa-sha256; c=relaxed/relaxed; d=1e100.net; s=20230601; t=1738957928; x=1739562728; h=cc:to:from:subject:message-id:date:x-gm-message-state:from:to:cc :subject:date:message-id:reply-to; bh=dMC9NMS6wsM+kD8DS9pLQMbnomipwpFVDfvcgJDdYEM=; b=AKGQirTMyDaK7RfnfYC6WkrCBGfxFAXZJKxs4HLcz69N7I73YaxIy2apTn7JBBV4q/ 4BYq3ME+6lq82APfLMahjUlxOOsI6zDaWv/gIeUeAFWFk22fGR+rf+5nviB3F+Z6Crx7 Z+HoaoxP1kQ+/JXwpSZki2z177kRusssUrZ9N6Th9Eb56gWqqxlVZPwlMXgnuYElh6UU KrjrwePlh6BQrbH9f8ip5z1oHSFw6bWJZF1ToHICQq+vxA0DzzcogABPMLzFyxd8UqjZ 3TwL7pzl33PUaXBtMCWUgfs3+cjWGeOLdkY0U5nzCvWZRPwFhrXyB+nmetJUh8hqPgFq rLNA== X-Gm-Message-State: AOJu0YzZqcI3RnOnWHLRUWw8q+eDCkfURj07HhbONLJ50NtEHeQvH98z CIJTYqtuIQnS6FxMU4agEdSMsrZd7QYVG6OFmO5umTQez9BvIUZpSd/j/yY5tveDP7p9hYtdL8+ q2sKQyLyPxkszf4/1Co7QguM9MOFyRFi3 X-Gm-Gg: ASbGncvpNqo1SZ42iPpQM0LvnQLfyt8iVUNcliz1Tw9bfXdQHnnN9bECofa1aPh/U4M 1HGITLbi+zOo30U3ncpoXaNC5qzXQ/FYNmT+0Y2CBrnt7sjy6r+NY4ybfRlUmKxKfITIhUETwH9 ynNRJ4bBP8sXuxUU+DhIDLtv3JsX1xEiaf+tRjsBcppbLHQpx2KMhw2jK1vtUu/Sa09lHBB2KFt kLkoQnbGJCmnYU/fZQfuBPcCj4quwAbaEAOyhTZYqw0mX+ge8lEYE0TBIVM5mH7Z2MLGfbRMdYJ DmebrQ6rU9MYxnuxa2RVBY5SE+q7Rw== X-Google-Smtp-Source: AGHT+IGdk7aDmuLZwlUaZG8VR8DHs5advKO1gYAXSxzodlS++HE/3RqDzkex0JZfvrokGKMHIAd2zt/zgZoO X-Received: by 2002:a17:903:264c:b0:216:4853:4c0b with SMTP id d9443c01a7336-21f4e75e5ccmr59299525ad.33.1738957927877; Fri, 07 Feb 2025 11:52:07 -0800 (PST) Received: from postal.iol.unh.edu (postal.iol.unh.edu. [132.177.123.84]) by smtp-relay.gmail.com with ESMTPS id d9443c01a7336-21f3650cd7asm2153485ad.10.2025.02.07.11.52.07 (version=TLS1_2 cipher=ECDHE-ECDSA-AES128-GCM-SHA256 bits=128/128); Fri, 07 Feb 2025 11:52:07 -0800 (PST) X-Relaying-Domain: iol.unh.edu Date: Fri, 07 Feb 2025 11:52:07 -0800 (PST) Message-ID: <67a66467.170a0220.289eb2.ab4aSMTPIN_ADDED_MISSING@mx.google.com> Received: from [172.21.0.17] (unknown [172.18.0.240]) by postal.iol.unh.edu (Postfix) with ESMTP id 393556052485; Fri, 7 Feb 2025 14:51:37 -0500 (EST) Subject: |SUCCESS| [GIT MASTER] f2eea2f37a82bb73fb01d56350708f7d70e21379 From: dpdklab@iol.unh.edu To: Test Report Cc: dpdk-test-reports@iol.unh.edu, Xueming Li , Christian Ehrhardt , Kevin Traynor , Luca Boccassi Content-Type: text/plain X-BeenThere: test-report@dpdk.org X-Mailman-Version: 2.1.29 Precedence: list List-Id: automatic DPDK test reports List-Unsubscribe: , List-Archive: List-Post: List-Help: List-Subscribe: , Errors-To: test-report-bounces@dpdk.org _Testing PASS_ Branch: tags/v24.11 f2eea2f37a82bb73fb01d56350708f7d70e21379 --> testing pass Test environment and result as below: +---------------------+--------------------+------------------+-------------------+-------------------------+-------------------+----------------------+ | Environment | dpdk_meson_compile | dpdk_compile_ovs | dpdk_compile_spdk | dpdk_llvm_clang_compile | dpdk_msvc_compile | dpdk_mingw64_compile | +=====================+====================+==================+===================+=========================+===================+======================+ | CentOS Stream 9 | PASS | PASS | PASS | SKIPPED | SKIPPED | SKIPPED | +---------------------+--------------------+------------------+-------------------+-------------------------+-------------------+----------------------+ | Debian Bullseye | PASS | PASS | PASS | SKIPPED | SKIPPED | SKIPPED | +---------------------+--------------------+------------------+-------------------+-------------------------+-------------------+----------------------+ | Debian 12 | PASS | PASS | PASS | SKIPPED | SKIPPED | SKIPPED | +---------------------+--------------------+------------------+-------------------+-------------------------+-------------------+----------------------+ | Fedora 40 | PASS | PASS | PASS | SKIPPED | SKIPPED | SKIPPED | +---------------------+--------------------+------------------+-------------------+-------------------------+-------------------+----------------------+ | Ubuntu 20.04 | PASS | SKIPPED | SKIPPED | SKIPPED | SKIPPED | SKIPPED | +---------------------+--------------------+------------------+-------------------+-------------------------+-------------------+----------------------+ | Fedora 41 | PASS | PASS | PASS | SKIPPED | SKIPPED | SKIPPED | +---------------------+--------------------+------------------+-------------------+-------------------------+-------------------+----------------------+ | Fedora 41 (Clang) | PASS | PASS | PASS | SKIPPED | SKIPPED | SKIPPED | +---------------------+--------------------+------------------+-------------------+-------------------------+-------------------+----------------------+ | openSUSE Leap 15 | PASS | SKIPPED | SKIPPED | SKIPPED | SKIPPED | SKIPPED | +---------------------+--------------------+------------------+-------------------+-------------------------+-------------------+----------------------+ | RHEL9 | PASS | PASS | SKIPPED | SKIPPED | SKIPPED | SKIPPED | +---------------------+--------------------+------------------+-------------------+-------------------------+-------------------+----------------------+ | RHEL8 | PASS | PASS | SKIPPED | SKIPPED | SKIPPED | SKIPPED | +---------------------+--------------------+------------------+-------------------+-------------------------+-------------------+----------------------+ | Ubuntu 22.04 | PASS | PASS | PASS | SKIPPED | SKIPPED | SKIPPED | +---------------------+--------------------+------------------+-------------------+-------------------------+-------------------+----------------------+ | Ubuntu 24.04 | PASS | PASS | PASS | SKIPPED | SKIPPED | SKIPPED | +---------------------+--------------------+------------------+-------------------+-------------------------+-------------------+----------------------+ | Alpine | PASS | PASS | SKIPPED | SKIPPED | SKIPPED | SKIPPED | +---------------------+--------------------+------------------+-------------------+-------------------------+-------------------+----------------------+ | FreeBSD 13.4 | PASS | SKIPPED | SKIPPED | SKIPPED | SKIPPED | SKIPPED | +---------------------+--------------------+------------------+-------------------+-------------------------+-------------------+----------------------+ | FreeBSD 14.2 | PASS | SKIPPED | SKIPPED | SKIPPED | SKIPPED | SKIPPED | +---------------------+--------------------+------------------+-------------------+-------------------------+-------------------+----------------------+ | Fedora 40 (Clang) | PASS | PASS | PASS | SKIPPED | SKIPPED | SKIPPED | +---------------------+--------------------+------------------+-------------------+-------------------------+-------------------+----------------------+ | Windows Server 2022 | SKIPPED | SKIPPED | SKIPPED | PASS | PASS | PASS | +---------------------+--------------------+------------------+-------------------+-------------------------+-------------------+----------------------+ CentOS Stream 9 Kernel: Depends on container host Compiler: gcc 11.5.0 20240719 (Red Hat 11.5.0-2) Debian Bullseye Kernel: Depends on container host Compiler: gcc (Debian 10.2.1-6) 10.2.1 20210110 Debian 12 Kernel: Depends on container host Compiler: gcc (Debian 12.2.0-14) 12.2.0 Fedora 40 Kernel: Depends on container host Compiler: gcc 14.2.1 20240912 (Red Hat 14.2.1-3) Ubuntu 20.04 Kernel: Depends on container host Compiler: gcc (Ubuntu 9.4.0-1ubuntu1~20.04.2) 9.4.0 Fedora 41 Kernel: Depends on container host Compiler: gcc 14.2.1 20240912 (Red Hat 14.2.1-3) Fedora 41 (Clang) Kernel: Depends on container host Compiler: clang 19.1.5 (Fedora 19.1.5-1.fc41) openSUSE Leap 15 Kernel: Depends on container host Compiler: gcc (SUSE Linux) 7.5.0 RHEL9 Kernel: Depends on container host Compiler: gcc 11.5.0 20240719 (Red Hat 11.5.0-2) RHEL8 Kernel: Depends on container host Compiler: gcc 8.5.0 20210514 (Red Hat 8.5.0-22) Ubuntu 22.04 Kernel: Depends on container host Compiler: gcc (Ubuntu 11.4.0-1ubuntu1~22.04) 11.4.0 Ubuntu 24.04 Kernel: Depends on container host Compiler: gcc (Ubuntu 13.3.0-6ubuntu2~24.04) 13.3.0 Alpine Kernel: Depends on container host Compiler: gcc (Alpine 14.2.0) 14.2.0 FreeBSD 13.4 Kernel: 13.4-RELEASE-p1 Compiler: clang 18.1.6 FreeBSD 14.2 Kernel: 14.2-RELEASE Compiler: clang 18.1.6 Fedora 40 (Clang) Kernel: Depends on container host Compiler: clang 18.1.8 (Fedora 18.1.8-1.fc40) Windows Server 2022 Kernel: 10.0.20348.2031 Compiler: clang 15.0.7, gcc 14.1.0 (MinGW), and MSVC VS 19.39.33521 To view detailed results, visit: https://lab.dpdk.org/results/dashboard/tarballs/32075/ UNH-IOL DPDK Community Lab To manage your email subscriptions, visit: https://lab.dpdk.org/results/dashboard/preferences/subscriptions/