From mboxrd@z Thu Jan 1 00:00:00 1970 Return-Path: Received: from mails.dpdk.org (mails.dpdk.org [217.70.189.124]) by inbox.dpdk.org (Postfix) with ESMTP id 36F07461BF for ; Fri, 7 Feb 2025 20:53:36 +0100 (CET) Received: from mails.dpdk.org (localhost [127.0.0.1]) by mails.dpdk.org (Postfix) with ESMTP id 330324029A; Fri, 7 Feb 2025 20:53:36 +0100 (CET) Received: from mail-oa1-f100.google.com (mail-oa1-f100.google.com [209.85.160.100]) by mails.dpdk.org (Postfix) with ESMTP id 1EE914026C for ; Fri, 7 Feb 2025 20:53:35 +0100 (CET) Received: by mail-oa1-f100.google.com with SMTP id 586e51a60fabf-2b85cad3ac5so72852fac.1 for ; Fri, 07 Feb 2025 11:53:35 -0800 (PST) DKIM-Signature: v=1; a=rsa-sha256; c=relaxed/relaxed; d=iol.unh.edu; s=unh-iol; t=1738958014; x=1739562814; darn=dpdk.org; h=references:in-reply-to:cc:to:from:subject:message-id:date:from:to :cc:subject:date:message-id:reply-to; bh=rGXN8S1vO6kAtkkRefY0xcdlrneZEn58Z8oTaWHwvZA=; b=cK1yJHt8MDUStULHYmkovvXN8a0nvgyUoezMxlkQmWKtGhTtRKevLpcBAJmRYpGthh OsP5H7jZsZT7UxA/v1+W+q6cIWVmHR3kLf3hE3MiVIap7oQP9mkac00N7NnobgQtAxX5 wke6kC7HHNIyOHuDxWTLlXJV+5bHcW1LRlcVA= X-Google-DKIM-Signature: v=1; a=rsa-sha256; c=relaxed/relaxed; d=1e100.net; s=20230601; t=1738958014; x=1739562814; h=references:in-reply-to:cc:to:from:subject:message-id:date :x-gm-message-state:from:to:cc:subject:date:message-id:reply-to; bh=rGXN8S1vO6kAtkkRefY0xcdlrneZEn58Z8oTaWHwvZA=; b=vq16tZOSQUPsOJ5wgh2HyXP3rdxz81eh1GC3TJRJND22KTRgHFCTuTee0z/5Hk3oXe aGsao7rZ1kRxdAU3U+N+yPtDMw+0vTfcG17i4o0aa4UI3Gq6/EM4XSU5Pz4lugDo42HJ WbAdCbULApmu+YB79KwfzGfC6Xx5HU+NzwNMQ/zq3Z6yCapRCiRBUCbn/xRCcWob7aaZ 3HchkNUPTyTqYbtgEqlljLfSdWBKef35Tng6bYvI4VROaaZwbkQ1jvnpL7LkCm9k8xKb M9cRB4vCFmuFCG58C90HElXXZbFNc6gxdgCcodLJh6Yk95TavCTjNrGK7FhSHofgiObF L62A== X-Gm-Message-State: AOJu0Yxqvr85ITY+6tVZo6WzCQqyVWuVfmcVUtvHnz/Wh/4RL1xP2X4n njzu+i2XOWU0aD2NfMlyqan0Bp2dquvAeTvRRMSW546fjshZieM637MvLjYx9/R4ukOLIe9/dlv +gJ5QCSIhWtt9psxR3akT+NNRvOEnq5/aRHvbd699 X-Gm-Gg: ASbGncvonWiCGvmgEv14JEH4An7HBi6LTu8LUspOSVnkCFsdOEeO1T+fOmHR63l30r/ BFYvIDBJDg+qjhMi2Q/ZiCtL5p6SxTH8pchRoH6LJMZNgYBQppxqg+pf4KcwuY+4xTBDzKx58Aq PNdCaAydJl8IVe6HePSTU2r5FLiwlW6xLrLS8We4Wv1U62Ib5K+RrYbOWxnWR7IPzA9yLdF5eMc 23qLcV5h8rv5h8oW2cdGAXtK4C5dXUlcmHXdWKSNQ/tsBUtF/cjwWdpuqLqvzbW+l6nY0jUPWLA +XcWW0MdYEKkxj7m20GPuSR5jTg3kQ== X-Google-Smtp-Source: AGHT+IEMVMFVIZiCRXBdTB0HTQgGwISKh6mjmnptKM40n+2mz4X6DtJTbPixsDmKCrQgIrMZwQVx0S1TgNir X-Received: by 2002:a05:6870:e40e:b0:297:281b:fb6d with SMTP id 586e51a60fabf-2b8400d4aabmr2929895fac.3.1738958014351; Fri, 07 Feb 2025 11:53:34 -0800 (PST) Received: from postal.iol.unh.edu (postal.iol.unh.edu. [132.177.123.84]) by smtp-relay.gmail.com with ESMTPS id 586e51a60fabf-2b82583f3c8sm217337fac.0.2025.02.07.11.53.34 (version=TLS1_2 cipher=ECDHE-ECDSA-AES128-GCM-SHA256 bits=128/128); Fri, 07 Feb 2025 11:53:34 -0800 (PST) X-Relaying-Domain: iol.unh.edu Date: Fri, 07 Feb 2025 11:53:34 -0800 (PST) Message-ID: <67a664be.050a0220.1d3944.bb0bSMTPIN_ADDED_MISSING@mx.google.com> Received: from [172.21.0.11] (unknown [172.18.0.240]) by postal.iol.unh.edu (Postfix) with ESMTP id CA7DD6052471; Fri, 7 Feb 2025 14:53:03 -0500 (EST) Subject: |SUCCESS| pw149496-149498 [PATCH] [3/3] drivers/net: add diagnostics From: dpdklab@iol.unh.edu To: Test Report Cc: dpdk-test-reports@iol.unh.edu In-Reply-To: <1735263196-2809-4-git-send-email-andremue@linux.microsoft.com> References: <1735263196-2809-4-git-send-email-andremue@linux.microsoft.com> Content-Type: text/plain X-BeenThere: test-report@dpdk.org X-Mailman-Version: 2.1.29 Precedence: list List-Id: automatic DPDK test reports List-Unsubscribe: , List-Archive: List-Post: List-Help: List-Subscribe: , Errors-To: test-report-bounces@dpdk.org Test-Label: iol-compile-amd64-testing Test-Status: SUCCESS http://dpdk.org/patch/149498 _Testing PASS_ Submitter: Andre Muezerie Date: Friday, December 27 2024 01:33:16 DPDK git baseline: Repo:dpdk Branch: master CommitID:fd51012de5369679e807be1d6a81d63ef15015ce 149496-149498 --> testing pass Test environment and result as below: +---------------------+--------------------+------------------+-------------------+-------------------+-------------------------+----------------------+ | Environment | dpdk_meson_compile | dpdk_compile_ovs | dpdk_compile_spdk | dpdk_msvc_compile | dpdk_llvm_clang_compile | dpdk_mingw64_compile | +=====================+====================+==================+===================+===================+=========================+======================+ | CentOS Stream 9 | PASS | PASS | PASS | SKIPPED | SKIPPED | SKIPPED | +---------------------+--------------------+------------------+-------------------+-------------------+-------------------------+----------------------+ | Debian Bullseye | PASS | PASS | PASS | SKIPPED | SKIPPED | SKIPPED | +---------------------+--------------------+------------------+-------------------+-------------------+-------------------------+----------------------+ | Debian 12 | PASS | PASS | PASS | SKIPPED | SKIPPED | SKIPPED | +---------------------+--------------------+------------------+-------------------+-------------------+-------------------------+----------------------+ | Fedora 41 (Clang) | PASS | PASS | PASS | SKIPPED | SKIPPED | SKIPPED | +---------------------+--------------------+------------------+-------------------+-------------------+-------------------------+----------------------+ | Fedora 40 (Clang) | PASS | PASS | PASS | SKIPPED | SKIPPED | SKIPPED | +---------------------+--------------------+------------------+-------------------+-------------------+-------------------------+----------------------+ | Fedora 40 | PASS | PASS | PASS | SKIPPED | SKIPPED | SKIPPED | +---------------------+--------------------+------------------+-------------------+-------------------+-------------------------+----------------------+ | Fedora 41 | PASS | PASS | PASS | SKIPPED | SKIPPED | SKIPPED | +---------------------+--------------------+------------------+-------------------+-------------------+-------------------------+----------------------+ | RHEL8 | PASS | PASS | SKIPPED | SKIPPED | SKIPPED | SKIPPED | +---------------------+--------------------+------------------+-------------------+-------------------+-------------------------+----------------------+ | Ubuntu 22.04 | PASS | PASS | PASS | SKIPPED | SKIPPED | SKIPPED | +---------------------+--------------------+------------------+-------------------+-------------------+-------------------------+----------------------+ | RHEL9 | PASS | PASS | SKIPPED | SKIPPED | SKIPPED | SKIPPED | +---------------------+--------------------+------------------+-------------------+-------------------+-------------------------+----------------------+ | openSUSE Leap 15 | PASS | SKIPPED | SKIPPED | SKIPPED | SKIPPED | SKIPPED | +---------------------+--------------------+------------------+-------------------+-------------------+-------------------------+----------------------+ | Alpine | PASS | PASS | SKIPPED | SKIPPED | SKIPPED | SKIPPED | +---------------------+--------------------+------------------+-------------------+-------------------+-------------------------+----------------------+ | Ubuntu 24.04 | PASS | PASS | PASS | SKIPPED | SKIPPED | SKIPPED | +---------------------+--------------------+------------------+-------------------+-------------------+-------------------------+----------------------+ | FreeBSD 13.4 | PASS | SKIPPED | SKIPPED | SKIPPED | SKIPPED | SKIPPED | +---------------------+--------------------+------------------+-------------------+-------------------+-------------------------+----------------------+ | FreeBSD 14.2 | PASS | SKIPPED | SKIPPED | SKIPPED | SKIPPED | SKIPPED | +---------------------+--------------------+------------------+-------------------+-------------------+-------------------------+----------------------+ | Ubuntu 20.04 | PASS | SKIPPED | SKIPPED | SKIPPED | SKIPPED | SKIPPED | +---------------------+--------------------+------------------+-------------------+-------------------+-------------------------+----------------------+ | Windows Server 2022 | SKIPPED | SKIPPED | SKIPPED | PASS | PASS | PASS | +---------------------+--------------------+------------------+-------------------+-------------------+-------------------------+----------------------+ CentOS Stream 9 Kernel: Depends on container host Compiler: gcc 11.5.0 20240719 (Red Hat 11.5.0-2) Debian Bullseye Kernel: Depends on container host Compiler: gcc (Debian 10.2.1-6) 10.2.1 20210110 Debian 12 Kernel: Depends on container host Compiler: gcc (Debian 12.2.0-14) 12.2.0 Fedora 41 (Clang) Kernel: Depends on container host Compiler: clang 19.1.5 (Fedora 19.1.5-1.fc41) Fedora 40 (Clang) Kernel: Depends on container host Compiler: clang 18.1.8 (Fedora 18.1.8-1.fc40) Fedora 40 Kernel: Depends on container host Compiler: gcc 14.2.1 20240912 (Red Hat 14.2.1-3) Fedora 41 Kernel: Depends on container host Compiler: gcc 14.2.1 20240912 (Red Hat 14.2.1-3) RHEL8 Kernel: Depends on container host Compiler: gcc 8.5.0 20210514 (Red Hat 8.5.0-22) Ubuntu 22.04 Kernel: Depends on container host Compiler: gcc (Ubuntu 11.4.0-1ubuntu1~22.04) 11.4.0 RHEL9 Kernel: Depends on container host Compiler: gcc 11.5.0 20240719 (Red Hat 11.5.0-2) openSUSE Leap 15 Kernel: Depends on container host Compiler: gcc (SUSE Linux) 7.5.0 Alpine Kernel: Depends on container host Compiler: gcc (Alpine 14.2.0) 14.2.0 Ubuntu 24.04 Kernel: Depends on container host Compiler: gcc (Ubuntu 13.3.0-6ubuntu2~24.04) 13.3.0 FreeBSD 13.4 Kernel: 13.4-RELEASE-p1 Compiler: clang 18.1.6 FreeBSD 14.2 Kernel: 14.2-RELEASE Compiler: clang 18.1.6 Ubuntu 20.04 Kernel: Depends on container host Compiler: gcc (Ubuntu 9.4.0-1ubuntu1~20.04.2) 9.4.0 Windows Server 2022 Kernel: 10.0.20348.2031 Compiler: clang 15.0.7, gcc 14.1.0 (MinGW), and MSVC VS 19.39.33521 To view detailed results, visit: https://lab.dpdk.org/results/dashboard/patchsets/32218/ UNH-IOL DPDK Community Lab To manage your email subscriptions, visit: https://lab.dpdk.org/results/dashboard/preferences/subscriptions/