From mboxrd@z Thu Jan 1 00:00:00 1970 Return-Path: Received: from mails.dpdk.org (mails.dpdk.org [217.70.189.124]) by inbox.dpdk.org (Postfix) with ESMTP id 426BC461BF for ; Fri, 7 Feb 2025 20:53:41 +0100 (CET) Received: from mails.dpdk.org (localhost [127.0.0.1]) by mails.dpdk.org (Postfix) with ESMTP id 3F3AF4029A; Fri, 7 Feb 2025 20:53:41 +0100 (CET) Received: from mail-qv1-f99.google.com (mail-qv1-f99.google.com [209.85.219.99]) by mails.dpdk.org (Postfix) with ESMTP id 663384026C for ; Fri, 7 Feb 2025 20:53:40 +0100 (CET) Received: by mail-qv1-f99.google.com with SMTP id 6a1803df08f44-6dcd4f1aaccso37840656d6.2 for ; Fri, 07 Feb 2025 11:53:40 -0800 (PST) DKIM-Signature: v=1; a=rsa-sha256; c=relaxed/relaxed; d=iol.unh.edu; s=unh-iol; t=1738958020; x=1739562820; darn=dpdk.org; h=references:in-reply-to:cc:to:from:subject:message-id:date:from:to :cc:subject:date:message-id:reply-to; bh=KRXKTYt/JlroeuxMXksApPiHZZe7iZB8A9uBnMDvbeE=; b=c0fLc+wMALfzEaNazSagiivDosgzktwFqx2UtKZnQszduOe7gpT5FwdIHrr/S9GsE+ NOyGQ1b9x0fmiK9ziFm/pL2hgfdG/NtwPYQmd3rDGgSp01lgSiOp/iZCikHkJXtHj2Ma WX+8vf6jG2wb7k0q89FCyo9bSioV2YzBzMAlQ= X-Google-DKIM-Signature: v=1; a=rsa-sha256; c=relaxed/relaxed; d=1e100.net; s=20230601; t=1738958020; x=1739562820; h=references:in-reply-to:cc:to:from:subject:message-id:date :x-gm-message-state:from:to:cc:subject:date:message-id:reply-to; bh=KRXKTYt/JlroeuxMXksApPiHZZe7iZB8A9uBnMDvbeE=; b=GGcCRhinCoKtUVIgxU8efPB5q7jnY50GqfbsFQTuZKU1ISpEePWNJC1dI9RgcRt2sb WrNZQhQ/+kpyIEpQCNjDB2kXPriFhH1ynxRrh6ebAIDQNmdAi1z7RRSOCwmtQmv/sE1t YKM1UdsYXlgwchs+JeYLcFnVwBBvNx858ap6aJrp8u3vHl/GP/ENHK/IsoH86XJbqHMx 3hkmlBZwkRt8VQPEXXFMC8YB2oP3Lo2O8H+k46SRXCQhbko2rerfqVJQ3Bgnaz67lugH BgsL9cX69JTDaT9csZnDGcnvDkgHdwVfR65DfJlyOum6RsCm6NtwQXfD+8i/XcMRk7pj VZxQ== X-Gm-Message-State: AOJu0YxCTWPS7ONbL+p4wZ1QCf65xoXpFjdMY6SKzaQ7WnfO+cV7cjFD LjmlK2I2yttWXoNXonTaAzBLpZ91dYhdL1NlWwyQ27kckiwkmWJmQGoIRAgg6zVgvfctRKhv0em 2y0fQqaUCOw1ahRiCdleiVhaW6g/VQFBa8modxE2o X-Gm-Gg: ASbGncutZcYZEr4bchdfKG3c+/M6KUThEZKrFYLeCGJsP8gNb9HgkfV05PGyiXAw73k 8lzZNX5TNYE6LbNX8CSu0VJNWb4yoJiC2r23kS/3xNFwM24EVh8Rbmn6eBmGfBq1COWvww18kGU LHg3cqt6M31iPSu03/oDP3OeCYdQB/w2Ie4Llyrg04g319wtHZ/vz8jo53+aWfbf7IrCoxTVPsm ozK+8aI9MEX2QtehVLupIqPLX9JVgu4Om/RP0FoKr7peYDWHEj0cRNdj5+zHmB6kEz3Xmq7OW57 Y1b72IOpNTkWJ6Tk0LoTg/9wez/W9w== X-Google-Smtp-Source: AGHT+IGC4DX3IzqmLM9U+u0hXOJqXTGiIYAJEKzNtNpSend5RB5hzNdZ8ertdoBSxuhjLc0GtvSK6v6vBROC X-Received: by 2002:ad4:4eea:0:b0:6d4:18ce:117f with SMTP id 6a1803df08f44-6e445645a7bmr66735826d6.20.1738958019838; Fri, 07 Feb 2025 11:53:39 -0800 (PST) Received: from postal.iol.unh.edu (postal.iol.unh.edu. [132.177.123.84]) by smtp-relay.gmail.com with ESMTPS id 6a1803df08f44-6e4449c291esm1490826d6.31.2025.02.07.11.53.39 (version=TLS1_2 cipher=ECDHE-ECDSA-AES128-GCM-SHA256 bits=128/128); Fri, 07 Feb 2025 11:53:39 -0800 (PST) X-Relaying-Domain: iol.unh.edu Date: Fri, 07 Feb 2025 11:53:39 -0800 (PST) Message-ID: <67a664c3.050a0220.20f062.72d6SMTPIN_ADDED_MISSING@mx.google.com> Received: from [172.21.0.10] (unknown [172.18.0.240]) by postal.iol.unh.edu (Postfix) with ESMTP id 8295D6052472; Fri, 7 Feb 2025 14:53:09 -0500 (EST) Subject: |SUCCESS| pw149494-149495 [PATCH] [2/2] drivers_net: fix void functi From: dpdklab@iol.unh.edu To: Test Report Cc: dpdk-test-reports@iol.unh.edu In-Reply-To: <1735254890-18457-3-git-send-email-andremue@linux.microsoft.com> References: <1735254890-18457-3-git-send-email-andremue@linux.microsoft.com> Content-Type: text/plain X-BeenThere: test-report@dpdk.org X-Mailman-Version: 2.1.29 Precedence: list List-Id: automatic DPDK test reports List-Unsubscribe: , List-Archive: List-Post: List-Help: List-Subscribe: , Errors-To: test-report-bounces@dpdk.org Test-Label: iol-compile-amd64-testing Test-Status: SUCCESS http://dpdk.org/patch/149495 _Testing PASS_ Submitter: Andre Muezerie Date: Thursday, December 26 2024 23:14:50 DPDK git baseline: Repo:dpdk Branch: master CommitID:fd51012de5369679e807be1d6a81d63ef15015ce 149494-149495 --> testing pass Test environment and result as below: +---------------------+--------------------+------------------+-------------------+-------------------------+-------------------+----------------------+ | Environment | dpdk_meson_compile | dpdk_compile_ovs | dpdk_compile_spdk | dpdk_llvm_clang_compile | dpdk_msvc_compile | dpdk_mingw64_compile | +=====================+====================+==================+===================+=========================+===================+======================+ | CentOS Stream 9 | PASS | PASS | PASS | SKIPPED | SKIPPED | SKIPPED | +---------------------+--------------------+------------------+-------------------+-------------------------+-------------------+----------------------+ | Debian Bullseye | PASS | PASS | PASS | SKIPPED | SKIPPED | SKIPPED | +---------------------+--------------------+------------------+-------------------+-------------------------+-------------------+----------------------+ | Debian 12 | PASS | PASS | PASS | SKIPPED | SKIPPED | SKIPPED | +---------------------+--------------------+------------------+-------------------+-------------------------+-------------------+----------------------+ | Fedora 40 (Clang) | PASS | PASS | PASS | SKIPPED | SKIPPED | SKIPPED | +---------------------+--------------------+------------------+-------------------+-------------------------+-------------------+----------------------+ | Fedora 40 | PASS | PASS | PASS | SKIPPED | SKIPPED | SKIPPED | +---------------------+--------------------+------------------+-------------------+-------------------------+-------------------+----------------------+ | openSUSE Leap 15 | PASS | SKIPPED | SKIPPED | SKIPPED | SKIPPED | SKIPPED | +---------------------+--------------------+------------------+-------------------+-------------------------+-------------------+----------------------+ | Fedora 41 | PASS | PASS | PASS | SKIPPED | SKIPPED | SKIPPED | +---------------------+--------------------+------------------+-------------------+-------------------------+-------------------+----------------------+ | Fedora 41 (Clang) | PASS | PASS | PASS | SKIPPED | SKIPPED | SKIPPED | +---------------------+--------------------+------------------+-------------------+-------------------------+-------------------+----------------------+ | RHEL9 | PASS | PASS | SKIPPED | SKIPPED | SKIPPED | SKIPPED | +---------------------+--------------------+------------------+-------------------+-------------------------+-------------------+----------------------+ | Ubuntu 20.04 | PASS | SKIPPED | SKIPPED | SKIPPED | SKIPPED | SKIPPED | +---------------------+--------------------+------------------+-------------------+-------------------------+-------------------+----------------------+ | Ubuntu 24.04 | PASS | PASS | PASS | SKIPPED | SKIPPED | SKIPPED | +---------------------+--------------------+------------------+-------------------+-------------------------+-------------------+----------------------+ | RHEL8 | PASS | PASS | SKIPPED | SKIPPED | SKIPPED | SKIPPED | +---------------------+--------------------+------------------+-------------------+-------------------------+-------------------+----------------------+ | Ubuntu 22.04 | PASS | PASS | PASS | SKIPPED | SKIPPED | SKIPPED | +---------------------+--------------------+------------------+-------------------+-------------------------+-------------------+----------------------+ | Alpine | PASS | PASS | SKIPPED | SKIPPED | SKIPPED | SKIPPED | +---------------------+--------------------+------------------+-------------------+-------------------------+-------------------+----------------------+ | FreeBSD 13.4 | PASS | SKIPPED | SKIPPED | SKIPPED | SKIPPED | SKIPPED | +---------------------+--------------------+------------------+-------------------+-------------------------+-------------------+----------------------+ | FreeBSD 14.2 | PASS | SKIPPED | SKIPPED | SKIPPED | SKIPPED | SKIPPED | +---------------------+--------------------+------------------+-------------------+-------------------------+-------------------+----------------------+ | Windows Server 2022 | SKIPPED | SKIPPED | SKIPPED | PASS | PASS | PASS | +---------------------+--------------------+------------------+-------------------+-------------------------+-------------------+----------------------+ CentOS Stream 9 Kernel: Depends on container host Compiler: gcc 11.5.0 20240719 (Red Hat 11.5.0-2) Debian Bullseye Kernel: Depends on container host Compiler: gcc (Debian 10.2.1-6) 10.2.1 20210110 Debian 12 Kernel: Depends on container host Compiler: gcc (Debian 12.2.0-14) 12.2.0 Fedora 40 (Clang) Kernel: Depends on container host Compiler: clang 18.1.8 (Fedora 18.1.8-1.fc40) Fedora 40 Kernel: Depends on container host Compiler: gcc 14.2.1 20240912 (Red Hat 14.2.1-3) openSUSE Leap 15 Kernel: Depends on container host Compiler: gcc (SUSE Linux) 7.5.0 Fedora 41 Kernel: Depends on container host Compiler: gcc 14.2.1 20240912 (Red Hat 14.2.1-3) Fedora 41 (Clang) Kernel: Depends on container host Compiler: clang 19.1.5 (Fedora 19.1.5-1.fc41) RHEL9 Kernel: Depends on container host Compiler: gcc 11.5.0 20240719 (Red Hat 11.5.0-2) Ubuntu 20.04 Kernel: Depends on container host Compiler: gcc (Ubuntu 9.4.0-1ubuntu1~20.04.2) 9.4.0 Ubuntu 24.04 Kernel: Depends on container host Compiler: gcc (Ubuntu 13.3.0-6ubuntu2~24.04) 13.3.0 RHEL8 Kernel: Depends on container host Compiler: gcc 8.5.0 20210514 (Red Hat 8.5.0-22) Ubuntu 22.04 Kernel: Depends on container host Compiler: gcc (Ubuntu 11.4.0-1ubuntu1~22.04) 11.4.0 Alpine Kernel: Depends on container host Compiler: gcc (Alpine 14.2.0) 14.2.0 FreeBSD 13.4 Kernel: 13.4-RELEASE-p1 Compiler: clang 18.1.6 FreeBSD 14.2 Kernel: 14.2-RELEASE Compiler: clang 18.1.6 Windows Server 2022 Kernel: 10.0.20348.2031 Compiler: clang 15.0.7, gcc 14.1.0 (MinGW), and MSVC VS 19.39.33521 To view detailed results, visit: https://lab.dpdk.org/results/dashboard/patchsets/32217/ UNH-IOL DPDK Community Lab To manage your email subscriptions, visit: https://lab.dpdk.org/results/dashboard/preferences/subscriptions/