From mboxrd@z Thu Jan 1 00:00:00 1970 Return-Path: Received: from mails.dpdk.org (mails.dpdk.org [217.70.189.124]) by inbox.dpdk.org (Postfix) with ESMTP id 52387461BF for ; Fri, 7 Feb 2025 20:53:43 +0100 (CET) Received: from mails.dpdk.org (localhost [127.0.0.1]) by mails.dpdk.org (Postfix) with ESMTP id 500714029A; Fri, 7 Feb 2025 20:53:43 +0100 (CET) Received: from mail-yw1-f225.google.com (mail-yw1-f225.google.com [209.85.128.225]) by mails.dpdk.org (Postfix) with ESMTP id 6C81B4026C for ; Fri, 7 Feb 2025 20:53:42 +0100 (CET) Received: by mail-yw1-f225.google.com with SMTP id 00721157ae682-6f8c58229f1so22669897b3.0 for ; Fri, 07 Feb 2025 11:53:42 -0800 (PST) DKIM-Signature: v=1; a=rsa-sha256; c=relaxed/relaxed; d=iol.unh.edu; s=unh-iol; t=1738958022; x=1739562822; darn=dpdk.org; h=references:in-reply-to:cc:to:from:subject:message-id:date:from:to :cc:subject:date:message-id:reply-to; bh=DjxFk+UL6Ye+Amf+WiAyA2vRjlB2Gmmzhy8pLnpVaSI=; b=d6JdTZJX7WGQlT4XGdnYVwvTvh0UY4JcPqOyesGUr9Ybe2qDip71eNnNUZEqz+DXNN 0Nri2AB+uvLL/fW8umWfB1ttWnSe1OzbntUnlimcopeVsDL1oga1kRxIc+o+Ygat4DN0 YuWM1S4Xs9MygMf9WMH6jWPC61WH5iZPcPyZA= X-Google-DKIM-Signature: v=1; a=rsa-sha256; c=relaxed/relaxed; d=1e100.net; s=20230601; t=1738958022; x=1739562822; h=references:in-reply-to:cc:to:from:subject:message-id:date :x-gm-message-state:from:to:cc:subject:date:message-id:reply-to; bh=DjxFk+UL6Ye+Amf+WiAyA2vRjlB2Gmmzhy8pLnpVaSI=; b=SFp/EOeMy1up9vTDYCyKMCUySAYWdNfrhxPJnZ4bwmz6h1e5fA+++cesoOxkcfFQhO USvj1ULfOzWyl6kWYqyr5uymPFoRscTJXLhcTvapTVcFrUEAjEN0QBZYMMOuwxdcoLY7 A1QZJ4s3Q5smAvqr+GCf1BkpUyCLUcPJD4lTjIahK9ha2Lm4tdc2bHPSXnmHe+bZc2pq Y8KCaKOLXF9l1G6CyBVx/UGOwZJWsvWH5XTPOxYGNhexqOgz/l+0j7BEd2hV5n6NIWIA XhpgmCS8N6su4tDLubKDziS0JX8zKYBCAdfKnOlHgLRK6fKxB9UlxfmXj/mI+tm6D5oa HX9A== X-Gm-Message-State: AOJu0Ywx7/7awmnGoeW+36LeTU8CuXPnIoujtQRwvQc5QyyuK0/u7QIm n7oVrrnwxSZWe0wcynvIlmP8Wbnhe6WkwISjCdEDn0TX/fUfKeYh0pua0JEiEW5QCRuGmeDkHV8 VJfzo08go4V4qUJG4m5Ptf701/toga7DqWLvQcLNC X-Gm-Gg: ASbGncuPfdlH8xuLSdYOMg4lFIkC2zkuRYhTK+8Z77Q2RlfYbU0prG7lGx3+uTnlsVB 0mMUPQPh15QfmOiMIqbZgOD2tFCZkkN9wWWUWw+PSc/o6LJHPXLAxh2yFnuItU92S8G6IndRL3o C+UhlTluMIdfRcDSONg2WQv4p8EwZd753KqrO9x8wIciyDNzttHbKZV06Y4s9uQnbAwQudEMxth Tg8RcDGNF+r23eSOZF54Hn+wj23aF9QH1knPbACDtj+xT0scCPoLGxocBoel7MT26lkyX+ndu0r ur9UEFrxRdqw7VTmxOL/9oqqlkwdIQ== X-Google-Smtp-Source: AGHT+IFjx+Y52/CsKSunGSQNpnhCG8OtZfsKN0iZDYbOepPrl+S+12rRI4SdWaxfPV1BXj5j4v+Q/zHi+evt X-Received: by 2002:a05:690c:6ac7:b0:6dd:b8ff:c29c with SMTP id 00721157ae682-6f99a68be2cmr76083267b3.17.1738958021875; Fri, 07 Feb 2025 11:53:41 -0800 (PST) Received: from postal.iol.unh.edu (postal.iol.unh.edu. [132.177.123.84]) by smtp-relay.gmail.com with ESMTPS id 00721157ae682-6f99fcf68c5sm547607b3.10.2025.02.07.11.53.41 (version=TLS1_2 cipher=ECDHE-ECDSA-AES128-GCM-SHA256 bits=128/128); Fri, 07 Feb 2025 11:53:41 -0800 (PST) X-Relaying-Domain: iol.unh.edu Date: Fri, 07 Feb 2025 11:53:41 -0800 (PST) Message-ID: <67a664c5.050a0220.7b007.2d24SMTPIN_ADDED_MISSING@mx.google.com> Received: from [172.21.0.9] (unknown [172.18.0.240]) by postal.iol.unh.edu (Postfix) with ESMTP id 7F0766052477; Fri, 7 Feb 2025 14:53:11 -0500 (EST) Subject: |SUCCESS| pw149491-149492 [PATCH] [2/2] drivers/net: remove use of n From: dpdklab@iol.unh.edu To: Test Report Cc: dpdk-test-reports@iol.unh.edu In-Reply-To: <1735243903-26857-3-git-send-email-andremue@linux.microsoft.com> References: <1735243903-26857-3-git-send-email-andremue@linux.microsoft.com> Content-Type: text/plain X-BeenThere: test-report@dpdk.org X-Mailman-Version: 2.1.29 Precedence: list List-Id: automatic DPDK test reports List-Unsubscribe: , List-Archive: List-Post: List-Help: List-Subscribe: , Errors-To: test-report-bounces@dpdk.org Test-Label: iol-compile-amd64-testing Test-Status: SUCCESS http://dpdk.org/patch/149492 _Testing PASS_ Submitter: Andre Muezerie Date: Thursday, December 26 2024 20:11:43 DPDK git baseline: Repo:dpdk Branch: master CommitID:fd51012de5369679e807be1d6a81d63ef15015ce 149491-149492 --> testing pass Test environment and result as below: +---------------------+--------------------+------------------+-------------------+-------------------------+-------------------+----------------------+ | Environment | dpdk_meson_compile | dpdk_compile_ovs | dpdk_compile_spdk | dpdk_llvm_clang_compile | dpdk_msvc_compile | dpdk_mingw64_compile | +=====================+====================+==================+===================+=========================+===================+======================+ | CentOS Stream 9 | PASS | PASS | PASS | SKIPPED | SKIPPED | SKIPPED | +---------------------+--------------------+------------------+-------------------+-------------------------+-------------------+----------------------+ | Debian Bullseye | PASS | PASS | PASS | SKIPPED | SKIPPED | SKIPPED | +---------------------+--------------------+------------------+-------------------+-------------------------+-------------------+----------------------+ | Fedora 40 | PASS | PASS | PASS | SKIPPED | SKIPPED | SKIPPED | +---------------------+--------------------+------------------+-------------------+-------------------------+-------------------+----------------------+ | Debian 12 | PASS | PASS | PASS | SKIPPED | SKIPPED | SKIPPED | +---------------------+--------------------+------------------+-------------------+-------------------------+-------------------+----------------------+ | Fedora 40 (Clang) | PASS | PASS | PASS | SKIPPED | SKIPPED | SKIPPED | +---------------------+--------------------+------------------+-------------------+-------------------------+-------------------+----------------------+ | Fedora 41 (Clang) | PASS | PASS | PASS | SKIPPED | SKIPPED | SKIPPED | +---------------------+--------------------+------------------+-------------------+-------------------------+-------------------+----------------------+ | Fedora 41 | PASS | PASS | PASS | SKIPPED | SKIPPED | SKIPPED | +---------------------+--------------------+------------------+-------------------+-------------------------+-------------------+----------------------+ | openSUSE Leap 15 | PASS | SKIPPED | SKIPPED | SKIPPED | SKIPPED | SKIPPED | +---------------------+--------------------+------------------+-------------------+-------------------------+-------------------+----------------------+ | RHEL8 | PASS | PASS | SKIPPED | SKIPPED | SKIPPED | SKIPPED | +---------------------+--------------------+------------------+-------------------+-------------------------+-------------------+----------------------+ | Ubuntu 20.04 | PASS | SKIPPED | SKIPPED | SKIPPED | SKIPPED | SKIPPED | +---------------------+--------------------+------------------+-------------------+-------------------------+-------------------+----------------------+ | Ubuntu 22.04 | PASS | PASS | PASS | SKIPPED | SKIPPED | SKIPPED | +---------------------+--------------------+------------------+-------------------+-------------------------+-------------------+----------------------+ | Ubuntu 24.04 | PASS | PASS | PASS | SKIPPED | SKIPPED | SKIPPED | +---------------------+--------------------+------------------+-------------------+-------------------------+-------------------+----------------------+ | Alpine | PASS | PASS | SKIPPED | SKIPPED | SKIPPED | SKIPPED | +---------------------+--------------------+------------------+-------------------+-------------------------+-------------------+----------------------+ | FreeBSD 13.4 | PASS | SKIPPED | SKIPPED | SKIPPED | SKIPPED | SKIPPED | +---------------------+--------------------+------------------+-------------------+-------------------------+-------------------+----------------------+ | FreeBSD 14.2 | PASS | SKIPPED | SKIPPED | SKIPPED | SKIPPED | SKIPPED | +---------------------+--------------------+------------------+-------------------+-------------------------+-------------------+----------------------+ | RHEL9 | PASS | PASS | SKIPPED | SKIPPED | SKIPPED | SKIPPED | +---------------------+--------------------+------------------+-------------------+-------------------------+-------------------+----------------------+ | Windows Server 2022 | SKIPPED | SKIPPED | SKIPPED | PASS | PASS | PASS | +---------------------+--------------------+------------------+-------------------+-------------------------+-------------------+----------------------+ CentOS Stream 9 Kernel: Depends on container host Compiler: gcc 11.5.0 20240719 (Red Hat 11.5.0-2) Debian Bullseye Kernel: Depends on container host Compiler: gcc (Debian 10.2.1-6) 10.2.1 20210110 Fedora 40 Kernel: Depends on container host Compiler: gcc 14.2.1 20240912 (Red Hat 14.2.1-3) Debian 12 Kernel: Depends on container host Compiler: gcc (Debian 12.2.0-14) 12.2.0 Fedora 40 (Clang) Kernel: Depends on container host Compiler: clang 18.1.8 (Fedora 18.1.8-1.fc40) Fedora 41 (Clang) Kernel: Depends on container host Compiler: clang 19.1.5 (Fedora 19.1.5-1.fc41) Fedora 41 Kernel: Depends on container host Compiler: gcc 14.2.1 20240912 (Red Hat 14.2.1-3) openSUSE Leap 15 Kernel: Depends on container host Compiler: gcc (SUSE Linux) 7.5.0 RHEL8 Kernel: Depends on container host Compiler: gcc 8.5.0 20210514 (Red Hat 8.5.0-22) Ubuntu 20.04 Kernel: Depends on container host Compiler: gcc (Ubuntu 9.4.0-1ubuntu1~20.04.2) 9.4.0 Ubuntu 22.04 Kernel: Depends on container host Compiler: gcc (Ubuntu 11.4.0-1ubuntu1~22.04) 11.4.0 Ubuntu 24.04 Kernel: Depends on container host Compiler: gcc (Ubuntu 13.3.0-6ubuntu2~24.04) 13.3.0 Alpine Kernel: Depends on container host Compiler: gcc (Alpine 14.2.0) 14.2.0 FreeBSD 13.4 Kernel: 13.4-RELEASE-p1 Compiler: clang 18.1.6 FreeBSD 14.2 Kernel: 14.2-RELEASE Compiler: clang 18.1.6 RHEL9 Kernel: Depends on container host Compiler: gcc 11.5.0 20240719 (Red Hat 11.5.0-2) Windows Server 2022 Kernel: 10.0.20348.2031 Compiler: clang 15.0.7, gcc 14.1.0 (MinGW), and MSVC VS 19.39.33521 To view detailed results, visit: https://lab.dpdk.org/results/dashboard/patchsets/32215/ UNH-IOL DPDK Community Lab To manage your email subscriptions, visit: https://lab.dpdk.org/results/dashboard/preferences/subscriptions/