From mboxrd@z Thu Jan 1 00:00:00 1970 Return-Path: Received: from mails.dpdk.org (mails.dpdk.org [217.70.189.124]) by inbox.dpdk.org (Postfix) with ESMTP id 8F5DB461BF for ; Fri, 7 Feb 2025 20:54:00 +0100 (CET) Received: from mails.dpdk.org (localhost [127.0.0.1]) by mails.dpdk.org (Postfix) with ESMTP id 58EBA402C9; Fri, 7 Feb 2025 20:54:00 +0100 (CET) Received: from mail-ot1-f100.google.com (mail-ot1-f100.google.com [209.85.210.100]) by mails.dpdk.org (Postfix) with ESMTP id 7D4A84026C for ; Fri, 7 Feb 2025 20:53:58 +0100 (CET) Received: by mail-ot1-f100.google.com with SMTP id 46e09a7af769-71df1f45b0cso1803556a34.1 for ; Fri, 07 Feb 2025 11:53:58 -0800 (PST) DKIM-Signature: v=1; a=rsa-sha256; c=relaxed/relaxed; d=iol.unh.edu; s=unh-iol; t=1738958037; x=1739562837; darn=dpdk.org; h=cc:to:from:subject:message-id:date:from:to:cc:subject:date :message-id:reply-to; bh=SP38qdKljyvwalk69YX36l3YZhoBpFTLYiUyCCu2hmU=; b=CMwPMdJoU+rVrKfsttnXyvQLbN66I+RWViPqQ2/A3T/jUhijpRZKOC7L/Tj23Tkl7V LdTioY43TP2JUlYArFxlC2nbi4yXo/tV8XOdvB5hfZ/xZ+IMQ22oUQsMln96X3DTyc9B hzE/jKxYebnfflhBZbde6a9Vu2R8kTAnBiLds= X-Google-DKIM-Signature: v=1; a=rsa-sha256; c=relaxed/relaxed; d=1e100.net; s=20230601; t=1738958037; x=1739562837; h=cc:to:from:subject:message-id:date:x-gm-message-state:from:to:cc :subject:date:message-id:reply-to; bh=SP38qdKljyvwalk69YX36l3YZhoBpFTLYiUyCCu2hmU=; b=nji3J0U2PlHo2Wv0QZwQSjxZqk2X4lnXNCyUxjm1E6L+gH/6eH30tKnP+zfCl5X6cK HhkqQm4vxkZvkX3QQKVd+cxqF/QZvEiFUf4TXMno4vt3GW95uPvMHbOngUB7QsUkjYyM U/XKteRha3w286OAV7oVJeGAeNWiT3SkU+kke5anXGNgttgBlQAEVDgOMw8exey+o3cg OO1WFRAGKLJQJMX8LJBBJmAD35WkKy/VCzOWSv1RDJN3KHIpuQU4DAKfOe9/wMwMJmvO BW/+ZRxMCXdBcWOMIrQTs7jhmKnE3zv90MSPnizKO+yFfHsaT12a2A/Ml/x6xTwi9RBC 8zyg== X-Gm-Message-State: AOJu0Yy3lh6azZeMMGgkvbMScnuNDu06YmBD0+EyObrp22FgXCLBz4nO R9XYqtnn7rGtr7JW/6r8Rqc6C7H9yggmJO5qVJRGr8HeR9nPhs91en3Hes3dd3C3+i9jnGnD01s E4sKsTkXw8b33aVeuDW/VVIQ0NXIdYUzM5L8XApsf X-Gm-Gg: ASbGnctvcockJSHykV6D9OwpLQ5SFtrcgMxSsDyr7TndXJONtnkR+RYiOfM1/d6/k7o c/TjmGmrKukJSM6AVRdBGIuUymnA/vIfCCgjTFNzL56rnZPrGiDuXndrRgmJR5KYqtvJ6xvYGVG vgCFdalGJCSyt+9W23gcoC1c1ykzafSSfBHNUNSOQ0Oo8RAB0SQaiMOsHuoGzAdI+O8wysx2i9b ONyJ49UqU3Bm1PAIJ5OKi55mohAI1MNUpbLyelcHlHAbk3vsRuglCI0lhCwYmiFuSavmybJWlJp 7CvA78cxi9VUhYtWOaYgxCALXTtcFg== X-Google-Smtp-Source: AGHT+IFvMUuSQYX4POXo3veG5jIEUB32LbOy5nablkh18qBeGRnEBNJvFqLKY1BoiFblElyc/sllfN5CsWPe X-Received: by 2002:a05:6870:b295:b0:29f:bdf0:f0f5 with SMTP id 586e51a60fabf-2b81ed7839fmr6129674fac.17.1738958037718; Fri, 07 Feb 2025 11:53:57 -0800 (PST) Received: from postal.iol.unh.edu (postal.iol.unh.edu. [132.177.123.84]) by smtp-relay.gmail.com with ESMTPS id 586e51a60fabf-2b825fc752bsm216335fac.14.2025.02.07.11.53.57 (version=TLS1_2 cipher=ECDHE-ECDSA-AES128-GCM-SHA256 bits=128/128); Fri, 07 Feb 2025 11:53:57 -0800 (PST) X-Relaying-Domain: iol.unh.edu Date: Fri, 07 Feb 2025 11:53:57 -0800 (PST) Message-ID: <67a664d5.050a0220.4dfbc.b576SMTPIN_ADDED_MISSING@mx.google.com> Received: from [172.21.0.14] (unknown [172.18.0.240]) by postal.iol.unh.edu (Postfix) with ESMTP id 344346052483; Fri, 7 Feb 2025 14:53:57 -0500 (EST) Subject: |SUCCESS| [GIT MASTER] fd51012de5369679e807be1d6a81d63ef15015ce From: dpdklab@iol.unh.edu To: Test Report Cc: dpdk-test-reports@iol.unh.edu Content-Type: text/plain X-BeenThere: test-report@dpdk.org X-Mailman-Version: 2.1.29 Precedence: list List-Id: automatic DPDK test reports List-Unsubscribe: , List-Archive: List-Post: List-Help: List-Subscribe: , Errors-To: test-report-bounces@dpdk.org _Testing PASS_ Branch: dpdk fd51012de5369679e807be1d6a81d63ef15015ce --> testing pass Test environment and result as below: +---------------------+--------------------+------------------+-------------------+-------------------------+-------------------+----------------------+ | Environment | dpdk_meson_compile | dpdk_compile_ovs | dpdk_compile_spdk | dpdk_llvm_clang_compile | dpdk_msvc_compile | dpdk_mingw64_compile | +=====================+====================+==================+===================+=========================+===================+======================+ | Debian Bullseye | PASS | PASS | PASS | SKIPPED | SKIPPED | SKIPPED | +---------------------+--------------------+------------------+-------------------+-------------------------+-------------------+----------------------+ | Debian 12 | PASS | PASS | PASS | SKIPPED | SKIPPED | SKIPPED | +---------------------+--------------------+------------------+-------------------+-------------------------+-------------------+----------------------+ | Fedora 40 (Clang) | PASS | PASS | PASS | SKIPPED | SKIPPED | SKIPPED | +---------------------+--------------------+------------------+-------------------+-------------------------+-------------------+----------------------+ | Fedora 40 | PASS | PASS | PASS | SKIPPED | SKIPPED | SKIPPED | +---------------------+--------------------+------------------+-------------------+-------------------------+-------------------+----------------------+ | Fedora 41 (Clang) | PASS | PASS | PASS | SKIPPED | SKIPPED | SKIPPED | +---------------------+--------------------+------------------+-------------------+-------------------------+-------------------+----------------------+ | Fedora 41 | PASS | PASS | PASS | SKIPPED | SKIPPED | SKIPPED | +---------------------+--------------------+------------------+-------------------+-------------------------+-------------------+----------------------+ | openSUSE Leap 15 | PASS | SKIPPED | SKIPPED | SKIPPED | SKIPPED | SKIPPED | +---------------------+--------------------+------------------+-------------------+-------------------------+-------------------+----------------------+ | RHEL8 | PASS | PASS | SKIPPED | SKIPPED | SKIPPED | SKIPPED | +---------------------+--------------------+------------------+-------------------+-------------------------+-------------------+----------------------+ | RHEL9 | PASS | PASS | SKIPPED | SKIPPED | SKIPPED | SKIPPED | +---------------------+--------------------+------------------+-------------------+-------------------------+-------------------+----------------------+ | Ubuntu 20.04 | PASS | SKIPPED | SKIPPED | SKIPPED | SKIPPED | SKIPPED | +---------------------+--------------------+------------------+-------------------+-------------------------+-------------------+----------------------+ | Ubuntu 22.04 | PASS | PASS | PASS | SKIPPED | SKIPPED | SKIPPED | +---------------------+--------------------+------------------+-------------------+-------------------------+-------------------+----------------------+ | Ubuntu 24.04 | PASS | PASS | PASS | SKIPPED | SKIPPED | SKIPPED | +---------------------+--------------------+------------------+-------------------+-------------------------+-------------------+----------------------+ | Alpine | PASS | PASS | SKIPPED | SKIPPED | SKIPPED | SKIPPED | +---------------------+--------------------+------------------+-------------------+-------------------------+-------------------+----------------------+ | FreeBSD 13.4 | PASS | SKIPPED | SKIPPED | SKIPPED | SKIPPED | SKIPPED | +---------------------+--------------------+------------------+-------------------+-------------------------+-------------------+----------------------+ | FreeBSD 14.2 | PASS | SKIPPED | SKIPPED | SKIPPED | SKIPPED | SKIPPED | +---------------------+--------------------+------------------+-------------------+-------------------------+-------------------+----------------------+ | CentOS Stream 9 | PASS | PASS | PASS | SKIPPED | SKIPPED | SKIPPED | +---------------------+--------------------+------------------+-------------------+-------------------------+-------------------+----------------------+ | Arch Linux | PASS | PASS | SKIPPED | SKIPPED | SKIPPED | SKIPPED | +---------------------+--------------------+------------------+-------------------+-------------------------+-------------------+----------------------+ | Windows Server 2022 | SKIPPED | SKIPPED | SKIPPED | PASS | PASS | PASS | +---------------------+--------------------+------------------+-------------------+-------------------------+-------------------+----------------------+ Debian Bullseye Kernel: Depends on container host Compiler: gcc (Debian 10.2.1-6) 10.2.1 20210110 Debian 12 Kernel: Depends on container host Compiler: gcc (Debian 12.2.0-14) 12.2.0 Fedora 40 (Clang) Kernel: Depends on container host Compiler: clang 18.1.8 (Fedora 18.1.8-1.fc40) Fedora 40 Kernel: Depends on container host Compiler: gcc 14.2.1 20240912 (Red Hat 14.2.1-3) Fedora 41 (Clang) Kernel: Depends on container host Compiler: clang 19.1.5 (Fedora 19.1.5-1.fc41) Fedora 41 Kernel: Depends on container host Compiler: gcc 14.2.1 20240912 (Red Hat 14.2.1-3) openSUSE Leap 15 Kernel: Depends on container host Compiler: gcc (SUSE Linux) 7.5.0 RHEL8 Kernel: Depends on container host Compiler: gcc 8.5.0 20210514 (Red Hat 8.5.0-22) RHEL9 Kernel: Depends on container host Compiler: gcc 11.5.0 20240719 (Red Hat 11.5.0-2) Ubuntu 20.04 Kernel: Depends on container host Compiler: gcc (Ubuntu 9.4.0-1ubuntu1~20.04.2) 9.4.0 Ubuntu 22.04 Kernel: Depends on container host Compiler: gcc (Ubuntu 11.4.0-1ubuntu1~22.04) 11.4.0 Ubuntu 24.04 Kernel: Depends on container host Compiler: gcc (Ubuntu 13.3.0-6ubuntu2~24.04) 13.3.0 Alpine Kernel: Depends on container host Compiler: gcc (Alpine 14.2.0) 14.2.0 FreeBSD 13.4 Kernel: 13.4-RELEASE-p1 Compiler: clang 18.1.6 FreeBSD 14.2 Kernel: 14.2-RELEASE Compiler: clang 18.1.6 CentOS Stream 9 Kernel: Depends on container host Compiler: gcc 11.5.0 20240719 (Red Hat 11.5.0-2) Arch Linux Kernel: Depends on container host Compiler: gcc 14.2.1 20240910 Windows Server 2022 Kernel: 10.0.20348.2031 Compiler: clang 15.0.7, gcc 14.1.0 (MinGW), and MSVC VS 19.39.33521 To view detailed results, visit: https://lab.dpdk.org/results/dashboard/tarballs/32047/ UNH-IOL DPDK Community Lab To manage your email subscriptions, visit: https://lab.dpdk.org/results/dashboard/preferences/subscriptions/