From mboxrd@z Thu Jan 1 00:00:00 1970 Return-Path: Received: from mails.dpdk.org (mails.dpdk.org [217.70.189.124]) by inbox.dpdk.org (Postfix) with ESMTP id 056CC461BF for ; Fri, 7 Feb 2025 20:55:36 +0100 (CET) Received: from mails.dpdk.org (localhost [127.0.0.1]) by mails.dpdk.org (Postfix) with ESMTP id 02A3640290; Fri, 7 Feb 2025 20:55:36 +0100 (CET) Received: from mail-io1-f97.google.com (mail-io1-f97.google.com [209.85.166.97]) by mails.dpdk.org (Postfix) with ESMTP id 8994C4026C for ; Fri, 7 Feb 2025 20:55:34 +0100 (CET) Received: by mail-io1-f97.google.com with SMTP id ca18e2360f4ac-844dfe4b136so66313439f.3 for ; Fri, 07 Feb 2025 11:55:34 -0800 (PST) DKIM-Signature: v=1; a=rsa-sha256; c=relaxed/relaxed; d=iol.unh.edu; s=unh-iol; t=1738958134; x=1739562934; darn=dpdk.org; h=references:in-reply-to:cc:to:from:subject:message-id:date:from:to :cc:subject:date:message-id:reply-to; bh=MDcGE+c5EYh4R0g8oBwpcG5gGXX3WcgLrQ1BBQ1rdKo=; b=VqiBiVcPsWc4icDsmZp8ZSEiVRdneeXHBl1/oP0msCTn1K4mEN3CkHBKTlZcOxQGmG otNQAJ0HhZdWBXX9ukJNpXAQaWzK9k5BVtyLD9Ysg6VuuXWrtaTx6MhGpRMOwr1CqHvo dzIFt3pc0KFStlHKdrdtPX+jqb89qJaB/ZsfQ= X-Google-DKIM-Signature: v=1; a=rsa-sha256; c=relaxed/relaxed; d=1e100.net; s=20230601; t=1738958134; x=1739562934; h=references:in-reply-to:cc:to:from:subject:message-id:date :x-gm-message-state:from:to:cc:subject:date:message-id:reply-to; bh=MDcGE+c5EYh4R0g8oBwpcG5gGXX3WcgLrQ1BBQ1rdKo=; b=F92gA34v+JCVcCx13/GwlWmyrrIPaoUq2XF7ND2EIkr2ByDyz5wLYdRGWkV4Wu+JEr W3w6rrK88et+D0a37QMtna9kNheiQstNnfDN0ZOR2zex2yiDEahpDKVLQEBwn+W2c64E YxAe1kMRq67sI/7J3T3lizYxll0HQPcFY3k50fugF4miDjUeairle+7IktiLfFnaZJT0 TzVKgPfPUbMt26B6rpgpY/nN8TAvkKD2gYEH6kBSadJs9Y0lV9++R+d3krRevYWLT78o WbMhgcDFTXcUVKYqa6aORhjrQkBO4FrXVAC9poTdIemY4LBb9JZeW+rX2Wmnuow/AxX9 J+jg== X-Gm-Message-State: AOJu0Yx560XzmIftco9GghdwM81ZVR/Ku+vWE18CCGo4fuqjKte6NEkg sdRjn2gQqjtcsoP2WjoyYhLJl290kbmT4ugSEEX5uoFjYv06wu4KPdqK5g5zUXUzNMzQwUcBluv khyLpXfbSjwkxLBdrtYTuK70zIcLebP02b6M/hwG6 X-Gm-Gg: ASbGncspo/GIIQb3rmG+sRbuzPYm9LchNkxDSASxV370ogxHMbFopOuvTOetTva9pYR ZAAiXAP/T3l4HzIodnGtEXZNbDyl/kfkwJdgEvV8u+XAZogbibDoElshMCd4c0vIJ3ePOr09U3L TSEDCIrIbRSczCWP59BN8f1SuG8G6AwNAII8Wo53jzt2bNviNOY7JKid5bLoRcG/QAIlPp6x62c 40LgdmxPuurpSRfVBwrwacbGWhzTDfGZyE8F8LNM/KB4FEmV7WL1OghRUOk+vgqUuG5zCjrEodj qFqVMrCINqfHMKSWmwvLNMcUoW4cIA== X-Google-Smtp-Source: AGHT+IG2uDt4wXD4uUjAIO3496Axp4Nb5Y9ee/kmKLO1FI4Ipj1EmUMBQ9U+iADO0Syz0V57a8X0G0FFu3iY X-Received: by 2002:a05:6602:7210:b0:842:ef83:d3b2 with SMTP id ca18e2360f4ac-854fd929c92mr534540439f.12.1738958133905; Fri, 07 Feb 2025 11:55:33 -0800 (PST) Received: from postal.iol.unh.edu (postal.iol.unh.edu. [132.177.123.84]) by smtp-relay.gmail.com with ESMTPS id ca18e2360f4ac-854f675bbbbsm24897639f.26.2025.02.07.11.55.33 (version=TLS1_2 cipher=ECDHE-ECDSA-AES128-GCM-SHA256 bits=128/128); Fri, 07 Feb 2025 11:55:33 -0800 (PST) X-Relaying-Domain: iol.unh.edu Date: Fri, 07 Feb 2025 11:55:33 -0800 (PST) Message-ID: <67a66535.050a0220.2e0bff.c8dfSMTPIN_ADDED_MISSING@mx.google.com> Received: from [172.21.0.6] (unknown [172.18.0.240]) by postal.iol.unh.edu (Postfix) with ESMTP id 6FF756052471; Fri, 7 Feb 2025 14:55:33 -0500 (EST) Subject: |SUCCESS| pw149444 [PATCH] [v2] net/gve: Allocate qpl pages using ma From: dpdklab@iol.unh.edu To: Test Report Cc: dpdk-test-reports@iol.unh.edu In-Reply-To: <20241223201623.5666-1-joshwash@google.com> References: <20241223201623.5666-1-joshwash@google.com> Content-Type: text/plain X-BeenThere: test-report@dpdk.org X-Mailman-Version: 2.1.29 Precedence: list List-Id: automatic DPDK test reports List-Unsubscribe: , List-Archive: List-Post: List-Help: List-Subscribe: , Errors-To: test-report-bounces@dpdk.org Test-Label: iol-compile-amd64-testing Test-Status: SUCCESS http://dpdk.org/patch/149444 _Testing PASS_ Submitter: Joshua Washington Date: Monday, December 23 2024 20:16:23 DPDK git baseline: Repo:dpdk Branch: master CommitID:94ad302b4ebba4a5b6706a1c43ea0505e5098169 149444 --> testing pass Test environment and result as below: +---------------------+--------------------+------------------+-------------------+-------------------+-------------------------+----------------------+ | Environment | dpdk_meson_compile | dpdk_compile_ovs | dpdk_compile_spdk | dpdk_msvc_compile | dpdk_llvm_clang_compile | dpdk_mingw64_compile | +=====================+====================+==================+===================+===================+=========================+======================+ | Debian Bullseye | PASS | PASS | PASS | SKIPPED | SKIPPED | SKIPPED | +---------------------+--------------------+------------------+-------------------+-------------------+-------------------------+----------------------+ | Debian 12 | PASS | PASS | PASS | SKIPPED | SKIPPED | SKIPPED | +---------------------+--------------------+------------------+-------------------+-------------------+-------------------------+----------------------+ | Fedora 41 (Clang) | PASS | PASS | PASS | SKIPPED | SKIPPED | SKIPPED | +---------------------+--------------------+------------------+-------------------+-------------------+-------------------------+----------------------+ | Fedora 40 | PASS | PASS | PASS | SKIPPED | SKIPPED | SKIPPED | +---------------------+--------------------+------------------+-------------------+-------------------+-------------------------+----------------------+ | Fedora 40 (Clang) | PASS | PASS | PASS | SKIPPED | SKIPPED | SKIPPED | +---------------------+--------------------+------------------+-------------------+-------------------+-------------------------+----------------------+ | RHEL8 | PASS | PASS | SKIPPED | SKIPPED | SKIPPED | SKIPPED | +---------------------+--------------------+------------------+-------------------+-------------------+-------------------------+----------------------+ | RHEL9 | PASS | PASS | SKIPPED | SKIPPED | SKIPPED | SKIPPED | +---------------------+--------------------+------------------+-------------------+-------------------+-------------------------+----------------------+ | Ubuntu 20.04 | PASS | SKIPPED | SKIPPED | SKIPPED | SKIPPED | SKIPPED | +---------------------+--------------------+------------------+-------------------+-------------------+-------------------------+----------------------+ | Ubuntu 22.04 | PASS | PASS | PASS | SKIPPED | SKIPPED | SKIPPED | +---------------------+--------------------+------------------+-------------------+-------------------+-------------------------+----------------------+ | Ubuntu 24.04 | PASS | PASS | PASS | SKIPPED | SKIPPED | SKIPPED | +---------------------+--------------------+------------------+-------------------+-------------------+-------------------------+----------------------+ | Alpine | PASS | PASS | SKIPPED | SKIPPED | SKIPPED | SKIPPED | +---------------------+--------------------+------------------+-------------------+-------------------+-------------------------+----------------------+ | FreeBSD 13.4 | PASS | SKIPPED | SKIPPED | SKIPPED | SKIPPED | SKIPPED | +---------------------+--------------------+------------------+-------------------+-------------------+-------------------------+----------------------+ | FreeBSD 14.2 | PASS | SKIPPED | SKIPPED | SKIPPED | SKIPPED | SKIPPED | +---------------------+--------------------+------------------+-------------------+-------------------+-------------------------+----------------------+ | Fedora 39 (Clang) | PASS | PASS | PASS | SKIPPED | SKIPPED | SKIPPED | +---------------------+--------------------+------------------+-------------------+-------------------+-------------------------+----------------------+ | openSUSE Leap 15 | PASS | SKIPPED | SKIPPED | SKIPPED | SKIPPED | SKIPPED | +---------------------+--------------------+------------------+-------------------+-------------------+-------------------------+----------------------+ | Fedora 39 | PASS | PASS | PASS | SKIPPED | SKIPPED | SKIPPED | +---------------------+--------------------+------------------+-------------------+-------------------+-------------------------+----------------------+ | Fedora 41 | PASS | PASS | PASS | SKIPPED | SKIPPED | SKIPPED | +---------------------+--------------------+------------------+-------------------+-------------------+-------------------------+----------------------+ | Windows Server 2022 | SKIPPED | SKIPPED | SKIPPED | PASS | PASS | PASS | +---------------------+--------------------+------------------+-------------------+-------------------+-------------------------+----------------------+ Debian Bullseye Kernel: Depends on container host Compiler: gcc (Debian 10.2.1-6) 10.2.1 20210110 Debian 12 Kernel: Depends on container host Compiler: gcc (Debian 12.2.0-14) 12.2.0 Fedora 41 (Clang) Kernel: Depends on container host Compiler: clang 19.1.5 (Fedora 19.1.5-1.fc41) Fedora 40 Kernel: Depends on container host Compiler: gcc 14.2.1 20240912 (Red Hat 14.2.1-3) Fedora 40 (Clang) Kernel: Depends on container host Compiler: clang 18.1.8 (Fedora 18.1.8-1.fc40) RHEL8 Kernel: Depends on container host Compiler: gcc 8.5.0 20210514 (Red Hat 8.5.0-22) RHEL9 Kernel: Depends on container host Compiler: gcc 11.5.0 20240719 (Red Hat 11.5.0-2) Ubuntu 20.04 Kernel: Depends on container host Compiler: gcc (Ubuntu 9.4.0-1ubuntu1~20.04.2) 9.4.0 Ubuntu 22.04 Kernel: Depends on container host Compiler: gcc (Ubuntu 11.4.0-1ubuntu1~22.04) 11.4.0 Ubuntu 24.04 Kernel: Depends on container host Compiler: gcc (Ubuntu 13.3.0-6ubuntu2~24.04) 13.3.0 Alpine Kernel: Depends on container host Compiler: gcc (Alpine 14.2.0) 14.2.0 FreeBSD 13.4 Kernel: 13.4-RELEASE-p1 Compiler: clang 18.1.6 FreeBSD 14.2 Kernel: 14.2-RELEASE Compiler: clang 18.1.6 Fedora 39 (Clang) Kernel: Depends on container host Compiler: clang 17.0.6 (Fedora 17.0.6-2.fc39) openSUSE Leap 15 Kernel: Depends on container host Compiler: gcc (SUSE Linux) 7.5.0 Fedora 39 Kernel: Depends on container host Compiler: gcc 13.3.1 20240522 (Red Hat 13.3.1-1) Fedora 41 Kernel: Depends on container host Compiler: gcc 14.2.1 20240912 (Red Hat 14.2.1-3) Windows Server 2022 Kernel: 10.0.20348.2031 Compiler: clang 15.0.7, gcc 14.1.0 (MinGW), and MSVC VS 19.39.33521 To view detailed results, visit: https://lab.dpdk.org/results/dashboard/patchsets/32204/ UNH-IOL DPDK Community Lab To manage your email subscriptions, visit: https://lab.dpdk.org/results/dashboard/preferences/subscriptions/