From mboxrd@z Thu Jan 1 00:00:00 1970 Return-Path: Received: from mails.dpdk.org (mails.dpdk.org [217.70.189.124]) by inbox.dpdk.org (Postfix) with ESMTP id 157E8461BF for ; Fri, 7 Feb 2025 20:55:50 +0100 (CET) Received: from mails.dpdk.org (localhost [127.0.0.1]) by mails.dpdk.org (Postfix) with ESMTP id 11DF740290; Fri, 7 Feb 2025 20:55:50 +0100 (CET) Received: from mail-qt1-f226.google.com (mail-qt1-f226.google.com [209.85.160.226]) by mails.dpdk.org (Postfix) with ESMTP id 2D0994026C for ; Fri, 7 Feb 2025 20:55:49 +0100 (CET) Received: by mail-qt1-f226.google.com with SMTP id d75a77b69052e-46c8474d8daso19172981cf.3 for ; Fri, 07 Feb 2025 11:55:49 -0800 (PST) DKIM-Signature: v=1; a=rsa-sha256; c=relaxed/relaxed; d=iol.unh.edu; s=unh-iol; t=1738958148; x=1739562948; darn=dpdk.org; h=references:in-reply-to:cc:to:from:subject:message-id:date:from:to :cc:subject:date:message-id:reply-to; bh=Aq4ZsQWUOxdbMkqAujHX6XZ8mFZbMDOkMowaWma9UcA=; b=JHu+YUAkVC4ERGsfdLXphO14wUl9j3+pAcw8V3FyY1VXVAr+dX1Celt1yhOiidMLCy uzMxKBcDRtrKgrAj76ao5ZinH26Wqe4+eBVzPScjHXfElAK2i9jIDcnz0LHvXr/B7bLB pPATg79T6Efj05HxUAzRIvkuCxjH7HCQ1UxyA= X-Google-DKIM-Signature: v=1; a=rsa-sha256; c=relaxed/relaxed; d=1e100.net; s=20230601; t=1738958148; x=1739562948; h=references:in-reply-to:cc:to:from:subject:message-id:date :x-gm-message-state:from:to:cc:subject:date:message-id:reply-to; bh=Aq4ZsQWUOxdbMkqAujHX6XZ8mFZbMDOkMowaWma9UcA=; b=o+ba3oRibgydS/IGCSmEaplvLkw4RfzpXZo/godb4aAsgfA9FJTxJSh1G33o9tgcuB DmJgn6/BDnZO/15Jm2EbYQ5xT1SHV6qGtgNXoNIY8/bkvOcZ2oYz5LmtDr2Hqxl8E4ql g1A13ol5jo/ExTK9fK5COW+ImA1Fo6PO227GeqdJ1/ZMxN1PEKS0PVEL48+RYUlQc3F8 3uMlBl6+mRR1wMUgR4NEyfdA8ZLurszqutIcLQ856K97pDpasijmsnKx7zzjKxJobcKT ViSmKfYPRZ0IqYYc5+y54nBC8/6KDkRooVYBMLyHEceWvvHBBfG59hLummFbYvVakgr7 1QTw== X-Gm-Message-State: AOJu0YzVh4oHZV4MFgljnK7UntAV0bzGLGUHXeDtZPwp0WmjhUCt8hIB zENM+ftv/xvbX54ipFunHX/exE2aCXpmjnBSbCR5KqXdhhaPwIjVfVZ4zncLRiiaH0Fk5jRefFE SU7H34yk2qwrXfmv4wkqKHFYexZEpEq6A6Hst+zcb X-Gm-Gg: ASbGncttvsGihw8Fb+D5nwaOeMvmlhrKrH3r56LrKM+K9sCJB2RcDqAQCkdAq9F8Ajg gDU41ceLwHwuBWuFgXneKNOHfonLNV85xn1BF5J5Qi1X7Z7r9Dt/kGGGmlVBXeLUoG+vrUk/FCy GCiZozxWDD5S6fbQbzDeEU4MFlm42fTvb/7pr3NVSUM2+tt322GQAs7PyAuZ0CW/LtIGrXLiRxz Ac3gW6rgKNQ/hd7zxzeddL192y2rqjhlE1pZuyyCGqJCXsWAMe0c/wdxAhsMAXMzT750oN1gTzS z7OpulKEmmQJLv703r82mEVFeXH4tA== X-Google-Smtp-Source: AGHT+IF6Tm3JiSg7T7hqXvjEjhtsxPmS0bxL88cwHxZUGDvGDVrZrP5X0oX7xJ0xDq2+G84IKNHvhutW9PE6 X-Received: by 2002:a05:622a:8a:b0:46c:78cc:e48 with SMTP id d75a77b69052e-471679a903amr56557281cf.9.1738958148434; Fri, 07 Feb 2025 11:55:48 -0800 (PST) Received: from postal.iol.unh.edu (postal.iol.unh.edu. [132.177.123.84]) by smtp-relay.gmail.com with ESMTPS id d75a77b69052e-471492764a2sm2062531cf.3.2025.02.07.11.55.48 (version=TLS1_2 cipher=ECDHE-ECDSA-AES128-GCM-SHA256 bits=128/128); Fri, 07 Feb 2025 11:55:48 -0800 (PST) X-Relaying-Domain: iol.unh.edu Date: Fri, 07 Feb 2025 11:55:48 -0800 (PST) Message-ID: <67a66544.050a0220.3732d6.aa3bSMTPIN_ADDED_MISSING@mx.google.com> Received: from [172.21.0.12] (unknown [172.18.0.240]) by postal.iol.unh.edu (Postfix) with ESMTP id 259706052472; Fri, 7 Feb 2025 14:55:48 -0500 (EST) Subject: |SUCCESS| pw149409 [PATCH] doc: install guides and api docs to diffe From: dpdklab@iol.unh.edu To: Test Report Cc: dpdk-test-reports@iol.unh.edu In-Reply-To: <20241223153846.230648-1-luca.boccassi@gmail.com> References: <20241223153846.230648-1-luca.boccassi@gmail.com> Content-Type: text/plain X-BeenThere: test-report@dpdk.org X-Mailman-Version: 2.1.29 Precedence: list List-Id: automatic DPDK test reports List-Unsubscribe: , List-Archive: List-Post: List-Help: List-Subscribe: , Errors-To: test-report-bounces@dpdk.org Test-Label: iol-compile-amd64-testing Test-Status: SUCCESS http://dpdk.org/patch/149409 _Testing PASS_ Submitter: Luca Boccassi Date: Monday, December 23 2024 15:38:40 DPDK git baseline: Repo:dpdk Branch: master CommitID:fd51012de5369679e807be1d6a81d63ef15015ce 149409 --> testing pass Test environment and result as below: +---------------------+--------------------+------------------+-------------------+-------------------------+-------------------+----------------------+ | Environment | dpdk_meson_compile | dpdk_compile_ovs | dpdk_compile_spdk | dpdk_llvm_clang_compile | dpdk_msvc_compile | dpdk_mingw64_compile | +=====================+====================+==================+===================+=========================+===================+======================+ | CentOS Stream 9 | PASS | PASS | PASS | SKIPPED | SKIPPED | SKIPPED | +---------------------+--------------------+------------------+-------------------+-------------------------+-------------------+----------------------+ | Debian 12 | PASS | PASS | PASS | SKIPPED | SKIPPED | SKIPPED | +---------------------+--------------------+------------------+-------------------+-------------------------+-------------------+----------------------+ | Debian Bullseye | PASS | PASS | PASS | SKIPPED | SKIPPED | SKIPPED | +---------------------+--------------------+------------------+-------------------+-------------------------+-------------------+----------------------+ | Fedora 39 (Clang) | PASS | PASS | PASS | SKIPPED | SKIPPED | SKIPPED | +---------------------+--------------------+------------------+-------------------+-------------------------+-------------------+----------------------+ | Fedora 39 | PASS | PASS | PASS | SKIPPED | SKIPPED | SKIPPED | +---------------------+--------------------+------------------+-------------------+-------------------------+-------------------+----------------------+ | Fedora 40 | PASS | PASS | PASS | SKIPPED | SKIPPED | SKIPPED | +---------------------+--------------------+------------------+-------------------+-------------------------+-------------------+----------------------+ | openSUSE Leap 15 | PASS | SKIPPED | SKIPPED | SKIPPED | SKIPPED | SKIPPED | +---------------------+--------------------+------------------+-------------------+-------------------------+-------------------+----------------------+ | RHEL8 | PASS | PASS | SKIPPED | SKIPPED | SKIPPED | SKIPPED | +---------------------+--------------------+------------------+-------------------+-------------------------+-------------------+----------------------+ | RHEL9 | PASS | PASS | SKIPPED | SKIPPED | SKIPPED | SKIPPED | +---------------------+--------------------+------------------+-------------------+-------------------------+-------------------+----------------------+ | Ubuntu 20.04 | PASS | SKIPPED | SKIPPED | SKIPPED | SKIPPED | SKIPPED | +---------------------+--------------------+------------------+-------------------+-------------------------+-------------------+----------------------+ | Ubuntu 22.04 | PASS | PASS | PASS | SKIPPED | SKIPPED | SKIPPED | +---------------------+--------------------+------------------+-------------------+-------------------------+-------------------+----------------------+ | Ubuntu 24.04 | PASS | PASS | PASS | SKIPPED | SKIPPED | SKIPPED | +---------------------+--------------------+------------------+-------------------+-------------------------+-------------------+----------------------+ | Alpine | PASS | PASS | SKIPPED | SKIPPED | SKIPPED | SKIPPED | +---------------------+--------------------+------------------+-------------------+-------------------------+-------------------+----------------------+ | FreeBSD 13.4 | PASS | SKIPPED | SKIPPED | SKIPPED | SKIPPED | SKIPPED | +---------------------+--------------------+------------------+-------------------+-------------------------+-------------------+----------------------+ | FreeBSD 14.2 | PASS | SKIPPED | SKIPPED | SKIPPED | SKIPPED | SKIPPED | +---------------------+--------------------+------------------+-------------------+-------------------------+-------------------+----------------------+ | Fedora 40 (Clang) | PASS | PASS | PASS | SKIPPED | SKIPPED | SKIPPED | +---------------------+--------------------+------------------+-------------------+-------------------------+-------------------+----------------------+ | Windows Server 2022 | SKIPPED | SKIPPED | SKIPPED | PASS | PASS | PASS | +---------------------+--------------------+------------------+-------------------+-------------------------+-------------------+----------------------+ CentOS Stream 9 Kernel: Depends on container host Compiler: gcc 11.5.0 20240719 (Red Hat 11.5.0-2) Debian 12 Kernel: Depends on container host Compiler: gcc (Debian 12.2.0-14) 12.2.0 Debian Bullseye Kernel: Depends on container host Compiler: gcc (Debian 10.2.1-6) 10.2.1 20210110 Fedora 39 (Clang) Kernel: Depends on container host Compiler: clang 17.0.6 (Fedora 17.0.6-2.fc39) Fedora 39 Kernel: Depends on container host Compiler: gcc 13.3.1 20240522 (Red Hat 13.3.1-1) Fedora 40 Kernel: Depends on container host Compiler: gcc 14.2.1 20240912 (Red Hat 14.2.1-3) openSUSE Leap 15 Kernel: Depends on container host Compiler: gcc (SUSE Linux) 7.5.0 RHEL8 Kernel: Depends on container host Compiler: gcc 8.5.0 20210514 (Red Hat 8.5.0-22) RHEL9 Kernel: Depends on container host Compiler: gcc 11.5.0 20240719 (Red Hat 11.5.0-2) Ubuntu 20.04 Kernel: Depends on container host Compiler: gcc (Ubuntu 9.4.0-1ubuntu1~20.04.2) 9.4.0 Ubuntu 22.04 Kernel: Depends on container host Compiler: gcc (Ubuntu 11.4.0-1ubuntu1~22.04) 11.4.0 Ubuntu 24.04 Kernel: Depends on container host Compiler: gcc (Ubuntu 13.3.0-6ubuntu2~24.04) 13.3.0 Alpine Kernel: Depends on container host Compiler: gcc (Alpine 14.2.0) 14.2.0 FreeBSD 13.4 Kernel: 13.4-RELEASE-p1 Compiler: clang 18.1.6 FreeBSD 14.2 Kernel: 14.2-RELEASE Compiler: clang 18.1.6 Fedora 40 (Clang) Kernel: Depends on container host Compiler: clang 18.1.8 (Fedora 18.1.8-1.fc40) Windows Server 2022 Kernel: 10.0.20348.2031 Compiler: clang 15.0.7, gcc 14.1.0 (MinGW), and MSVC VS 19.39.33521 To view detailed results, visit: https://lab.dpdk.org/results/dashboard/patchsets/32197/ UNH-IOL DPDK Community Lab To manage your email subscriptions, visit: https://lab.dpdk.org/results/dashboard/preferences/subscriptions/