From mboxrd@z Thu Jan 1 00:00:00 1970 Return-Path: Received: from mails.dpdk.org (mails.dpdk.org [217.70.189.124]) by inbox.dpdk.org (Postfix) with ESMTP id 251A3461BF for ; Fri, 7 Feb 2025 20:56:01 +0100 (CET) Received: from mails.dpdk.org (localhost [127.0.0.1]) by mails.dpdk.org (Postfix) with ESMTP id 20F9740290; Fri, 7 Feb 2025 20:56:01 +0100 (CET) Received: from mail-qt1-f226.google.com (mail-qt1-f226.google.com [209.85.160.226]) by mails.dpdk.org (Postfix) with ESMTP id 67C324026C for ; Fri, 7 Feb 2025 20:56:00 +0100 (CET) Received: by mail-qt1-f226.google.com with SMTP id d75a77b69052e-467a1ee7ff2so20781541cf.0 for ; Fri, 07 Feb 2025 11:56:00 -0800 (PST) DKIM-Signature: v=1; a=rsa-sha256; c=relaxed/relaxed; d=iol.unh.edu; s=unh-iol; t=1738958160; x=1739562960; darn=dpdk.org; h=references:in-reply-to:cc:to:from:subject:message-id:date:from:to :cc:subject:date:message-id:reply-to; bh=y9JuMAsqzGTN9L48pjK8TpA6EDoceC2XOKseNnb2yDc=; b=UIFT05LtQDOc8JGXZ8wWU1WNzSX//7R+VIfkPReDGFgTJpnIfGhWRb2Q8ePajXB1bR 5jvk7/8VtZSTrHundJ2088QmDOmN2dqL/aOoLrmUNRFMCNNfKCX1WY8ee2fM5lyQ3o4Q oDWLnGe9vKUp9EGzise7FecNFzz4BMZmM9J2Q= X-Google-DKIM-Signature: v=1; a=rsa-sha256; c=relaxed/relaxed; d=1e100.net; s=20230601; t=1738958160; x=1739562960; h=references:in-reply-to:cc:to:from:subject:message-id:date :x-gm-message-state:from:to:cc:subject:date:message-id:reply-to; bh=y9JuMAsqzGTN9L48pjK8TpA6EDoceC2XOKseNnb2yDc=; b=neciCUS2iHnfjwye18j7/64/6+mUpe//1b9i+KOiB9pExeuoHYlAf4+ts7ZUjZ5UWe OK7N4165duNX8CAzi3cX79tE/tHpzNR4Y24uDkK87mIsgu/2GE+GCXp2ku3YN+r1CVcw FntIKHyTVd/g9S52MagFOI9rhvJ+f95npyl92/n5en9dgGWSZOAh2wnUx02L7tZJ01Sx d7gPkRAfqT7s31HpBX8iA7A07iEIHd+qMV5sT7VOkS9I0gIwgX1uIuowJlonn3lkRTMf xLZ3RdybTYTtJvf15fJqDqhhtUwe6/tZ7lT3QNCKpqLr0bG2PLJMaQM7wx7dTvsWjLu4 rLFA== X-Gm-Message-State: AOJu0YxzxsWrRS2wCklSuO212V8b2l8z6XhOFVZzonz22GgoLq7r9HBt V9AMGz0YFokNO0fVgROgbO7aD5YMVtSu/kGonScxhUUyVjlyDMAHpIT7HrVbWKkki2fRoBrGMPi q/efOqJxVO9eW6E7dpCFhZZ79TV6KNAptg1z44SS1 X-Gm-Gg: ASbGncva4aF7rI7QvDhcm+3Cx2DzD38qu/8WuMgvm3nD26wdM62HMLTUGEMg39fAAWp Sc1cOcRsC9YDlsBpZIo/gINB2MWd1nnVH3cbOW+Sis4IHr1iNziONibeVIRTleKHPry/5tUzgtP O+FwnvH1mCTrCuZbi+BL8mWXy0ffZSNojRY2U3XQRcuBmPUi/Hx5czzrdXTmXlhrn1HUbPmfRHL J8G0vJonqdryYdXda7GY6WGxXh9D1KgHZc+myc6bSde8t21YtlndzJCfzPm8Hlpf9xB9TYLVJ6h BAAIXbBU0Vtiv710bt7kqKXqOQLt/g== X-Google-Smtp-Source: AGHT+IH1B/4vepqIK0wgTxbIxm0G0Px6ouWdYB1uUmXiNJC/9FOBMzkviyZDAaHeEMNNMOgUJI3rGWkYxy1I X-Received: by 2002:ac8:57d5:0:b0:46a:65c:b589 with SMTP id d75a77b69052e-47167996ec4mr56794521cf.6.1738958159754; Fri, 07 Feb 2025 11:55:59 -0800 (PST) Received: from postal.iol.unh.edu (postal.iol.unh.edu. [132.177.123.84]) by smtp-relay.gmail.com with ESMTPS id d75a77b69052e-471492a8202sm2042141cf.10.2025.02.07.11.55.59 (version=TLS1_2 cipher=ECDHE-ECDSA-AES128-GCM-SHA256 bits=128/128); Fri, 07 Feb 2025 11:55:59 -0800 (PST) X-Relaying-Domain: iol.unh.edu Date: Fri, 07 Feb 2025 11:55:59 -0800 (PST) Message-ID: <67a6654f.050a0220.3678bc.a60dSMTPIN_ADDED_MISSING@mx.google.com> Received: from [172.21.0.10] (unknown [172.18.0.240]) by postal.iol.unh.edu (Postfix) with ESMTP id 75D616052477; Fri, 7 Feb 2025 14:55:59 -0500 (EST) Subject: |SUCCESS| pw149413-149440 [PATCH] [v7,29/29] lib/vhost: replace pack From: dpdklab@iol.unh.edu To: Test Report Cc: dpdk-test-reports@iol.unh.edu In-Reply-To: <1734981122-4729-30-git-send-email-andremue@linux.microsoft.com> References: <1734981122-4729-30-git-send-email-andremue@linux.microsoft.com> Content-Type: text/plain X-BeenThere: test-report@dpdk.org X-Mailman-Version: 2.1.29 Precedence: list List-Id: automatic DPDK test reports List-Unsubscribe: , List-Archive: List-Post: List-Help: List-Subscribe: , Errors-To: test-report-bounces@dpdk.org Test-Label: iol-compile-amd64-testing Test-Status: SUCCESS http://dpdk.org/patch/149440 _Testing PASS_ Submitter: Andre Muezerie Date: Monday, December 23 2024 19:12:02 DPDK git baseline: Repo:dpdk Branch: master CommitID:fd51012de5369679e807be1d6a81d63ef15015ce 149413-149440 --> testing pass Test environment and result as below: +---------------------+--------------------+------------------+-------------------+-------------------+-------------------------+----------------------+ | Environment | dpdk_meson_compile | dpdk_compile_ovs | dpdk_compile_spdk | dpdk_msvc_compile | dpdk_llvm_clang_compile | dpdk_mingw64_compile | +=====================+====================+==================+===================+===================+=========================+======================+ | Debian 12 | PASS | PASS | PASS | SKIPPED | SKIPPED | SKIPPED | +---------------------+--------------------+------------------+-------------------+-------------------+-------------------------+----------------------+ | Fedora 40 (Clang) | PASS | PASS | PASS | SKIPPED | SKIPPED | SKIPPED | +---------------------+--------------------+------------------+-------------------+-------------------+-------------------------+----------------------+ | Fedora 39 | PASS | PASS | PASS | SKIPPED | SKIPPED | SKIPPED | +---------------------+--------------------+------------------+-------------------+-------------------+-------------------------+----------------------+ | Fedora 40 | PASS | PASS | PASS | SKIPPED | SKIPPED | SKIPPED | +---------------------+--------------------+------------------+-------------------+-------------------+-------------------------+----------------------+ | RHEL9 | PASS | PASS | SKIPPED | SKIPPED | SKIPPED | SKIPPED | +---------------------+--------------------+------------------+-------------------+-------------------+-------------------------+----------------------+ | Ubuntu 20.04 | PASS | SKIPPED | SKIPPED | SKIPPED | SKIPPED | SKIPPED | +---------------------+--------------------+------------------+-------------------+-------------------+-------------------------+----------------------+ | FreeBSD 13.4 | PASS | SKIPPED | SKIPPED | SKIPPED | SKIPPED | SKIPPED | +---------------------+--------------------+------------------+-------------------+-------------------+-------------------------+----------------------+ | Debian Bullseye | PASS | PASS | PASS | SKIPPED | SKIPPED | SKIPPED | +---------------------+--------------------+------------------+-------------------+-------------------+-------------------------+----------------------+ | Fedora 39 (Clang) | PASS | PASS | PASS | SKIPPED | SKIPPED | SKIPPED | +---------------------+--------------------+------------------+-------------------+-------------------+-------------------------+----------------------+ | CentOS Stream 9 | PASS | PASS | PASS | SKIPPED | SKIPPED | SKIPPED | +---------------------+--------------------+------------------+-------------------+-------------------+-------------------------+----------------------+ | openSUSE Leap 15 | PASS | SKIPPED | SKIPPED | SKIPPED | SKIPPED | SKIPPED | +---------------------+--------------------+------------------+-------------------+-------------------+-------------------------+----------------------+ | RHEL8 | PASS | PASS | SKIPPED | SKIPPED | SKIPPED | SKIPPED | +---------------------+--------------------+------------------+-------------------+-------------------+-------------------------+----------------------+ | FreeBSD 14.2 | PASS | SKIPPED | SKIPPED | SKIPPED | SKIPPED | SKIPPED | +---------------------+--------------------+------------------+-------------------+-------------------+-------------------------+----------------------+ | Alpine | PASS | PASS | SKIPPED | SKIPPED | SKIPPED | SKIPPED | +---------------------+--------------------+------------------+-------------------+-------------------+-------------------------+----------------------+ | Ubuntu 24.04 | PASS | PASS | PASS | SKIPPED | SKIPPED | SKIPPED | +---------------------+--------------------+------------------+-------------------+-------------------+-------------------------+----------------------+ | Windows Server 2022 | SKIPPED | SKIPPED | SKIPPED | PASS | PASS | PASS | +---------------------+--------------------+------------------+-------------------+-------------------+-------------------------+----------------------+ Debian 12 Kernel: Depends on container host Compiler: gcc (Debian 12.2.0-14) 12.2.0 Fedora 40 (Clang) Kernel: Depends on container host Compiler: clang 18.1.8 (Fedora 18.1.8-1.fc40) Fedora 39 Kernel: Depends on container host Compiler: gcc 13.3.1 20240522 (Red Hat 13.3.1-1) Fedora 40 Kernel: Depends on container host Compiler: gcc 14.2.1 20240912 (Red Hat 14.2.1-3) RHEL9 Kernel: Depends on container host Compiler: gcc 11.5.0 20240719 (Red Hat 11.5.0-2) Ubuntu 20.04 Kernel: Depends on container host Compiler: gcc (Ubuntu 9.4.0-1ubuntu1~20.04.2) 9.4.0 FreeBSD 13.4 Kernel: 13.4-RELEASE-p1 Compiler: clang 18.1.6 Debian Bullseye Kernel: Depends on container host Compiler: gcc (Debian 10.2.1-6) 10.2.1 20210110 Fedora 39 (Clang) Kernel: Depends on container host Compiler: clang 17.0.6 (Fedora 17.0.6-2.fc39) CentOS Stream 9 Kernel: Depends on container host Compiler: gcc 11.5.0 20240719 (Red Hat 11.5.0-2) openSUSE Leap 15 Kernel: Depends on container host Compiler: gcc (SUSE Linux) 7.5.0 RHEL8 Kernel: Depends on container host Compiler: gcc 8.5.0 20210514 (Red Hat 8.5.0-22) FreeBSD 14.2 Kernel: 14.2-RELEASE Compiler: clang 18.1.6 Alpine Kernel: Depends on container host Compiler: gcc (Alpine 14.2.0) 14.2.0 Ubuntu 24.04 Kernel: Depends on container host Compiler: gcc (Ubuntu 13.3.0-6ubuntu2~24.04) 13.3.0 Windows Server 2022 Kernel: 10.0.20348.2031 Compiler: clang 15.0.7, gcc 14.1.0 (MinGW), and MSVC VS 19.39.33521 To view detailed results, visit: https://lab.dpdk.org/results/dashboard/patchsets/32201/ UNH-IOL DPDK Community Lab To manage your email subscriptions, visit: https://lab.dpdk.org/results/dashboard/preferences/subscriptions/