automatic DPDK test reports
 help / color / mirror / Atom feed
From: dpdklab@iol.unh.edu
To: Test Report <test-report@dpdk.org>
Cc: dpdk-test-reports@iol.unh.edu
Subject: |SUCCESS| pw149411 [PATCH] [v13] dts: port over queue start/stop sui
Date: Fri, 07 Feb 2025 11:56:09 -0800 (PST)	[thread overview]
Message-ID: <67a66559.050a0220.2778d4.dffdSMTPIN_ADDED_MISSING@mx.google.com> (raw)
In-Reply-To: <20241223183901.20107-1-dmarx@iol.unh.edu>

Test-Label: iol-compile-amd64-testing
Test-Status: SUCCESS
http://dpdk.org/patch/149411

_Testing PASS_

Submitter: Dean Marx <dmarx@iol.unh.edu>
Date: Monday, December 23 2024 18:39:01 
DPDK git baseline: Repo:dpdk
  Branch: master
  CommitID:fd51012de5369679e807be1d6a81d63ef15015ce

149411 --> testing pass

Test environment and result as below:

+---------------------+--------------------+------------------+-------------------+-------------------+-------------------------+----------------------+
|     Environment     | dpdk_meson_compile | dpdk_compile_ovs | dpdk_compile_spdk | dpdk_msvc_compile | dpdk_llvm_clang_compile | dpdk_mingw64_compile |
+=====================+====================+==================+===================+===================+=========================+======================+
| CentOS Stream 9     | PASS               | PASS             | PASS              | SKIPPED           | SKIPPED                 | SKIPPED              |
+---------------------+--------------------+------------------+-------------------+-------------------+-------------------------+----------------------+
| Fedora 39 (Clang)   | PASS               | PASS             | PASS              | SKIPPED           | SKIPPED                 | SKIPPED              |
+---------------------+--------------------+------------------+-------------------+-------------------+-------------------------+----------------------+
| Debian Bullseye     | PASS               | PASS             | PASS              | SKIPPED           | SKIPPED                 | SKIPPED              |
+---------------------+--------------------+------------------+-------------------+-------------------+-------------------------+----------------------+
| Debian 12           | PASS               | PASS             | PASS              | SKIPPED           | SKIPPED                 | SKIPPED              |
+---------------------+--------------------+------------------+-------------------+-------------------+-------------------------+----------------------+
| Fedora 39           | PASS               | PASS             | PASS              | SKIPPED           | SKIPPED                 | SKIPPED              |
+---------------------+--------------------+------------------+-------------------+-------------------+-------------------------+----------------------+
| Fedora 40 (Clang)   | PASS               | PASS             | PASS              | SKIPPED           | SKIPPED                 | SKIPPED              |
+---------------------+--------------------+------------------+-------------------+-------------------+-------------------------+----------------------+
| Fedora 40           | PASS               | PASS             | PASS              | SKIPPED           | SKIPPED                 | SKIPPED              |
+---------------------+--------------------+------------------+-------------------+-------------------+-------------------------+----------------------+
| Fedora 41 (Clang)   | PASS               | PASS             | PASS              | SKIPPED           | SKIPPED                 | SKIPPED              |
+---------------------+--------------------+------------------+-------------------+-------------------+-------------------------+----------------------+
| Fedora 41           | PASS               | PASS             | PASS              | SKIPPED           | SKIPPED                 | SKIPPED              |
+---------------------+--------------------+------------------+-------------------+-------------------+-------------------------+----------------------+
| openSUSE Leap 15    | PASS               | SKIPPED          | SKIPPED           | SKIPPED           | SKIPPED                 | SKIPPED              |
+---------------------+--------------------+------------------+-------------------+-------------------+-------------------------+----------------------+
| RHEL9               | PASS               | PASS             | SKIPPED           | SKIPPED           | SKIPPED                 | SKIPPED              |
+---------------------+--------------------+------------------+-------------------+-------------------+-------------------------+----------------------+
| Ubuntu 20.04        | PASS               | SKIPPED          | SKIPPED           | SKIPPED           | SKIPPED                 | SKIPPED              |
+---------------------+--------------------+------------------+-------------------+-------------------+-------------------------+----------------------+
| Ubuntu 22.04        | PASS               | PASS             | PASS              | SKIPPED           | SKIPPED                 | SKIPPED              |
+---------------------+--------------------+------------------+-------------------+-------------------+-------------------------+----------------------+
| Ubuntu 24.04        | PASS               | PASS             | PASS              | SKIPPED           | SKIPPED                 | SKIPPED              |
+---------------------+--------------------+------------------+-------------------+-------------------+-------------------------+----------------------+
| Alpine              | PASS               | PASS             | SKIPPED           | SKIPPED           | SKIPPED                 | SKIPPED              |
+---------------------+--------------------+------------------+-------------------+-------------------+-------------------------+----------------------+
| FreeBSD 13.4        | PASS               | SKIPPED          | SKIPPED           | SKIPPED           | SKIPPED                 | SKIPPED              |
+---------------------+--------------------+------------------+-------------------+-------------------+-------------------------+----------------------+
| FreeBSD 14.2        | PASS               | SKIPPED          | SKIPPED           | SKIPPED           | SKIPPED                 | SKIPPED              |
+---------------------+--------------------+------------------+-------------------+-------------------+-------------------------+----------------------+
| RHEL8               | PASS               | PASS             | SKIPPED           | SKIPPED           | SKIPPED                 | SKIPPED              |
+---------------------+--------------------+------------------+-------------------+-------------------+-------------------------+----------------------+
| Windows Server 2022 | SKIPPED            | SKIPPED          | SKIPPED           | PASS              | PASS                    | PASS                 |
+---------------------+--------------------+------------------+-------------------+-------------------+-------------------------+----------------------+


CentOS Stream 9
	Kernel: Depends on container host
	Compiler: gcc 11.5.0 20240719 (Red Hat 11.5.0-2)

Fedora 39 (Clang)
	Kernel: Depends on container host
	Compiler: clang 17.0.6 (Fedora 17.0.6-2.fc39)

Debian Bullseye
	Kernel: Depends on container host
	Compiler: gcc (Debian 10.2.1-6) 10.2.1 20210110

Debian 12
	Kernel: Depends on container host
	Compiler: gcc (Debian 12.2.0-14) 12.2.0

Fedora 39
	Kernel: Depends on container host
	Compiler: gcc 13.3.1 20240522 (Red Hat 13.3.1-1)

Fedora 40 (Clang)
	Kernel: Depends on container host
	Compiler: clang 18.1.8 (Fedora 18.1.8-1.fc40)

Fedora 40
	Kernel: Depends on container host
	Compiler: gcc 14.2.1 20240912 (Red Hat 14.2.1-3)

Fedora 41 (Clang)
	Kernel: Depends on container host
	Compiler: clang 19.1.5 (Fedora 19.1.5-1.fc41)

Fedora 41
	Kernel: Depends on container host
	Compiler: gcc 14.2.1 20240912 (Red Hat 14.2.1-3)

openSUSE Leap 15
	Kernel: Depends on container host
	Compiler: gcc (SUSE Linux) 7.5.0

RHEL9
	Kernel: Depends on container host
	Compiler: gcc 11.5.0 20240719 (Red Hat 11.5.0-2)

Ubuntu 20.04
	Kernel: Depends on container host
	Compiler: gcc (Ubuntu 9.4.0-1ubuntu1~20.04.2) 9.4.0

Ubuntu 22.04
	Kernel: Depends on container host
	Compiler: gcc (Ubuntu 11.4.0-1ubuntu1~22.04) 11.4.0

Ubuntu 24.04
	Kernel: Depends on container host
	Compiler: gcc (Ubuntu 13.3.0-6ubuntu2~24.04) 13.3.0

Alpine
	Kernel: Depends on container host
	Compiler: gcc (Alpine 14.2.0) 14.2.0

FreeBSD 13.4
	Kernel: 13.4-RELEASE-p1
	Compiler: clang 18.1.6

FreeBSD 14.2
	Kernel: 14.2-RELEASE
	Compiler: clang 18.1.6

RHEL8
	Kernel: Depends on container host
	Compiler: gcc 8.5.0 20210514 (Red Hat 8.5.0-22)

Windows Server 2022
	Kernel: 10.0.20348.2031
	Compiler: clang 15.0.7, gcc 14.1.0 (MinGW), and MSVC VS 19.39.33521

To view detailed results, visit:
https://lab.dpdk.org/results/dashboard/patchsets/32199/

UNH-IOL DPDK Community Lab

To manage your email subscriptions, visit: 
https://lab.dpdk.org/results/dashboard/preferences/subscriptions/

      parent reply	other threads:[~2025-02-07 19:56 UTC|newest]

Thread overview: 27+ messages / expand[flat|nested]  mbox.gz  Atom feed  top
     [not found] <20241223183901.20107-1-dmarx@iol.unh.edu>
2024-12-23 17:07 ` |SUCCESS| pw149411 [PATCH v13] dts: port over queue start/stop suite qemudev
2024-12-23 17:12 ` qemudev
2024-12-23 17:37 ` checkpatch
2024-12-23 18:25 ` 0-day Robot
2024-12-23 21:34 ` |SUCCESS| pw149411 [PATCH] [v13] dts: port over queue start/stop sui dpdklab
2024-12-23 21:36 ` dpdklab
2024-12-23 21:44 ` dpdklab
2024-12-23 21:58 ` |PENDING| " dpdklab
2024-12-23 22:06 ` |SUCCESS| " dpdklab
2024-12-23 22:10 ` |PENDING| " dpdklab
2024-12-23 22:14 ` dpdklab
2024-12-23 22:31 ` dpdklab
2024-12-23 22:47 ` |SUCCESS| " dpdklab
2024-12-23 22:48 ` dpdklab
2024-12-23 22:51 ` dpdklab
2024-12-23 23:05 ` dpdklab
2024-12-23 23:16 ` |WARNING| " dpdklab
2024-12-23 23:17 ` dpdklab
2024-12-23 23:27 ` dpdklab
2024-12-24  0:26 ` |SUCCESS| " dpdklab
2024-12-24  1:38 ` dpdklab
2024-12-25 11:55 ` dpdklab
2024-12-25 12:20 ` dpdklab
2025-01-07  1:27 ` |WARNING| " dpdklab
2025-01-07  2:01 ` dpdklab
2025-02-07 18:13 ` dpdklab
2025-02-07 19:56 ` dpdklab [this message]

Reply instructions:

You may reply publicly to this message via plain-text email
using any one of the following methods:

* Save the following mbox file, import it into your mail client,
  and reply-to-all from there: mbox

  Avoid top-posting and favor interleaved quoting:
  https://en.wikipedia.org/wiki/Posting_style#Interleaved_style

* Reply using the --to, --cc, and --in-reply-to
  switches of git-send-email(1):

  git send-email \
    --in-reply-to=67a66559.050a0220.2778d4.dffdSMTPIN_ADDED_MISSING@mx.google.com \
    --to=dpdklab@iol.unh.edu \
    --cc=dpdk-test-reports@iol.unh.edu \
    --cc=test-report@dpdk.org \
    /path/to/YOUR_REPLY

  https://kernel.org/pub/software/scm/git/docs/git-send-email.html

* If your mail client supports setting the In-Reply-To header
  via mailto: links, try the mailto: link
Be sure your reply has a Subject: header at the top and a blank line before the message body.
This is a public inbox, see mirroring instructions
for how to clone and mirror all data and code used for this inbox;
as well as URLs for NNTP newsgroup(s).