From mboxrd@z Thu Jan 1 00:00:00 1970 Return-Path: Received: from mails.dpdk.org (mails.dpdk.org [217.70.189.124]) by inbox.dpdk.org (Postfix) with ESMTP id 415C4461BF for ; Fri, 7 Feb 2025 20:56:27 +0100 (CET) Received: from mails.dpdk.org (localhost [127.0.0.1]) by mails.dpdk.org (Postfix) with ESMTP id 3E8E340290; Fri, 7 Feb 2025 20:56:27 +0100 (CET) Received: from mail-io1-f98.google.com (mail-io1-f98.google.com [209.85.166.98]) by mails.dpdk.org (Postfix) with ESMTP id B73064026C for ; Fri, 7 Feb 2025 20:56:25 +0100 (CET) Received: by mail-io1-f98.google.com with SMTP id ca18e2360f4ac-844e7409f8aso70383039f.1 for ; Fri, 07 Feb 2025 11:56:25 -0800 (PST) DKIM-Signature: v=1; a=rsa-sha256; c=relaxed/relaxed; d=iol.unh.edu; s=unh-iol; t=1738958185; x=1739562985; darn=dpdk.org; h=references:in-reply-to:cc:to:from:subject:message-id:date:from:to :cc:subject:date:message-id:reply-to; bh=1USFeNbLdOHtA2U43/vmoFVH+EAbmwCTOmXueFYZGtc=; b=fEdAl9Q6zc4SHTqmUi52ViWx20AoFeXjsygQ5Aon0KRqVMNbC+ISGTmBy0rHvGzPUK sMSJFxnEfAMk20EWmesX2TtilC/q3zqkUrhKInn7BoNHQ5Eu4K4bOHEbOrmkWXqP8xbr 11DzXLUycqEwJKL+UzjWbpuukoGidxaFE3t/4= X-Google-DKIM-Signature: v=1; a=rsa-sha256; c=relaxed/relaxed; d=1e100.net; s=20230601; t=1738958185; x=1739562985; h=references:in-reply-to:cc:to:from:subject:message-id:date :x-gm-message-state:from:to:cc:subject:date:message-id:reply-to; bh=1USFeNbLdOHtA2U43/vmoFVH+EAbmwCTOmXueFYZGtc=; b=HU3FmTbD9kV+PNS59wa42sD449ISZ+VsYHMuzwJOzPVjjTYwiUCRT8Zh5Y8A2RlnQY T/9sqUn2rPRO16NYqBQRDXtPimtOuIuqT9Q7odfSHJvZw4gOJTfwooIozEJbtL8HYrOe ZzcqfS3S1L1bUuV1uj93SqMGz0LClEfc8hBnB6XWW6thTnuY3FvyGqRcNolm7m4VP1+A Hoyk5TUhsDFZJS0A4Pyhg8VAq8zyWKT9liT/8rNi1pH9E0CbkmK92TShyqqxWlxKuOBN xCztrKWDAInH3PWmp52Qact0NQJ8opbQFzc5kg3gDbHQnmgHxfoYzsX3ZkxkCTtqxMJG ksDQ== X-Gm-Message-State: AOJu0YwGfkZc3awju6RDWHlt0Cja/NJ0YsbPcxbTxSvM/5F3LxqvjlKI OsU+IWb3LMy+2IQEAyfxxgjzkjCqnMCtOrjwBSqwswC/4WlRBOl/D7z+l5uRQ8SN9hawDSXdjoy ZBBBWKZochimK9m4AwF3g3ahfWJizeGkHz5m5q4Pu X-Gm-Gg: ASbGncs3C2GMl89tAUW2b9LtXhQLKwRRJwxNF/HrdNTCqBdEQaA4v/ufw3DjxX88lXt mivWKnv/UfDA6QanyKjMucupNY9QcwtPuEH8PQddUGnPzdP3kF0DDnbbR/VvLdj9Yn5vUyG4+2y ifB8f2JTT1r+iXxo/i3GXT4eyRBiOqL9MkgIBgmY9nFlOdlq2HOnNnhYZ+RqNbAdff2I5Ry7SjV f06d22Y6H/06eMJftA3KqKHPEUJPOiYy8FwZWxR3WLIOg03qarBj8zXV9Ifq83bKaqGgUDc8ieM /qLXTjY8BKtUOoN6ypY9MN5b3W0Wkg== X-Google-Smtp-Source: AGHT+IH8gHiXPX6scO56NAzd4RlXxarnANEkkl8GVskc9sZVtZVMJUe4os7ximd2Cpqw3jofQ0QyHtTAk3Wl X-Received: by 2002:a05:6602:7210:b0:84f:537d:b097 with SMTP id ca18e2360f4ac-854fd9058f2mr468150639f.12.1738958185065; Fri, 07 Feb 2025 11:56:25 -0800 (PST) Received: from postal.iol.unh.edu (postal.iol.unh.edu. [132.177.123.84]) by smtp-relay.gmail.com with ESMTPS id 8926c6da1cb9f-4ece5594679sm14196173.6.2025.02.07.11.56.24 (version=TLS1_2 cipher=ECDHE-ECDSA-AES128-GCM-SHA256 bits=128/128); Fri, 07 Feb 2025 11:56:25 -0800 (PST) X-Relaying-Domain: iol.unh.edu Date: Fri, 07 Feb 2025 11:56:25 -0800 (PST) Message-ID: <67a66569.050a0220.838b8.0b15SMTPIN_ADDED_MISSING@mx.google.com> Received: from [172.21.0.11] (unknown [172.18.0.240]) by postal.iol.unh.edu (Postfix) with ESMTP id 97EB06052472; Fri, 7 Feb 2025 14:55:54 -0500 (EST) Subject: |SUCCESS| pw149444 [PATCH] [v2] net/gve: Allocate qpl pages using ma From: dpdklab@iol.unh.edu To: Test Report Cc: dpdk-test-reports@iol.unh.edu In-Reply-To: <20241223201623.5666-1-joshwash@google.com> References: <20241223201623.5666-1-joshwash@google.com> Content-Type: text/plain X-BeenThere: test-report@dpdk.org X-Mailman-Version: 2.1.29 Precedence: list List-Id: automatic DPDK test reports List-Unsubscribe: , List-Archive: List-Post: List-Help: List-Subscribe: , Errors-To: test-report-bounces@dpdk.org Test-Label: iol-compile-amd64-testing Test-Status: SUCCESS http://dpdk.org/patch/149444 _Testing PASS_ Submitter: Joshua Washington Date: Monday, December 23 2024 20:16:23 DPDK git baseline: Repo:dpdk Branch: master CommitID:94ad302b4ebba4a5b6706a1c43ea0505e5098169 149444 --> testing pass Test environment and result as below: +---------------------+--------------------+------------------+-------------------+-------------------+-------------------------+----------------------+ | Environment | dpdk_meson_compile | dpdk_compile_ovs | dpdk_compile_spdk | dpdk_msvc_compile | dpdk_llvm_clang_compile | dpdk_mingw64_compile | +=====================+====================+==================+===================+===================+=========================+======================+ | CentOS Stream 9 | PASS | PASS | PASS | SKIPPED | SKIPPED | SKIPPED | +---------------------+--------------------+------------------+-------------------+-------------------+-------------------------+----------------------+ | Debian 12 | PASS | PASS | PASS | SKIPPED | SKIPPED | SKIPPED | +---------------------+--------------------+------------------+-------------------+-------------------+-------------------------+----------------------+ | Fedora 39 (Clang) | PASS | PASS | PASS | SKIPPED | SKIPPED | SKIPPED | +---------------------+--------------------+------------------+-------------------+-------------------+-------------------------+----------------------+ | Fedora 39 | PASS | PASS | PASS | SKIPPED | SKIPPED | SKIPPED | +---------------------+--------------------+------------------+-------------------+-------------------+-------------------------+----------------------+ | Fedora 40 (Clang) | PASS | PASS | PASS | SKIPPED | SKIPPED | SKIPPED | +---------------------+--------------------+------------------+-------------------+-------------------+-------------------------+----------------------+ | Fedora 41 (Clang) | PASS | PASS | PASS | SKIPPED | SKIPPED | SKIPPED | +---------------------+--------------------+------------------+-------------------+-------------------+-------------------------+----------------------+ | Fedora 41 | PASS | PASS | PASS | SKIPPED | SKIPPED | SKIPPED | +---------------------+--------------------+------------------+-------------------+-------------------+-------------------------+----------------------+ | openSUSE Leap 15 | PASS | SKIPPED | SKIPPED | SKIPPED | SKIPPED | SKIPPED | +---------------------+--------------------+------------------+-------------------+-------------------+-------------------------+----------------------+ | RHEL8 | PASS | PASS | SKIPPED | SKIPPED | SKIPPED | SKIPPED | +---------------------+--------------------+------------------+-------------------+-------------------+-------------------------+----------------------+ | FreeBSD 14.2 | PASS | SKIPPED | SKIPPED | SKIPPED | SKIPPED | SKIPPED | +---------------------+--------------------+------------------+-------------------+-------------------+-------------------------+----------------------+ | RHEL9 | PASS | PASS | SKIPPED | SKIPPED | SKIPPED | SKIPPED | +---------------------+--------------------+------------------+-------------------+-------------------+-------------------------+----------------------+ | Ubuntu 22.04 | PASS | PASS | PASS | SKIPPED | SKIPPED | SKIPPED | +---------------------+--------------------+------------------+-------------------+-------------------+-------------------------+----------------------+ | Ubuntu 24.04 | PASS | PASS | PASS | SKIPPED | SKIPPED | SKIPPED | +---------------------+--------------------+------------------+-------------------+-------------------+-------------------------+----------------------+ | Alpine | PASS | PASS | SKIPPED | SKIPPED | SKIPPED | SKIPPED | +---------------------+--------------------+------------------+-------------------+-------------------+-------------------------+----------------------+ | Debian Bullseye | PASS | PASS | PASS | SKIPPED | SKIPPED | SKIPPED | +---------------------+--------------------+------------------+-------------------+-------------------+-------------------------+----------------------+ | FreeBSD 13.4 | PASS | SKIPPED | SKIPPED | SKIPPED | SKIPPED | SKIPPED | +---------------------+--------------------+------------------+-------------------+-------------------+-------------------------+----------------------+ | Ubuntu 20.04 | PASS | SKIPPED | SKIPPED | SKIPPED | SKIPPED | SKIPPED | +---------------------+--------------------+------------------+-------------------+-------------------+-------------------------+----------------------+ | Fedora 40 | PASS | PASS | PASS | SKIPPED | SKIPPED | SKIPPED | +---------------------+--------------------+------------------+-------------------+-------------------+-------------------------+----------------------+ | Windows Server 2022 | SKIPPED | SKIPPED | SKIPPED | PASS | PASS | PASS | +---------------------+--------------------+------------------+-------------------+-------------------+-------------------------+----------------------+ CentOS Stream 9 Kernel: Depends on container host Compiler: gcc 11.5.0 20240719 (Red Hat 11.5.0-2) Debian 12 Kernel: Depends on container host Compiler: gcc (Debian 12.2.0-14) 12.2.0 Fedora 39 (Clang) Kernel: Depends on container host Compiler: clang 17.0.6 (Fedora 17.0.6-2.fc39) Fedora 39 Kernel: Depends on container host Compiler: gcc 13.3.1 20240522 (Red Hat 13.3.1-1) Fedora 40 (Clang) Kernel: Depends on container host Compiler: clang 18.1.8 (Fedora 18.1.8-1.fc40) Fedora 41 (Clang) Kernel: Depends on container host Compiler: clang 19.1.5 (Fedora 19.1.5-1.fc41) Fedora 41 Kernel: Depends on container host Compiler: gcc 14.2.1 20240912 (Red Hat 14.2.1-3) openSUSE Leap 15 Kernel: Depends on container host Compiler: gcc (SUSE Linux) 7.5.0 RHEL8 Kernel: Depends on container host Compiler: gcc 8.5.0 20210514 (Red Hat 8.5.0-22) FreeBSD 14.2 Kernel: 14.2-RELEASE Compiler: clang 18.1.6 RHEL9 Kernel: Depends on container host Compiler: gcc 11.5.0 20240719 (Red Hat 11.5.0-2) Ubuntu 22.04 Kernel: Depends on container host Compiler: gcc (Ubuntu 11.4.0-1ubuntu1~22.04) 11.4.0 Ubuntu 24.04 Kernel: Depends on container host Compiler: gcc (Ubuntu 13.3.0-6ubuntu2~24.04) 13.3.0 Alpine Kernel: Depends on container host Compiler: gcc (Alpine 14.2.0) 14.2.0 Debian Bullseye Kernel: Depends on container host Compiler: gcc (Debian 10.2.1-6) 10.2.1 20210110 FreeBSD 13.4 Kernel: 13.4-RELEASE-p1 Compiler: clang 18.1.6 Ubuntu 20.04 Kernel: Depends on container host Compiler: gcc (Ubuntu 9.4.0-1ubuntu1~20.04.2) 9.4.0 Fedora 40 Kernel: Depends on container host Compiler: gcc 14.2.1 20240912 (Red Hat 14.2.1-3) Windows Server 2022 Kernel: 10.0.20348.2031 Compiler: clang 15.0.7, gcc 14.1.0 (MinGW), and MSVC VS 19.39.33521 To view detailed results, visit: https://lab.dpdk.org/results/dashboard/patchsets/32204/ UNH-IOL DPDK Community Lab To manage your email subscriptions, visit: https://lab.dpdk.org/results/dashboard/preferences/subscriptions/