From mboxrd@z Thu Jan 1 00:00:00 1970 Return-Path: Received: from mails.dpdk.org (mails.dpdk.org [217.70.189.124]) by inbox.dpdk.org (Postfix) with ESMTP id 5AD64461BF for ; Fri, 7 Feb 2025 20:56:55 +0100 (CET) Received: from mails.dpdk.org (localhost [127.0.0.1]) by mails.dpdk.org (Postfix) with ESMTP id 54EA040290; Fri, 7 Feb 2025 20:56:55 +0100 (CET) Received: from mail-pl1-f227.google.com (mail-pl1-f227.google.com [209.85.214.227]) by mails.dpdk.org (Postfix) with ESMTP id 592CA4026C for ; Fri, 7 Feb 2025 20:56:54 +0100 (CET) Received: by mail-pl1-f227.google.com with SMTP id d9443c01a7336-2166f1e589cso64345185ad.3 for ; Fri, 07 Feb 2025 11:56:54 -0800 (PST) DKIM-Signature: v=1; a=rsa-sha256; c=relaxed/relaxed; d=iol.unh.edu; s=unh-iol; t=1738958213; x=1739563013; darn=dpdk.org; h=cc:to:from:subject:message-id:date:from:to:cc:subject:date :message-id:reply-to; bh=M1ZEGImc0t0AduaoKWErunQ4upTkyjp09xcYGBGKeF0=; b=MCekEd0ob90xYUBdvHYFmd2H0z9G0ghVQ9YnPQB/6F8To8oqdrBNrPn/AVsgyOq4Uu VHJjfL+HQEb6fBe3onbG0+n1g4dHj8n4WIvZThzjSvy3oHXI4j1ER9dG+QpdmUTDUI6z 7pT5MlR86sTsJKaUxW2x2OJTO1TLtzeqseRQE= X-Google-DKIM-Signature: v=1; a=rsa-sha256; c=relaxed/relaxed; d=1e100.net; s=20230601; t=1738958213; x=1739563013; h=cc:to:from:subject:message-id:date:x-gm-message-state:from:to:cc :subject:date:message-id:reply-to; bh=M1ZEGImc0t0AduaoKWErunQ4upTkyjp09xcYGBGKeF0=; b=ChuerPiZ2zkSGrIn3yCE9sMzj2Kvryk8goT+Cjgv7pjSkByEBppJ+YCDvZTkabeKI3 AmfNUcDtoQ4CNqRucE/uPGRy3uBXWksbYcI965UyrBXQoJ0hPY1YFv7Gd0lAlmaGLWUa Zw/uGLALVqGe3g5WQaoNx1dtNTzgBrB8Drp9EEV8sngpA2KtrO6y7XZ7BDdh+6q8RoPz Z36PfLlEYZ9r2AWZXtYbjHaT6i1r07sIzDVSwpkxEOMAcZ3DFOTedQa3HrlnrlkmGP5G 8RFNulYH5X5IN8vcLjaMx3n3YyE8vJeGadwR5GRnYtFrjLugHDyNdzVlaudVsDpYfP3l g4Cw== X-Gm-Message-State: AOJu0YydRAXYK/S4CVZy7dpXfY9oAJCCisUxhsUNMntA2xeJi5hjb2FN m7T9SVg0lzgz/rLW1sd9T3K93iUx3zRzuOC0viS433gMDIPIHKltnta5lJj3jtwHcf31S/ctNHB OBc7ZaVfzMOz1Yx5IlfThD/sYm8pCQlVF3aduq5VZ X-Gm-Gg: ASbGncvOcfi4rgal0mg+gPJfiHUl4whfGtGNL+LEXJFYEQWG6lhwU2URqTrqRQxVb34 OpymoGZV7iBE3N8G0XwIc1kW8oRZ4Rmisz9OHa7mF40ylupqLSHusLi9oQ1JEBZ4ryXr/LFIjEG xY7Sn6a7Yi+b4ULg4C9iu8ytcqLOWNS6/dLMzHsXM7AgbsRDREBfEsjwn5FoUPBkqtSjQvL1BbP ziqGK817ISl5NZzZaQo64g34TBgSSG9Y3GIh6ijoorXvuGE0nWXYm8p/xv3pBdO0PXPaxrp1d4Y xIMO+uZlH63w1DEHoNhyh39jSzY4tQ== X-Google-Smtp-Source: AGHT+IG+h+QnK5XZBg7HQ5WXrSZzB7W8ma9AOiS7Qnkh0V1aMiYpLnen+Sh5pwqVI5TWVJYHUAYnOod1FbRA X-Received: by 2002:a17:902:e946:b0:216:4cc0:aa4e with SMTP id d9443c01a7336-21f4e763a46mr71358805ad.47.1738958213520; Fri, 07 Feb 2025 11:56:53 -0800 (PST) Received: from postal.iol.unh.edu (postal.iol.unh.edu. [132.177.123.84]) by smtp-relay.gmail.com with ESMTPS id d9443c01a7336-21f368a4d7asm2182095ad.126.2025.02.07.11.56.53 (version=TLS1_2 cipher=ECDHE-ECDSA-AES128-GCM-SHA256 bits=128/128); Fri, 07 Feb 2025 11:56:53 -0800 (PST) X-Relaying-Domain: iol.unh.edu Date: Fri, 07 Feb 2025 11:56:53 -0800 (PST) Message-ID: <67a66585.170a0220.3d117d.b863SMTPIN_ADDED_MISSING@mx.google.com> Received: from [172.21.0.8] (unknown [172.18.0.240]) by postal.iol.unh.edu (Postfix) with ESMTP id C31116052477; Fri, 7 Feb 2025 14:56:49 -0500 (EST) Subject: |SUCCESS| [GIT MASTER] 07604f264417959d76aa9fcb8cb0c3665f62f0d3 From: dpdklab@iol.unh.edu To: Test Report Cc: dpdk-test-reports@iol.unh.edu Content-Type: text/plain X-BeenThere: test-report@dpdk.org X-Mailman-Version: 2.1.29 Precedence: list List-Id: automatic DPDK test reports List-Unsubscribe: , List-Archive: List-Post: List-Help: List-Subscribe: , Errors-To: test-report-bounces@dpdk.org _Testing PASS_ Branch: dpdk 07604f264417959d76aa9fcb8cb0c3665f62f0d3 --> testing pass Test environment and result as below: +---------------------+--------------------+------------------+-------------------+-------------------+-------------------------+----------------------+ | Environment | dpdk_meson_compile | dpdk_compile_ovs | dpdk_compile_spdk | dpdk_msvc_compile | dpdk_llvm_clang_compile | dpdk_mingw64_compile | +=====================+====================+==================+===================+===================+=========================+======================+ | CentOS Stream 9 | PASS | PASS | PASS | SKIPPED | SKIPPED | SKIPPED | +---------------------+--------------------+------------------+-------------------+-------------------+-------------------------+----------------------+ | Fedora 39 (Clang) | PASS | PASS | PASS | SKIPPED | SKIPPED | SKIPPED | +---------------------+--------------------+------------------+-------------------+-------------------+-------------------------+----------------------+ | Debian 12 | PASS | PASS | PASS | SKIPPED | SKIPPED | SKIPPED | +---------------------+--------------------+------------------+-------------------+-------------------+-------------------------+----------------------+ | Fedora 40 | PASS | PASS | PASS | SKIPPED | SKIPPED | SKIPPED | +---------------------+--------------------+------------------+-------------------+-------------------+-------------------------+----------------------+ | Fedora 40 (Clang) | PASS | PASS | PASS | SKIPPED | SKIPPED | SKIPPED | +---------------------+--------------------+------------------+-------------------+-------------------+-------------------------+----------------------+ | openSUSE Leap 15 | PASS | SKIPPED | SKIPPED | SKIPPED | SKIPPED | SKIPPED | +---------------------+--------------------+------------------+-------------------+-------------------+-------------------------+----------------------+ | RHEL8 | PASS | PASS | SKIPPED | SKIPPED | SKIPPED | SKIPPED | +---------------------+--------------------+------------------+-------------------+-------------------+-------------------------+----------------------+ | RHEL9 | PASS | PASS | SKIPPED | SKIPPED | SKIPPED | SKIPPED | +---------------------+--------------------+------------------+-------------------+-------------------+-------------------------+----------------------+ | Ubuntu 20.04 | PASS | SKIPPED | SKIPPED | SKIPPED | SKIPPED | SKIPPED | +---------------------+--------------------+------------------+-------------------+-------------------+-------------------------+----------------------+ | Ubuntu 24.04 | PASS | PASS | PASS | SKIPPED | SKIPPED | SKIPPED | +---------------------+--------------------+------------------+-------------------+-------------------+-------------------------+----------------------+ | Arch Linux | PASS | PASS | SKIPPED | SKIPPED | SKIPPED | SKIPPED | +---------------------+--------------------+------------------+-------------------+-------------------+-------------------------+----------------------+ | FreeBSD 13.4 | PASS | SKIPPED | SKIPPED | SKIPPED | SKIPPED | SKIPPED | +---------------------+--------------------+------------------+-------------------+-------------------+-------------------------+----------------------+ | FreeBSD 14.2 | PASS | SKIPPED | SKIPPED | SKIPPED | SKIPPED | SKIPPED | +---------------------+--------------------+------------------+-------------------+-------------------+-------------------------+----------------------+ | Fedora 39 | PASS | PASS | PASS | SKIPPED | SKIPPED | SKIPPED | +---------------------+--------------------+------------------+-------------------+-------------------+-------------------------+----------------------+ | Alpine | PASS | PASS | SKIPPED | SKIPPED | SKIPPED | SKIPPED | +---------------------+--------------------+------------------+-------------------+-------------------+-------------------------+----------------------+ | Ubuntu 22.04 | PASS | PASS | PASS | SKIPPED | SKIPPED | SKIPPED | +---------------------+--------------------+------------------+-------------------+-------------------+-------------------------+----------------------+ | Windows Server 2022 | SKIPPED | SKIPPED | SKIPPED | PASS | PASS | PASS | +---------------------+--------------------+------------------+-------------------+-------------------+-------------------------+----------------------+ CentOS Stream 9 Kernel: Depends on container host Compiler: gcc 11.5.0 20240719 (Red Hat 11.5.0-2) Fedora 39 (Clang) Kernel: Depends on container host Compiler: clang 17.0.6 (Fedora 17.0.6-2.fc39) Debian 12 Kernel: Depends on container host Compiler: gcc (Debian 12.2.0-14) 12.2.0 Fedora 40 Kernel: Depends on container host Compiler: gcc 14.2.1 20240912 (Red Hat 14.2.1-3) Fedora 40 (Clang) Kernel: Depends on container host Compiler: clang 18.1.8 (Fedora 18.1.8-1.fc40) openSUSE Leap 15 Kernel: Depends on container host Compiler: gcc (SUSE Linux) 7.5.0 RHEL8 Kernel: Depends on container host Compiler: gcc 8.5.0 20210514 (Red Hat 8.5.0-22) RHEL9 Kernel: Depends on container host Compiler: gcc 11.5.0 20240719 (Red Hat 11.5.0-2) Ubuntu 20.04 Kernel: Depends on container host Compiler: gcc (Ubuntu 9.4.0-1ubuntu1~20.04.2) 9.4.0 Ubuntu 24.04 Kernel: Depends on container host Compiler: gcc (Ubuntu 13.3.0-6ubuntu2~24.04) 13.3.0 Arch Linux Kernel: Depends on container host Compiler: gcc 14.2.1 20240910 FreeBSD 13.4 Kernel: 13.4-RELEASE-p1 Compiler: clang 18.1.6 FreeBSD 14.2 Kernel: 14.2-RELEASE Compiler: clang 18.1.6 Fedora 39 Kernel: Depends on container host Compiler: gcc 13.3.1 20240522 (Red Hat 13.3.1-1) Alpine Kernel: Depends on container host Compiler: gcc (Alpine 14.2.0) 14.2.0 Ubuntu 22.04 Kernel: Depends on container host Compiler: gcc (Ubuntu 11.4.0-1ubuntu1~22.04) 11.4.0 Windows Server 2022 Kernel: 10.0.20348.2031 Compiler: clang 15.0.7, gcc 14.1.0 (MinGW), and MSVC VS 19.39.33521 To view detailed results, visit: https://lab.dpdk.org/results/dashboard/tarballs/31994/ UNH-IOL DPDK Community Lab To manage your email subscriptions, visit: https://lab.dpdk.org/results/dashboard/preferences/subscriptions/