From mboxrd@z Thu Jan 1 00:00:00 1970 Return-Path: Received: from mails.dpdk.org (mails.dpdk.org [217.70.189.124]) by inbox.dpdk.org (Postfix) with ESMTP id 786EE461BF for ; Fri, 7 Feb 2025 20:57:00 +0100 (CET) Received: from mails.dpdk.org (localhost [127.0.0.1]) by mails.dpdk.org (Postfix) with ESMTP id 716134029A; Fri, 7 Feb 2025 20:57:00 +0100 (CET) Received: from mail-il1-f226.google.com (mail-il1-f226.google.com [209.85.166.226]) by mails.dpdk.org (Postfix) with ESMTP id CCB914026C for ; Fri, 7 Feb 2025 20:56:58 +0100 (CET) Received: by mail-il1-f226.google.com with SMTP id e9e14a558f8ab-3d050fdf2ffso7140385ab.0 for ; Fri, 07 Feb 2025 11:56:58 -0800 (PST) DKIM-Signature: v=1; a=rsa-sha256; c=relaxed/relaxed; d=iol.unh.edu; s=unh-iol; t=1738958218; x=1739563018; darn=dpdk.org; h=references:in-reply-to:cc:to:from:subject:message-id:date:from:to :cc:subject:date:message-id:reply-to; bh=Ksl/2VXAftAlmEMOjnaWxW89PPFS3+gBrQ+HXboHzPI=; b=UEG1L0YJcjmgLmdvrK4T/YMWSrsFPt3mN0NgszrCls8oXY1NAgSK0Qqx8M8AvRalif GQ46TtCIQhYMt7yvscf/86fTCQJh5vusKqs/XYTsC9OkMd46f4hFn/eNsU3LCxBPcift tjWrQBa7bb/JgOwmrz19CUJcRR59qxkaVny9U= X-Google-DKIM-Signature: v=1; a=rsa-sha256; c=relaxed/relaxed; d=1e100.net; s=20230601; t=1738958218; x=1739563018; h=references:in-reply-to:cc:to:from:subject:message-id:date :x-gm-message-state:from:to:cc:subject:date:message-id:reply-to; bh=Ksl/2VXAftAlmEMOjnaWxW89PPFS3+gBrQ+HXboHzPI=; b=nLzF9HGLHcw603oYMFWoHnrTTjS9j7IPImRKp5fB6m6sQgvbUI2EaKt3QFlgk9J7es Zn1AoCknT/WCSw08AlUbf2ywwQS0vWXqvbAgNnuS0BuuLBSI1qz3fIcbtBCH7XdZV5gy J09/msjt6Zjkcoj4UB3lcy2BcKyp/tWcJlFyejbXUZUWChUNnOkpJc86MsgQrH/Iin/R F6dy+0EInVFDeSs+yKotJQjXrYXuzBEjorViepagheVqC0cH4reOO3FwoJufWbA8goND ZQubx1Rz5wxAQfPd9TWrb3SOZqUMNPVp2P1gD2A1MVe8Jj85IMmexr0foRszalIgoarI hYmw== X-Gm-Message-State: AOJu0YxLI+0Dt1iEbfAZH+Rr4tr0jp2ciOQckE6eDCyd+jy1iuAWAGZh hnUvQA+HzXzbsjhaKf5wZ7sgwZf8xK81cBRllz1Gn7MD5S3L2mJ7/2RLGa57ijuiPjvszfa1jsn EQB677FJ42iZX3ZvzUfrWmZd/Ix+9Ip4c71OVdfiZ X-Gm-Gg: ASbGncsnSR4glMe9R/4Pkfehg1yOh6CYgQ99SRJzXA0HGir6LxK/guBIHaa5cJpx3Sc VEf3A1MxGwB8g4HPilBI/sE3JOl35D2ZtgObe35heawLjMDWUuaCllHTfmhLQl9df4s7nQoBbH7 T1AQoq6m+jPMKUL4xzA830e9K/E4+obje38Jg3JXjyPmlRu4jaojhbCtkntcejyjS936ThhaKVl uhCCyH2Oh3XbaUS245JwB8StKp3Fsl4U0qv0qPd0LNp/qfyyx8UKPEZnY0zqb9GjWCKbcq0BZbq GeUbEQGDen+jY+487JITARTh5H8HZQ== X-Google-Smtp-Source: AGHT+IF0cqVwh2KSC2g0uZcgh+pvLwFhiVVD+679XA334mGJijp0eFAXBMR0kqOf9N1c2rZ+2P7TAxhTRvqw X-Received: by 2002:a05:6e02:480c:b0:3cf:f8de:7662 with SMTP id e9e14a558f8ab-3d13dee474amr37059865ab.18.1738958218207; Fri, 07 Feb 2025 11:56:58 -0800 (PST) Received: from postal.iol.unh.edu (postal.iol.unh.edu. [132.177.123.84]) by smtp-relay.gmail.com with ESMTPS id e9e14a558f8ab-3d148395784sm714445ab.39.2025.02.07.11.56.58 (version=TLS1_2 cipher=ECDHE-ECDSA-AES128-GCM-SHA256 bits=128/128); Fri, 07 Feb 2025 11:56:58 -0800 (PST) X-Relaying-Domain: iol.unh.edu Date: Fri, 07 Feb 2025 11:56:58 -0800 (PST) Message-ID: <67a6658a.050a0220.3215ee.3730SMTPIN_ADDED_MISSING@mx.google.com> Received: from [172.21.0.7] (unknown [172.18.0.240]) by postal.iol.unh.edu (Postfix) with ESMTP id B4ED46052477; Fri, 7 Feb 2025 14:56:57 -0500 (EST) Subject: |SUCCESS| pw149385 [PATCH] [v3] app/test-flow-perf: support testing From: dpdklab@iol.unh.edu To: Test Report Cc: dpdk-test-reports@iol.unh.edu In-Reply-To: <20241223091600.53160-1-sunyang.wu@jaguarmicro.com> References: <20241223091600.53160-1-sunyang.wu@jaguarmicro.com> Content-Type: text/plain X-BeenThere: test-report@dpdk.org X-Mailman-Version: 2.1.29 Precedence: list List-Id: automatic DPDK test reports List-Unsubscribe: , List-Archive: List-Post: List-Help: List-Subscribe: , Errors-To: test-report-bounces@dpdk.org Test-Label: iol-compile-amd64-testing Test-Status: SUCCESS http://dpdk.org/patch/149385 _Testing PASS_ Submitter: Sunyang Wu Date: Monday, December 23 2024 09:16:00 DPDK git baseline: Repo:dpdk Branch: master CommitID:fd51012de5369679e807be1d6a81d63ef15015ce 149385 --> testing pass Test environment and result as below: +---------------------+--------------------+------------------+-------------------+-------------------+-------------------------+----------------------+ | Environment | dpdk_meson_compile | dpdk_compile_ovs | dpdk_compile_spdk | dpdk_msvc_compile | dpdk_llvm_clang_compile | dpdk_mingw64_compile | +=====================+====================+==================+===================+===================+=========================+======================+ | Debian Bullseye | PASS | PASS | PASS | SKIPPED | SKIPPED | SKIPPED | +---------------------+--------------------+------------------+-------------------+-------------------+-------------------------+----------------------+ | CentOS Stream 9 | PASS | PASS | PASS | SKIPPED | SKIPPED | SKIPPED | +---------------------+--------------------+------------------+-------------------+-------------------+-------------------------+----------------------+ | Fedora 39 (Clang) | PASS | PASS | PASS | SKIPPED | SKIPPED | SKIPPED | +---------------------+--------------------+------------------+-------------------+-------------------+-------------------------+----------------------+ | Fedora 39 | PASS | PASS | PASS | SKIPPED | SKIPPED | SKIPPED | +---------------------+--------------------+------------------+-------------------+-------------------+-------------------------+----------------------+ | Debian 12 | PASS | PASS | PASS | SKIPPED | SKIPPED | SKIPPED | +---------------------+--------------------+------------------+-------------------+-------------------+-------------------------+----------------------+ | Ubuntu 20.04 | PASS | SKIPPED | SKIPPED | SKIPPED | SKIPPED | SKIPPED | +---------------------+--------------------+------------------+-------------------+-------------------+-------------------------+----------------------+ | Ubuntu 22.04 | PASS | PASS | PASS | SKIPPED | SKIPPED | SKIPPED | +---------------------+--------------------+------------------+-------------------+-------------------+-------------------------+----------------------+ | openSUSE Leap 15 | PASS | SKIPPED | SKIPPED | SKIPPED | SKIPPED | SKIPPED | +---------------------+--------------------+------------------+-------------------+-------------------+-------------------------+----------------------+ | RHEL8 | PASS | PASS | SKIPPED | SKIPPED | SKIPPED | SKIPPED | +---------------------+--------------------+------------------+-------------------+-------------------+-------------------------+----------------------+ | Fedora 40 | PASS | PASS | PASS | SKIPPED | SKIPPED | SKIPPED | +---------------------+--------------------+------------------+-------------------+-------------------+-------------------------+----------------------+ | Fedora 40 (Clang) | PASS | PASS | PASS | SKIPPED | SKIPPED | SKIPPED | +---------------------+--------------------+------------------+-------------------+-------------------+-------------------------+----------------------+ | RHEL9 | PASS | PASS | SKIPPED | SKIPPED | SKIPPED | SKIPPED | +---------------------+--------------------+------------------+-------------------+-------------------+-------------------------+----------------------+ | Ubuntu 24.04 | PASS | PASS | PASS | SKIPPED | SKIPPED | SKIPPED | +---------------------+--------------------+------------------+-------------------+-------------------+-------------------------+----------------------+ | Alpine | PASS | PASS | SKIPPED | SKIPPED | SKIPPED | SKIPPED | +---------------------+--------------------+------------------+-------------------+-------------------+-------------------------+----------------------+ | FreeBSD 13.4 | PASS | SKIPPED | SKIPPED | SKIPPED | SKIPPED | SKIPPED | +---------------------+--------------------+------------------+-------------------+-------------------+-------------------------+----------------------+ | FreeBSD 14.2 | PASS | SKIPPED | SKIPPED | SKIPPED | SKIPPED | SKIPPED | +---------------------+--------------------+------------------+-------------------+-------------------+-------------------------+----------------------+ | Windows Server 2022 | SKIPPED | SKIPPED | SKIPPED | PASS | PASS | PASS | +---------------------+--------------------+------------------+-------------------+-------------------+-------------------------+----------------------+ Debian Bullseye Kernel: Depends on container host Compiler: gcc (Debian 10.2.1-6) 10.2.1 20210110 CentOS Stream 9 Kernel: Depends on container host Compiler: gcc 11.5.0 20240719 (Red Hat 11.5.0-2) Fedora 39 (Clang) Kernel: Depends on container host Compiler: clang 17.0.6 (Fedora 17.0.6-2.fc39) Fedora 39 Kernel: Depends on container host Compiler: gcc 13.3.1 20240522 (Red Hat 13.3.1-1) Debian 12 Kernel: Depends on container host Compiler: gcc (Debian 12.2.0-14) 12.2.0 Ubuntu 20.04 Kernel: Depends on container host Compiler: gcc (Ubuntu 9.4.0-1ubuntu1~20.04.2) 9.4.0 Ubuntu 22.04 Kernel: Depends on container host Compiler: gcc (Ubuntu 11.4.0-1ubuntu1~22.04) 11.4.0 openSUSE Leap 15 Kernel: Depends on container host Compiler: gcc (SUSE Linux) 7.5.0 RHEL8 Kernel: Depends on container host Compiler: gcc 8.5.0 20210514 (Red Hat 8.5.0-22) Fedora 40 Kernel: Depends on container host Compiler: gcc 14.2.1 20240912 (Red Hat 14.2.1-3) Fedora 40 (Clang) Kernel: Depends on container host Compiler: clang 18.1.8 (Fedora 18.1.8-1.fc40) RHEL9 Kernel: Depends on container host Compiler: gcc 11.5.0 20240719 (Red Hat 11.5.0-2) Ubuntu 24.04 Kernel: Depends on container host Compiler: gcc (Ubuntu 13.3.0-6ubuntu2~24.04) 13.3.0 Alpine Kernel: Depends on container host Compiler: gcc (Alpine 14.2.0) 14.2.0 FreeBSD 13.4 Kernel: 13.4-RELEASE-p1 Compiler: clang 18.1.6 FreeBSD 14.2 Kernel: 14.2-RELEASE Compiler: clang 18.1.6 Windows Server 2022 Kernel: 10.0.20348.2031 Compiler: clang 15.0.7, gcc 14.1.0 (MinGW), and MSVC VS 19.39.33521 To view detailed results, visit: https://lab.dpdk.org/results/dashboard/patchsets/32193/ UNH-IOL DPDK Community Lab To manage your email subscriptions, visit: https://lab.dpdk.org/results/dashboard/preferences/subscriptions/