From mboxrd@z Thu Jan 1 00:00:00 1970 Return-Path: Received: from mails.dpdk.org (mails.dpdk.org [217.70.189.124]) by inbox.dpdk.org (Postfix) with ESMTP id 92E50461BF for ; Fri, 7 Feb 2025 20:57:02 +0100 (CET) Received: from mails.dpdk.org (localhost [127.0.0.1]) by mails.dpdk.org (Postfix) with ESMTP id 8FEE940290; Fri, 7 Feb 2025 20:57:02 +0100 (CET) Received: from mail-oa1-f100.google.com (mail-oa1-f100.google.com [209.85.160.100]) by mails.dpdk.org (Postfix) with ESMTP id 4D1054026C for ; Fri, 7 Feb 2025 20:57:00 +0100 (CET) Received: by mail-oa1-f100.google.com with SMTP id 586e51a60fabf-2b85cad3ac5so74424fac.1 for ; Fri, 07 Feb 2025 11:57:00 -0800 (PST) DKIM-Signature: v=1; a=rsa-sha256; c=relaxed/relaxed; d=iol.unh.edu; s=unh-iol; t=1738958219; x=1739563019; darn=dpdk.org; h=references:in-reply-to:cc:to:from:subject:message-id:date:from:to :cc:subject:date:message-id:reply-to; bh=ueUdpjE/8lFTPsZv+SWKXlmkksUZukw6iu1twZd0yQY=; b=N98CKq3HP/WaXwl1QPUsb40cl1Zk13Z5dBE7tFb4tZO4pxEWmC17dwc205WqYo/eKt /Bb5xXubFNBQPbWRI8/gPZyNFJ1egH0eA84Ev779T/vJcNn44UEyHPxIfrPQZqKD+5FA m8G9MRnuXxPRe9NL0XYBx5y7F77PP96AkDMwE= X-Google-DKIM-Signature: v=1; a=rsa-sha256; c=relaxed/relaxed; d=1e100.net; s=20230601; t=1738958219; x=1739563019; h=references:in-reply-to:cc:to:from:subject:message-id:date :x-gm-message-state:from:to:cc:subject:date:message-id:reply-to; bh=ueUdpjE/8lFTPsZv+SWKXlmkksUZukw6iu1twZd0yQY=; b=a6zpZoxuorWDPw/UxXYdl/0Vyfle20Nafi2myhd1FXRxoypBruSA3pTzdW1dkphoBW l8KeEp91HjT/trHDfd4zRXG5Am8JeXe23twMwnzZZuVGdeDFhVJpKgg9OS7uKN5bvNhC lV93juj9H4M6c6Gu9NZJQOpGiAcu6Mr/BoGp97+ZhROBIhEXoscWh52EYUTmKkAHG4AP W9/rDG21E3LnE+535mFIKfLRxan/fYVmMvz1GA2ziESaURgb8HbzEFCkCUsQJV0lwsQl OYCJFu8h8xvzbmJJ5b2LrL1aqHfiDhYZ0aPsjbJ+r0HJvYS4E8WOXTKWNKMYyp6tW6cg 5V4w== X-Gm-Message-State: AOJu0Ywi3qb12HN9rBgLJvuw7xPySPs/B6wRywVBAhhMXg8FAAKVkQhz YXINZXlHG3aj7Ue5d5gIIiSHEO06zYUH9DjiI/TQEVLmISCIjdvG9VlR5j+FCLH4L4RseZrLStA VPUbjxv3iK3U/dk/SefWNgrRDe5oXoXFx5ORvyirD X-Gm-Gg: ASbGnctpLXilgeIYZYUkjCZmySKxkEH3y+j7ERYDU1D//94veKgfoodXvP16CGX6gx1 RAuFMzV4ua43kQXdEDWIMPVwbUAEcRDMSHlkr9lSaG7ws5x8ySnaJjsfsoabSpkskaogHOxRug2 83BdIxd3iDx0qUlZ1T7XHOFtUpgH5FWZio/XqYDgXHxNHhvKPWdgNFiq1zCp9gErLnojbqo4GAH zyD7rBsfouWKiemiJXgMLjGAtFHrO55FlA4H3iJkwvFwkeFNXtaB0gdjPt9YKO6E42J3PO5LOZQ /NGzzPMzMSCBpdUg0Bs9Exa/9G4gDw== X-Google-Smtp-Source: AGHT+IEIf4GHyprcliS2UfUSaSgSE39Y16HTK2cKX51t4/nx6taDLV8wxXz09MDcDjLOybZiCb/oGvgsRZ9U X-Received: by 2002:a05:6870:332a:b0:297:683:8b5b with SMTP id 586e51a60fabf-2b81ea025f1mr6409678fac.10.1738958219573; Fri, 07 Feb 2025 11:56:59 -0800 (PST) Received: from postal.iol.unh.edu (postal.iol.unh.edu. [132.177.123.84]) by smtp-relay.gmail.com with ESMTPS id 586e51a60fabf-2b825e3c678sm204974fac.8.2025.02.07.11.56.59 (version=TLS1_2 cipher=ECDHE-ECDSA-AES128-GCM-SHA256 bits=128/128); Fri, 07 Feb 2025 11:56:59 -0800 (PST) X-Relaying-Domain: iol.unh.edu Date: Fri, 07 Feb 2025 11:56:59 -0800 (PST) Message-ID: <67a6658b.050a0220.136036.af5fSMTPIN_ADDED_MISSING@mx.google.com> Received: from [172.21.0.5] (unknown [172.18.0.240]) by postal.iol.unh.edu (Postfix) with ESMTP id 0E1386052477; Fri, 7 Feb 2025 14:56:59 -0500 (EST) Subject: |SUCCESS| pw149408 [PATCH] doc: add install_tag to meson From: dpdklab@iol.unh.edu To: Test Report Cc: dpdk-test-reports@iol.unh.edu In-Reply-To: <20241223132220.138227-1-luca.boccassi@gmail.com> References: <20241223132220.138227-1-luca.boccassi@gmail.com> Content-Type: text/plain X-BeenThere: test-report@dpdk.org X-Mailman-Version: 2.1.29 Precedence: list List-Id: automatic DPDK test reports List-Unsubscribe: , List-Archive: List-Post: List-Help: List-Subscribe: , Errors-To: test-report-bounces@dpdk.org Test-Label: iol-compile-amd64-testing Test-Status: SUCCESS http://dpdk.org/patch/149408 _Testing PASS_ Submitter: Luca Boccassi Date: Monday, December 23 2024 13:21:13 DPDK git baseline: Repo:dpdk Branch: master CommitID:fd51012de5369679e807be1d6a81d63ef15015ce 149408 --> testing pass Test environment and result as below: +---------------------+--------------------+------------------+-------------------+-------------------------+-------------------+----------------------+ | Environment | dpdk_meson_compile | dpdk_compile_ovs | dpdk_compile_spdk | dpdk_llvm_clang_compile | dpdk_msvc_compile | dpdk_mingw64_compile | +=====================+====================+==================+===================+=========================+===================+======================+ | CentOS Stream 9 | PASS | PASS | PASS | SKIPPED | SKIPPED | SKIPPED | +---------------------+--------------------+------------------+-------------------+-------------------------+-------------------+----------------------+ | Debian Bullseye | PASS | PASS | PASS | SKIPPED | SKIPPED | SKIPPED | +---------------------+--------------------+------------------+-------------------+-------------------------+-------------------+----------------------+ | Fedora 40 (Clang) | PASS | PASS | PASS | SKIPPED | SKIPPED | SKIPPED | +---------------------+--------------------+------------------+-------------------+-------------------------+-------------------+----------------------+ | Fedora 40 | PASS | PASS | PASS | SKIPPED | SKIPPED | SKIPPED | +---------------------+--------------------+------------------+-------------------+-------------------------+-------------------+----------------------+ | Fedora 39 | PASS | PASS | PASS | SKIPPED | SKIPPED | SKIPPED | +---------------------+--------------------+------------------+-------------------+-------------------------+-------------------+----------------------+ | Fedora 39 (Clang) | PASS | PASS | PASS | SKIPPED | SKIPPED | SKIPPED | +---------------------+--------------------+------------------+-------------------+-------------------------+-------------------+----------------------+ | openSUSE Leap 15 | PASS | SKIPPED | SKIPPED | SKIPPED | SKIPPED | SKIPPED | +---------------------+--------------------+------------------+-------------------+-------------------------+-------------------+----------------------+ | Ubuntu 20.04 | PASS | SKIPPED | SKIPPED | SKIPPED | SKIPPED | SKIPPED | +---------------------+--------------------+------------------+-------------------+-------------------------+-------------------+----------------------+ | Ubuntu 24.04 | PASS | PASS | PASS | SKIPPED | SKIPPED | SKIPPED | +---------------------+--------------------+------------------+-------------------+-------------------------+-------------------+----------------------+ | RHEL9 | PASS | PASS | SKIPPED | SKIPPED | SKIPPED | SKIPPED | +---------------------+--------------------+------------------+-------------------+-------------------------+-------------------+----------------------+ | Ubuntu 22.04 | PASS | PASS | PASS | SKIPPED | SKIPPED | SKIPPED | +---------------------+--------------------+------------------+-------------------+-------------------------+-------------------+----------------------+ | RHEL8 | PASS | PASS | SKIPPED | SKIPPED | SKIPPED | SKIPPED | +---------------------+--------------------+------------------+-------------------+-------------------------+-------------------+----------------------+ | Alpine | PASS | PASS | SKIPPED | SKIPPED | SKIPPED | SKIPPED | +---------------------+--------------------+------------------+-------------------+-------------------------+-------------------+----------------------+ | FreeBSD 13.4 | PASS | SKIPPED | SKIPPED | SKIPPED | SKIPPED | SKIPPED | +---------------------+--------------------+------------------+-------------------+-------------------------+-------------------+----------------------+ | FreeBSD 14.2 | PASS | SKIPPED | SKIPPED | SKIPPED | SKIPPED | SKIPPED | +---------------------+--------------------+------------------+-------------------+-------------------------+-------------------+----------------------+ | Windows Server 2022 | SKIPPED | SKIPPED | SKIPPED | PASS | PASS | PASS | +---------------------+--------------------+------------------+-------------------+-------------------------+-------------------+----------------------+ CentOS Stream 9 Kernel: Depends on container host Compiler: gcc 11.5.0 20240719 (Red Hat 11.5.0-2) Debian Bullseye Kernel: Depends on container host Compiler: gcc (Debian 10.2.1-6) 10.2.1 20210110 Fedora 40 (Clang) Kernel: Depends on container host Compiler: clang 18.1.8 (Fedora 18.1.8-1.fc40) Fedora 40 Kernel: Depends on container host Compiler: gcc 14.2.1 20240912 (Red Hat 14.2.1-3) Fedora 39 Kernel: Depends on container host Compiler: gcc 13.3.1 20240522 (Red Hat 13.3.1-1) Fedora 39 (Clang) Kernel: Depends on container host Compiler: clang 17.0.6 (Fedora 17.0.6-2.fc39) openSUSE Leap 15 Kernel: Depends on container host Compiler: gcc (SUSE Linux) 7.5.0 Ubuntu 20.04 Kernel: Depends on container host Compiler: gcc (Ubuntu 9.4.0-1ubuntu1~20.04.2) 9.4.0 Ubuntu 24.04 Kernel: Depends on container host Compiler: gcc (Ubuntu 13.3.0-6ubuntu2~24.04) 13.3.0 RHEL9 Kernel: Depends on container host Compiler: gcc 11.5.0 20240719 (Red Hat 11.5.0-2) Ubuntu 22.04 Kernel: Depends on container host Compiler: gcc (Ubuntu 11.4.0-1ubuntu1~22.04) 11.4.0 RHEL8 Kernel: Depends on container host Compiler: gcc 8.5.0 20210514 (Red Hat 8.5.0-22) Alpine Kernel: Depends on container host Compiler: gcc (Alpine 14.2.0) 14.2.0 FreeBSD 13.4 Kernel: 13.4-RELEASE-p1 Compiler: clang 18.1.6 FreeBSD 14.2 Kernel: 14.2-RELEASE Compiler: clang 18.1.6 Windows Server 2022 Kernel: 10.0.20348.2031 Compiler: clang 15.0.7, gcc 14.1.0 (MinGW), and MSVC VS 19.39.33521 To view detailed results, visit: https://lab.dpdk.org/results/dashboard/patchsets/32196/ UNH-IOL DPDK Community Lab To manage your email subscriptions, visit: https://lab.dpdk.org/results/dashboard/preferences/subscriptions/