From mboxrd@z Thu Jan 1 00:00:00 1970 Return-Path: Received: from mails.dpdk.org (mails.dpdk.org [217.70.189.124]) by inbox.dpdk.org (Postfix) with ESMTP id B7C38461BF for ; Fri, 7 Feb 2025 20:57:16 +0100 (CET) Received: from mails.dpdk.org (localhost [127.0.0.1]) by mails.dpdk.org (Postfix) with ESMTP id B3C0340290; Fri, 7 Feb 2025 20:57:16 +0100 (CET) Received: from mail-oo1-f100.google.com (mail-oo1-f100.google.com [209.85.161.100]) by mails.dpdk.org (Postfix) with ESMTP id B22C04026C for ; Fri, 7 Feb 2025 20:57:15 +0100 (CET) Received: by mail-oo1-f100.google.com with SMTP id 006d021491bc7-5fc0c7b391fso744582eaf.3 for ; Fri, 07 Feb 2025 11:57:15 -0800 (PST) DKIM-Signature: v=1; a=rsa-sha256; c=relaxed/relaxed; d=iol.unh.edu; s=unh-iol; t=1738958235; x=1739563035; darn=dpdk.org; h=references:in-reply-to:cc:to:from:subject:message-id:date:from:to :cc:subject:date:message-id:reply-to; bh=9PKqWmtx6WfQFCRJ+uDEu5yOf0d3nkXCD7qLhr7WT0w=; b=TWwzhyqOCCsuj9/E1ISBQWZ2kW0YT6TgM/7VO1w9P4cWjpW0a47hTHCwBmCzEW8w1k twpl6OMCtJ44xVAyk/mFZDI9PktfPab8SryuuhV57HIVS6kca7zsFOvA6FklEqEW9zX6 xKSUGvpPNQj8bsZXKtUbOwIwSYzho1wH2+EAQ= X-Google-DKIM-Signature: v=1; a=rsa-sha256; c=relaxed/relaxed; d=1e100.net; s=20230601; t=1738958235; x=1739563035; h=references:in-reply-to:cc:to:from:subject:message-id:date :x-gm-message-state:from:to:cc:subject:date:message-id:reply-to; bh=9PKqWmtx6WfQFCRJ+uDEu5yOf0d3nkXCD7qLhr7WT0w=; b=eW0VW/FDI4yy53XudFU2OT6igkMg/rumfAXYvLRI3CB+g3SyWWp2gmDHVn0gjc9Plu SThnwuHGy6560croe/dgHQmQQvr6YSt6MAjlki7B183VI7yA4CXiG2SysDeS0BvZe+y7 HHj18uZNWvbFaWYH4sj87hkNtL5q9QEOeiOPZYO/pPQYhSGhVKkwUbaX7CBfbCWbmwJD V/3E63jAayet3/7c4qUokgpKQOKhHYr0GEj1ajb9ElZTHDWyHzElUS0AiH9s9zc6qVOv AnS1BArYm+7QU8MMJR72aU8E6xJ7TfhKsP4XJnDAUcHYkVMxaMu+IDZ35iMez0cShuP0 4NUw== X-Gm-Message-State: AOJu0YywHNCDbg+gI/40Q25ZJ6r89Nr4ixe9LKQRcGw3sxC6zYyL5FIG 0NMPP3zLo6UPOKDglK8378jC0q7ETDP76emGaH6DAyRS0tLsktTGry+/UC1rgshylSIgVoX1odq w3vhkffUFHbiHUsllIHtcr4HLHdOy/zthwOtiqOQR X-Gm-Gg: ASbGncsDPyR88xlLIjzxaQAgkPSniFDuNyzK0DVXEswENiJ/WtrdswGqmb/QKHF1Mvm V+QPLkL3eKp2f3oUZwseoeysjU+mvq2yE7NuFgmdnRTJWlZ/Mab1ak5zNBWZYVHQIf2K186vf2N dnVcv58x4W6lUUlJ7RbaGhJ1tHq56VJgoasFIdMCTaNMwgWE2C9+WEqh8ZqMX4uUY/tSPX37sEk kHoz3yW7e9vmzCY14wipwa/lNcAVa2k2aRpJyWVmkDkVAfOsSP1nkP0oPe88Y9MZbWVPW6CkLd4 /+OzWzCb9GzeUjMVHPehCt+Lfipnog== X-Google-Smtp-Source: AGHT+IH8l+dTPZAR9Pgk8KLE76TIvzU6wGZ84A/UvV6wX7pGMDQNSxUnlAxAMAwo+ru/4EesDqyuu0gBu6hX X-Received: by 2002:a05:6870:207:b0:2b7:d3f1:dc72 with SMTP id 586e51a60fabf-2b83ee2b44dmr3267085fac.29.1738958234912; Fri, 07 Feb 2025 11:57:14 -0800 (PST) Received: from postal.iol.unh.edu (postal.iol.unh.edu. [132.177.123.84]) by smtp-relay.gmail.com with ESMTPS id 586e51a60fabf-2b825fc752bsm216654fac.14.2025.02.07.11.57.14 (version=TLS1_2 cipher=ECDHE-ECDSA-AES128-GCM-SHA256 bits=128/128); Fri, 07 Feb 2025 11:57:14 -0800 (PST) X-Relaying-Domain: iol.unh.edu Date: Fri, 07 Feb 2025 11:57:14 -0800 (PST) Message-ID: <67a6659a.050a0220.4dfbc.b5b1SMTPIN_ADDED_MISSING@mx.google.com> Received: from [172.21.0.9] (unknown [172.18.0.240]) by postal.iol.unh.edu (Postfix) with ESMTP id 5822D6052471; Fri, 7 Feb 2025 14:56:44 -0500 (EST) Subject: |SUCCESS| pw149412 [PATCH] [v2,1/1] dts: add EAL confidence check su From: dpdklab@iol.unh.edu To: Test Report Cc: dpdk-test-reports@iol.unh.edu In-Reply-To: <20241223185739.29621-1-dmarx@iol.unh.edu> References: <20241223185739.29621-1-dmarx@iol.unh.edu> Content-Type: text/plain X-BeenThere: test-report@dpdk.org X-Mailman-Version: 2.1.29 Precedence: list List-Id: automatic DPDK test reports List-Unsubscribe: , List-Archive: List-Post: List-Help: List-Subscribe: , Errors-To: test-report-bounces@dpdk.org Test-Label: iol-compile-amd64-testing Test-Status: SUCCESS http://dpdk.org/patch/149412 _Testing PASS_ Submitter: Dean Marx Date: Monday, December 23 2024 18:57:39 DPDK git baseline: Repo:dpdk Branch: master CommitID:fd51012de5369679e807be1d6a81d63ef15015ce 149412 --> testing pass Test environment and result as below: +---------------------+--------------------+------------------+-------------------+-------------------+-------------------------+----------------------+ | Environment | dpdk_meson_compile | dpdk_compile_ovs | dpdk_compile_spdk | dpdk_msvc_compile | dpdk_llvm_clang_compile | dpdk_mingw64_compile | +=====================+====================+==================+===================+===================+=========================+======================+ | CentOS Stream 9 | PASS | PASS | PASS | SKIPPED | SKIPPED | SKIPPED | +---------------------+--------------------+------------------+-------------------+-------------------+-------------------------+----------------------+ | Debian 12 | PASS | PASS | PASS | SKIPPED | SKIPPED | SKIPPED | +---------------------+--------------------+------------------+-------------------+-------------------+-------------------------+----------------------+ | Debian Bullseye | PASS | PASS | PASS | SKIPPED | SKIPPED | SKIPPED | +---------------------+--------------------+------------------+-------------------+-------------------+-------------------------+----------------------+ | Fedora 39 (Clang) | PASS | PASS | PASS | SKIPPED | SKIPPED | SKIPPED | +---------------------+--------------------+------------------+-------------------+-------------------+-------------------------+----------------------+ | Fedora 40 (Clang) | PASS | PASS | PASS | SKIPPED | SKIPPED | SKIPPED | +---------------------+--------------------+------------------+-------------------+-------------------+-------------------------+----------------------+ | Fedora 40 | PASS | PASS | PASS | SKIPPED | SKIPPED | SKIPPED | +---------------------+--------------------+------------------+-------------------+-------------------+-------------------------+----------------------+ | Fedora 39 | PASS | PASS | PASS | SKIPPED | SKIPPED | SKIPPED | +---------------------+--------------------+------------------+-------------------+-------------------+-------------------------+----------------------+ | openSUSE Leap 15 | PASS | SKIPPED | SKIPPED | SKIPPED | SKIPPED | SKIPPED | +---------------------+--------------------+------------------+-------------------+-------------------+-------------------------+----------------------+ | RHEL8 | PASS | PASS | SKIPPED | SKIPPED | SKIPPED | SKIPPED | +---------------------+--------------------+------------------+-------------------+-------------------+-------------------------+----------------------+ | RHEL9 | PASS | PASS | SKIPPED | SKIPPED | SKIPPED | SKIPPED | +---------------------+--------------------+------------------+-------------------+-------------------+-------------------------+----------------------+ | Ubuntu 20.04 | PASS | SKIPPED | SKIPPED | SKIPPED | SKIPPED | SKIPPED | +---------------------+--------------------+------------------+-------------------+-------------------+-------------------------+----------------------+ | Ubuntu 22.04 | PASS | PASS | PASS | SKIPPED | SKIPPED | SKIPPED | +---------------------+--------------------+------------------+-------------------+-------------------+-------------------------+----------------------+ | Ubuntu 24.04 | PASS | PASS | PASS | SKIPPED | SKIPPED | SKIPPED | +---------------------+--------------------+------------------+-------------------+-------------------+-------------------------+----------------------+ | Alpine | PASS | PASS | SKIPPED | SKIPPED | SKIPPED | SKIPPED | +---------------------+--------------------+------------------+-------------------+-------------------+-------------------------+----------------------+ | FreeBSD 13.4 | PASS | SKIPPED | SKIPPED | SKIPPED | SKIPPED | SKIPPED | +---------------------+--------------------+------------------+-------------------+-------------------+-------------------------+----------------------+ | FreeBSD 14.2 | PASS | SKIPPED | SKIPPED | SKIPPED | SKIPPED | SKIPPED | +---------------------+--------------------+------------------+-------------------+-------------------+-------------------------+----------------------+ | Windows Server 2022 | SKIPPED | SKIPPED | SKIPPED | PASS | PASS | PASS | +---------------------+--------------------+------------------+-------------------+-------------------+-------------------------+----------------------+ CentOS Stream 9 Kernel: Depends on container host Compiler: gcc 11.5.0 20240719 (Red Hat 11.5.0-2) Debian 12 Kernel: Depends on container host Compiler: gcc (Debian 12.2.0-14) 12.2.0 Debian Bullseye Kernel: Depends on container host Compiler: gcc (Debian 10.2.1-6) 10.2.1 20210110 Fedora 39 (Clang) Kernel: Depends on container host Compiler: clang 17.0.6 (Fedora 17.0.6-2.fc39) Fedora 40 (Clang) Kernel: Depends on container host Compiler: clang 18.1.8 (Fedora 18.1.8-1.fc40) Fedora 40 Kernel: Depends on container host Compiler: gcc 14.2.1 20240912 (Red Hat 14.2.1-3) Fedora 39 Kernel: Depends on container host Compiler: gcc 13.3.1 20240522 (Red Hat 13.3.1-1) openSUSE Leap 15 Kernel: Depends on container host Compiler: gcc (SUSE Linux) 7.5.0 RHEL8 Kernel: Depends on container host Compiler: gcc 8.5.0 20210514 (Red Hat 8.5.0-22) RHEL9 Kernel: Depends on container host Compiler: gcc 11.5.0 20240719 (Red Hat 11.5.0-2) Ubuntu 20.04 Kernel: Depends on container host Compiler: gcc (Ubuntu 9.4.0-1ubuntu1~20.04.2) 9.4.0 Ubuntu 22.04 Kernel: Depends on container host Compiler: gcc (Ubuntu 11.4.0-1ubuntu1~22.04) 11.4.0 Ubuntu 24.04 Kernel: Depends on container host Compiler: gcc (Ubuntu 13.3.0-6ubuntu2~24.04) 13.3.0 Alpine Kernel: Depends on container host Compiler: gcc (Alpine 14.2.0) 14.2.0 FreeBSD 13.4 Kernel: 13.4-RELEASE-p1 Compiler: clang 18.1.6 FreeBSD 14.2 Kernel: 14.2-RELEASE Compiler: clang 18.1.6 Windows Server 2022 Kernel: 10.0.20348.2031 Compiler: clang 15.0.7, gcc 14.1.0 (MinGW), and MSVC VS 19.39.33521 To view detailed results, visit: https://lab.dpdk.org/results/dashboard/patchsets/32200/ UNH-IOL DPDK Community Lab To manage your email subscriptions, visit: https://lab.dpdk.org/results/dashboard/preferences/subscriptions/