From mboxrd@z Thu Jan 1 00:00:00 1970 Return-Path: Received: from mails.dpdk.org (mails.dpdk.org [217.70.189.124]) by inbox.dpdk.org (Postfix) with ESMTP id CEE06461BF for ; Fri, 7 Feb 2025 20:57:19 +0100 (CET) Received: from mails.dpdk.org (localhost [127.0.0.1]) by mails.dpdk.org (Postfix) with ESMTP id C7F0A40290; Fri, 7 Feb 2025 20:57:19 +0100 (CET) Received: from mail-qt1-f226.google.com (mail-qt1-f226.google.com [209.85.160.226]) by mails.dpdk.org (Postfix) with ESMTP id 06FE34026C for ; Fri, 7 Feb 2025 20:57:19 +0100 (CET) Received: by mail-qt1-f226.google.com with SMTP id d75a77b69052e-46e28597955so21842341cf.0 for ; Fri, 07 Feb 2025 11:57:18 -0800 (PST) DKIM-Signature: v=1; a=rsa-sha256; c=relaxed/relaxed; d=iol.unh.edu; s=unh-iol; t=1738958238; x=1739563038; darn=dpdk.org; h=references:in-reply-to:cc:to:from:subject:message-id:date:from:to :cc:subject:date:message-id:reply-to; bh=FzoxeFrXJdWe80pykcEUPeLBrADO0l/Iz1Ui6durpNQ=; b=P01EJFTLCJqjWwSX25hxUBwvrt+HpvLOqGynhrCEocYZmLwKh7jrhUjLrU+k8IYy9j ztWn1OWWB1YG71gQtbHO/9wGEtoIbMO2IVXrQn3csZtRlZx7bGa2AaupSBPwjcULwjvo Dl4P67H5r/GUDjDPsQOKzJE5+Lsn8+STkKDrY= X-Google-DKIM-Signature: v=1; a=rsa-sha256; c=relaxed/relaxed; d=1e100.net; s=20230601; t=1738958238; x=1739563038; h=references:in-reply-to:cc:to:from:subject:message-id:date :x-gm-message-state:from:to:cc:subject:date:message-id:reply-to; bh=FzoxeFrXJdWe80pykcEUPeLBrADO0l/Iz1Ui6durpNQ=; b=INzptKYwsElMQmuTpaJNPoOPI3+CKxkJyKKSxOUl22rFMOWYIhW+Y0EBD2qLe1o/cx u1lZjk6mEY8kxype9v9ckTg5j75x01Q6yNIsfAGf6Yat8l62Anlw3pJsTns/tN6hQUJE /jo0EhqmdIf9Ld6AWVOC/DfgA5DdRTVhQDqOrxtYFo3Wm9/9mH/kwDCx9KWqnGdrTl9h IHjyJuJYiU4mqaIfB3OHsPPJO2mW0A7NZbNrGlspK8iZDoB85E8/3rz4wflc/pa2Qr6K Q/feLG4gwNYboYyH8KFL2Yl0d3n8T+Oo09XYLp+M7pm30ql5pNQ1ALTaROx30zM4VOJX rKgQ== X-Gm-Message-State: AOJu0Yw7sUO+WLbMt/z9IKlD2astnXNm9YX+Tlq7TkW/9dXKAAxtxPpW SsDKyvcFywDzpHis6/oqGtyCDLbWYZj2c1WYSfuGcD7lwGa3L3k/4y8TYM1Gscjag+sY1BZfvd9 ZrBEaAj8t/cqrzBe1rfqcBcN4spM4CY+QZsusOTVF X-Gm-Gg: ASbGncvR8gWMi8X1Pa200erQzpU3r9KAJugat6mXP8LH2VGb4ViEyNNk0RpkYsEsVIK P88E2CiPsZWKFk09ZbzIdANvlzFJSwDQBQYGLzz2+BsYOwV3+as+W1KWIwva/q+z9FKJtrZa6Co ZclYb7Gn87TIUjIe7TI2rLRa1c2TyJAlQvkWUI54540uutATdLFOBpT/UuuXD2nE32ctOvtq++1 XhWsxDtwIV6ImgH2aYm+TqhnmjOW19/nklCba7cOBcoRrFpKR34Lee3TzJqul93tSOv1npBrdrv y4snNNTYp1d4caHinIyU0rXMseaxFg== X-Google-Smtp-Source: AGHT+IETb3/+FJ0VbKGq6H+dNhvtF1t3z5nJg07ybPI+6ks9l6eZAXKK+I1H1pHqgMb/AmVkKu9r5HnAAyA8 X-Received: by 2002:ac8:5a0d:0:b0:46c:a0dc:efb1 with SMTP id d75a77b69052e-47167accecemr66678901cf.34.1738958238386; Fri, 07 Feb 2025 11:57:18 -0800 (PST) Received: from postal.iol.unh.edu (postal.iol.unh.edu. [132.177.123.84]) by smtp-relay.gmail.com with ESMTPS id d75a77b69052e-47149277917sm2080231cf.1.2025.02.07.11.57.18 (version=TLS1_2 cipher=ECDHE-ECDSA-AES128-GCM-SHA256 bits=128/128); Fri, 07 Feb 2025 11:57:18 -0800 (PST) X-Relaying-Domain: iol.unh.edu Date: Fri, 07 Feb 2025 11:57:18 -0800 (PST) Message-ID: <67a6659e.050a0220.222a1c.ad75SMTPIN_ADDED_MISSING@mx.google.com> Received: from [172.21.0.6] (unknown [172.18.0.240]) by postal.iol.unh.edu (Postfix) with ESMTP id 180626052472; Fri, 7 Feb 2025 14:56:48 -0500 (EST) Subject: |SUCCESS| pw149326 [PATCH] net/virtio: check return value when calli From: dpdklab@iol.unh.edu To: Test Report Cc: dpdk-test-reports@iol.unh.edu In-Reply-To: <20241220015326.36760-1-sunyang.wu@jaguarmicro.com> References: <20241220015326.36760-1-sunyang.wu@jaguarmicro.com> Content-Type: text/plain X-BeenThere: test-report@dpdk.org X-Mailman-Version: 2.1.29 Precedence: list List-Id: automatic DPDK test reports List-Unsubscribe: , List-Archive: List-Post: List-Help: List-Subscribe: , Errors-To: test-report-bounces@dpdk.org Test-Label: iol-compile-amd64-testing Test-Status: SUCCESS http://dpdk.org/patch/149326 _Testing PASS_ Submitter: Sunyang Wu Date: Friday, December 20 2024 01:53:26 DPDK git baseline: Repo:dpdk Branch: master CommitID:510b460e02594a70d4ce19e2d29df3ade8af36d7 149326 --> testing pass Test environment and result as below: +---------------------+--------------------+------------------+-------------------+-------------------------+-------------------+----------------------+ | Environment | dpdk_meson_compile | dpdk_compile_ovs | dpdk_compile_spdk | dpdk_llvm_clang_compile | dpdk_msvc_compile | dpdk_mingw64_compile | +=====================+====================+==================+===================+=========================+===================+======================+ | Debian 12 | PASS | PASS | PASS | SKIPPED | SKIPPED | SKIPPED | +---------------------+--------------------+------------------+-------------------+-------------------------+-------------------+----------------------+ | CentOS Stream 9 | PASS | PASS | PASS | SKIPPED | SKIPPED | SKIPPED | +---------------------+--------------------+------------------+-------------------+-------------------------+-------------------+----------------------+ | Fedora 40 | PASS | PASS | PASS | SKIPPED | SKIPPED | SKIPPED | +---------------------+--------------------+------------------+-------------------+-------------------------+-------------------+----------------------+ | Fedora 39 (Clang) | PASS | PASS | PASS | SKIPPED | SKIPPED | SKIPPED | +---------------------+--------------------+------------------+-------------------+-------------------------+-------------------+----------------------+ | Fedora 39 | PASS | PASS | PASS | SKIPPED | SKIPPED | SKIPPED | +---------------------+--------------------+------------------+-------------------+-------------------------+-------------------+----------------------+ | openSUSE Leap 15 | PASS | SKIPPED | SKIPPED | SKIPPED | SKIPPED | SKIPPED | +---------------------+--------------------+------------------+-------------------+-------------------------+-------------------+----------------------+ | Fedora 40 (Clang) | PASS | PASS | PASS | SKIPPED | SKIPPED | SKIPPED | +---------------------+--------------------+------------------+-------------------+-------------------------+-------------------+----------------------+ | RHEL9 | PASS | PASS | SKIPPED | SKIPPED | SKIPPED | SKIPPED | +---------------------+--------------------+------------------+-------------------+-------------------------+-------------------+----------------------+ | Ubuntu 22.04 | PASS | PASS | PASS | SKIPPED | SKIPPED | SKIPPED | +---------------------+--------------------+------------------+-------------------+-------------------------+-------------------+----------------------+ | RHEL8 | PASS | PASS | SKIPPED | SKIPPED | SKIPPED | SKIPPED | +---------------------+--------------------+------------------+-------------------+-------------------------+-------------------+----------------------+ | Ubuntu 20.04 | PASS | SKIPPED | SKIPPED | SKIPPED | SKIPPED | SKIPPED | +---------------------+--------------------+------------------+-------------------+-------------------------+-------------------+----------------------+ | Ubuntu 24.04 | PASS | PASS | PASS | SKIPPED | SKIPPED | SKIPPED | +---------------------+--------------------+------------------+-------------------+-------------------------+-------------------+----------------------+ | Alpine | PASS | PASS | SKIPPED | SKIPPED | SKIPPED | SKIPPED | +---------------------+--------------------+------------------+-------------------+-------------------------+-------------------+----------------------+ | FreeBSD 13.4 | PASS | SKIPPED | SKIPPED | SKIPPED | SKIPPED | SKIPPED | +---------------------+--------------------+------------------+-------------------+-------------------------+-------------------+----------------------+ | FreeBSD 14.2 | PASS | SKIPPED | SKIPPED | SKIPPED | SKIPPED | SKIPPED | +---------------------+--------------------+------------------+-------------------+-------------------------+-------------------+----------------------+ | Windows Server 2022 | SKIPPED | SKIPPED | SKIPPED | PASS | PASS | PASS | +---------------------+--------------------+------------------+-------------------+-------------------------+-------------------+----------------------+ Debian 12 Kernel: Depends on container host Compiler: gcc (Debian 12.2.0-14) 12.2.0 CentOS Stream 9 Kernel: Depends on container host Compiler: gcc 11.5.0 20240719 (Red Hat 11.5.0-2) Fedora 40 Kernel: Depends on container host Compiler: gcc 14.2.1 20240912 (Red Hat 14.2.1-3) Fedora 39 (Clang) Kernel: Depends on container host Compiler: clang 17.0.6 (Fedora 17.0.6-2.fc39) Fedora 39 Kernel: Depends on container host Compiler: gcc 13.3.1 20240522 (Red Hat 13.3.1-1) openSUSE Leap 15 Kernel: Depends on container host Compiler: gcc (SUSE Linux) 7.5.0 Fedora 40 (Clang) Kernel: Depends on container host Compiler: clang 18.1.8 (Fedora 18.1.8-1.fc40) RHEL9 Kernel: Depends on container host Compiler: gcc 11.5.0 20240719 (Red Hat 11.5.0-2) Ubuntu 22.04 Kernel: Depends on container host Compiler: gcc (Ubuntu 11.4.0-1ubuntu1~22.04) 11.4.0 RHEL8 Kernel: Depends on container host Compiler: gcc 8.5.0 20210514 (Red Hat 8.5.0-22) Ubuntu 20.04 Kernel: Depends on container host Compiler: gcc (Ubuntu 9.4.0-1ubuntu1~20.04.2) 9.4.0 Ubuntu 24.04 Kernel: Depends on container host Compiler: gcc (Ubuntu 13.3.0-6ubuntu2~24.04) 13.3.0 Alpine Kernel: Depends on container host Compiler: gcc (Alpine 14.2.0) 14.2.0 FreeBSD 13.4 Kernel: 13.4-RELEASE-p1 Compiler: clang 18.1.6 FreeBSD 14.2 Kernel: 14.2-RELEASE Compiler: clang 18.1.6 Windows Server 2022 Kernel: 10.0.20348.2031 Compiler: clang 15.0.7, gcc 14.1.0 (MinGW), and MSVC VS 19.39.33521 To view detailed results, visit: https://lab.dpdk.org/results/dashboard/patchsets/32177/ UNH-IOL DPDK Community Lab To manage your email subscriptions, visit: https://lab.dpdk.org/results/dashboard/preferences/subscriptions/