From mboxrd@z Thu Jan  1 00:00:00 1970
Return-Path: <test-report-bounces@dpdk.org>
Received: from mails.dpdk.org (mails.dpdk.org [217.70.189.124])
	by inbox.dpdk.org (Postfix) with ESMTP id 05974461BF
	for <public@inbox.dpdk.org>; Fri,  7 Feb 2025 20:57:32 +0100 (CET)
Received: from mails.dpdk.org (localhost [127.0.0.1])
	by mails.dpdk.org (Postfix) with ESMTP id 0248340290;
	Fri,  7 Feb 2025 20:57:32 +0100 (CET)
Received: from mail-il1-f227.google.com (mail-il1-f227.google.com
 [209.85.166.227])
 by mails.dpdk.org (Postfix) with ESMTP id 5FF4E4026C
 for <test-report@dpdk.org>; Fri,  7 Feb 2025 20:57:31 +0100 (CET)
Received: by mail-il1-f227.google.com with SMTP id
 e9e14a558f8ab-3cf880d90bdso7220175ab.3
 for <test-report@dpdk.org>; Fri, 07 Feb 2025 11:57:31 -0800 (PST)
DKIM-Signature: v=1; a=rsa-sha256; c=relaxed/relaxed;
 d=iol.unh.edu; s=unh-iol; t=1738958251; x=1739563051; darn=dpdk.org;
 h=references:in-reply-to:cc:to:from:subject:message-id:date:from:to
 :cc:subject:date:message-id:reply-to;
 bh=HpU1cCEbeyL9HnYrme+Ugt19iMC0fgYT4DcogpVk4c0=;
 b=IbvNExvSlnh3xXg4xU6mtdVtUaMsPwbicCqrJNraNQ7vUvbiDP6DLPoeEslHrXwNvg
 XbxJ4iHBNEFL2rmZoAK43G1ON8Q+19MRkdtf1GIH0Sxmt2wqeBAz1jbl0NKexOEjRhQA
 nCSvxXDNqsKpp9KITf++QEU1tXh2Ifp6fa0s8=
X-Google-DKIM-Signature: v=1; a=rsa-sha256; c=relaxed/relaxed;
 d=1e100.net; s=20230601; t=1738958251; x=1739563051;
 h=references:in-reply-to:cc:to:from:subject:message-id:date
 :x-gm-message-state:from:to:cc:subject:date:message-id:reply-to;
 bh=HpU1cCEbeyL9HnYrme+Ugt19iMC0fgYT4DcogpVk4c0=;
 b=b2AjeyCp/MpU2c4e1MBZI98oamFiei2vrQVZtq71Zsz52QnrPpjP0yQ2Imz6DhtcHp
 afXCbIF61ELwqNp123xP/FxTnxjlHaGL1Doq7nHbFHgAHsEBIy7TH0bbM+mmNtrwfoZS
 h5/QyORyUyHqPQGqveOUNRjbYADbZamlYR1tUPsQph9V3MMxHWax1EU6jiEq58rw3shY
 RF9TrnR8qmZX8O+PXhD+1DZ2HP4wiCLVRoRxDraigv1g21meV3OCYZq3OJGc4E6SwuUa
 gk/8EQ8GQOeucAfLTK3qCZhiKRK8IMY/sEe8Gowl8GWUD0jvksVWs9Pnaz+cIyCr6xm3
 znrg==
X-Gm-Message-State: AOJu0YyQtNMttDOY4hFdPeyjuwiyYh/t/dExshj/LNg0AaDka3g2cRFN
 OEgvkSx1ANNffAzX44UK0vkYtH5cZRQQ5jxBx3dWRR9d3bPWPfW3rVkCsEpo7YTJSIJKQP6+i8S
 SfyJ1eIdxK3QvLOAjbuBDSIAE5YAYEjCXMb9Nk6t5
X-Gm-Gg: ASbGnctCpxKg+o6jEqxU+Ciurqyl8sx1FplJu3pS7rxyjmqcfwKUe0iF4WUEAykaw2r
 7OKNgK6N45+Q3Z5dTSNXtBSX/2KmpOq2JCt9piCJGr/9L19XiONmd2vlFad2Nq9J9mSbDduO8/s
 NliCr6cv3czH0sUdnITkcHJdj0IIqmcSdF/huXQ2EfQ2u5BkoSmQEbA12O9UctGxY079S0r1thA
 LYT2EvdCabUJFiDoIkdMMKi6IvmrXK/zKXMes3gQy2I9zjRWiM51co8PeQRW/qzTBrgZP6xHXNY
 4R727UyUtYci/ZoCgxEAF8x+VdDhjw==
X-Google-Smtp-Source: AGHT+IEQc7A66xuNUP165baGknF7ZoCF3ubm23SBLk47CDVyucd2jm3uA2bBEQ9ohmp1eEfFY4lWHHIV0AVI
X-Received: by 2002:a05:6e02:1d91:b0:3cf:b87b:8fde with SMTP id
 e9e14a558f8ab-3d13df3ec6cmr35512135ab.17.1738958250777; 
 Fri, 07 Feb 2025 11:57:30 -0800 (PST)
Received: from postal.iol.unh.edu (postal.iol.unh.edu. [132.177.123.84])
 by smtp-relay.gmail.com with ESMTPS id
 e9e14a558f8ab-3d05e9f06easm2768745ab.47.2025.02.07.11.57.30
 (version=TLS1_2 cipher=ECDHE-ECDSA-AES128-GCM-SHA256 bits=128/128);
 Fri, 07 Feb 2025 11:57:30 -0800 (PST)
X-Relaying-Domain: iol.unh.edu
Date: Fri, 07 Feb 2025 11:57:30 -0800 (PST)
Message-ID: <67a665aa.050a0220.7991b.eabdSMTPIN_ADDED_MISSING@mx.google.com>
Received: from [172.21.0.6] (unknown [172.18.0.240])
 by postal.iol.unh.edu (Postfix) with ESMTP id 48F646052471;
 Fri,  7 Feb 2025 14:57:30 -0500 (EST)
Subject: |SUCCESS| pw149386-149391 [PATCH] [7/7] mlx5: add backward compatibi
From: dpdklab@iol.unh.edu
To: Test Report <test-report@dpdk.org>
Cc: dpdk-test-reports@iol.unh.edu
In-Reply-To: <20241223101101.677449-8-gavinl@nvidia.com>
References: <20241223101101.677449-8-gavinl@nvidia.com>
Content-Type: text/plain
X-BeenThere: test-report@dpdk.org
X-Mailman-Version: 2.1.29
Precedence: list
List-Id: automatic DPDK test reports <test-report.dpdk.org>
List-Unsubscribe: <https://mails.dpdk.org/options/test-report>,
 <mailto:test-report-request@dpdk.org?subject=unsubscribe>
List-Archive: <http://mails.dpdk.org/archives/test-report/>
List-Post: <mailto:test-report@dpdk.org>
List-Help: <mailto:test-report-request@dpdk.org?subject=help>
List-Subscribe: <https://mails.dpdk.org/listinfo/test-report>,
 <mailto:test-report-request@dpdk.org?subject=subscribe>
Errors-To: test-report-bounces@dpdk.org

Test-Label: iol-compile-amd64-testing
Test-Status: SUCCESS
http://dpdk.org/patch/149391

_Testing PASS_

Submitter: Minggang Li(Gavin) <gavinl@nvidia.com>
Date: Monday, December 23 2024 10:11:01 
DPDK git baseline: Repo:dpdk
  Branch: master
  CommitID:1b3bf1128d9bda5595861814792f74b8f57160c8

149386-149391 --> testing pass

Test environment and result as below:

+---------------------+--------------------+------------------+-------------------+-------------------------+-------------------+----------------------+
|     Environment     | dpdk_meson_compile | dpdk_compile_ovs | dpdk_compile_spdk | dpdk_llvm_clang_compile | dpdk_msvc_compile | dpdk_mingw64_compile |
+=====================+====================+==================+===================+=========================+===================+======================+
| CentOS Stream 9     | PASS               | PASS             | PASS              | SKIPPED                 | SKIPPED           | SKIPPED              |
+---------------------+--------------------+------------------+-------------------+-------------------------+-------------------+----------------------+
| Debian Bullseye     | PASS               | PASS             | PASS              | SKIPPED                 | SKIPPED           | SKIPPED              |
+---------------------+--------------------+------------------+-------------------+-------------------------+-------------------+----------------------+
| Debian 12           | PASS               | PASS             | PASS              | SKIPPED                 | SKIPPED           | SKIPPED              |
+---------------------+--------------------+------------------+-------------------+-------------------------+-------------------+----------------------+
| Fedora 39           | PASS               | PASS             | PASS              | SKIPPED                 | SKIPPED           | SKIPPED              |
+---------------------+--------------------+------------------+-------------------+-------------------------+-------------------+----------------------+
| Fedora 40 (Clang)   | PASS               | PASS             | PASS              | SKIPPED                 | SKIPPED           | SKIPPED              |
+---------------------+--------------------+------------------+-------------------+-------------------------+-------------------+----------------------+
| Fedora 40           | PASS               | PASS             | PASS              | SKIPPED                 | SKIPPED           | SKIPPED              |
+---------------------+--------------------+------------------+-------------------+-------------------------+-------------------+----------------------+
| RHEL8               | PASS               | PASS             | SKIPPED           | SKIPPED                 | SKIPPED           | SKIPPED              |
+---------------------+--------------------+------------------+-------------------+-------------------------+-------------------+----------------------+
| openSUSE Leap 15    | PASS               | SKIPPED          | SKIPPED           | SKIPPED                 | SKIPPED           | SKIPPED              |
+---------------------+--------------------+------------------+-------------------+-------------------------+-------------------+----------------------+
| RHEL9               | PASS               | PASS             | SKIPPED           | SKIPPED                 | SKIPPED           | SKIPPED              |
+---------------------+--------------------+------------------+-------------------+-------------------------+-------------------+----------------------+
| Ubuntu 20.04        | PASS               | SKIPPED          | SKIPPED           | SKIPPED                 | SKIPPED           | SKIPPED              |
+---------------------+--------------------+------------------+-------------------+-------------------------+-------------------+----------------------+
| Ubuntu 22.04        | PASS               | PASS             | PASS              | SKIPPED                 | SKIPPED           | SKIPPED              |
+---------------------+--------------------+------------------+-------------------+-------------------------+-------------------+----------------------+
| Ubuntu 24.04        | PASS               | PASS             | PASS              | SKIPPED                 | SKIPPED           | SKIPPED              |
+---------------------+--------------------+------------------+-------------------+-------------------------+-------------------+----------------------+
| Alpine              | PASS               | PASS             | SKIPPED           | SKIPPED                 | SKIPPED           | SKIPPED              |
+---------------------+--------------------+------------------+-------------------+-------------------------+-------------------+----------------------+
| FreeBSD 13.4        | PASS               | SKIPPED          | SKIPPED           | SKIPPED                 | SKIPPED           | SKIPPED              |
+---------------------+--------------------+------------------+-------------------+-------------------------+-------------------+----------------------+
| FreeBSD 14.2        | PASS               | SKIPPED          | SKIPPED           | SKIPPED                 | SKIPPED           | SKIPPED              |
+---------------------+--------------------+------------------+-------------------+-------------------------+-------------------+----------------------+
| Fedora 39 (Clang)   | PASS               | PASS             | PASS              | SKIPPED                 | SKIPPED           | SKIPPED              |
+---------------------+--------------------+------------------+-------------------+-------------------------+-------------------+----------------------+
| Windows Server 2022 | SKIPPED            | SKIPPED          | SKIPPED           | PASS                    | PASS              | PASS                 |
+---------------------+--------------------+------------------+-------------------+-------------------------+-------------------+----------------------+


CentOS Stream 9
	Kernel: Depends on container host
	Compiler: gcc 11.5.0 20240719 (Red Hat 11.5.0-2)

Debian Bullseye
	Kernel: Depends on container host
	Compiler: gcc (Debian 10.2.1-6) 10.2.1 20210110

Debian 12
	Kernel: Depends on container host
	Compiler: gcc (Debian 12.2.0-14) 12.2.0

Fedora 39
	Kernel: Depends on container host
	Compiler: gcc 13.3.1 20240522 (Red Hat 13.3.1-1)

Fedora 40 (Clang)
	Kernel: Depends on container host
	Compiler: clang 18.1.8 (Fedora 18.1.8-1.fc40)

Fedora 40
	Kernel: Depends on container host
	Compiler: gcc 14.2.1 20240912 (Red Hat 14.2.1-3)

RHEL8
	Kernel: Depends on container host
	Compiler: gcc 8.5.0 20210514 (Red Hat 8.5.0-22)

openSUSE Leap 15
	Kernel: Depends on container host
	Compiler: gcc (SUSE Linux) 7.5.0

RHEL9
	Kernel: Depends on container host
	Compiler: gcc 11.5.0 20240719 (Red Hat 11.5.0-2)

Ubuntu 20.04
	Kernel: Depends on container host
	Compiler: gcc (Ubuntu 9.4.0-1ubuntu1~20.04.2) 9.4.0

Ubuntu 22.04
	Kernel: Depends on container host
	Compiler: gcc (Ubuntu 11.4.0-1ubuntu1~22.04) 11.4.0

Ubuntu 24.04
	Kernel: Depends on container host
	Compiler: gcc (Ubuntu 13.3.0-6ubuntu2~24.04) 13.3.0

Alpine
	Kernel: Depends on container host
	Compiler: gcc (Alpine 14.2.0) 14.2.0

FreeBSD 13.4
	Kernel: 13.4-RELEASE-p1
	Compiler: clang 18.1.6

FreeBSD 14.2
	Kernel: 14.2-RELEASE
	Compiler: clang 18.1.6

Fedora 39 (Clang)
	Kernel: Depends on container host
	Compiler: clang 17.0.6 (Fedora 17.0.6-2.fc39)

Windows Server 2022
	Kernel: 10.0.20348.2031
	Compiler: clang 15.0.7, gcc 14.1.0 (MinGW), and MSVC VS 19.39.33521

To view detailed results, visit:
https://lab.dpdk.org/results/dashboard/patchsets/32194/

UNH-IOL DPDK Community Lab

To manage your email subscriptions, visit: 
https://lab.dpdk.org/results/dashboard/preferences/subscriptions/