From mboxrd@z Thu Jan 1 00:00:00 1970 Return-Path: Received: from mails.dpdk.org (mails.dpdk.org [217.70.189.124]) by inbox.dpdk.org (Postfix) with ESMTP id 54E63461BF for ; Fri, 7 Feb 2025 20:57:44 +0100 (CET) Received: from mails.dpdk.org (localhost [127.0.0.1]) by mails.dpdk.org (Postfix) with ESMTP id 528D7402B3; Fri, 7 Feb 2025 20:57:44 +0100 (CET) Received: from mail-qt1-f225.google.com (mail-qt1-f225.google.com [209.85.160.225]) by mails.dpdk.org (Postfix) with ESMTP id 665244026C for ; Fri, 7 Feb 2025 20:57:42 +0100 (CET) Received: by mail-qt1-f225.google.com with SMTP id d75a77b69052e-467918c35easo41542661cf.2 for ; Fri, 07 Feb 2025 11:57:42 -0800 (PST) DKIM-Signature: v=1; a=rsa-sha256; c=relaxed/relaxed; d=iol.unh.edu; s=unh-iol; t=1738958262; x=1739563062; darn=dpdk.org; h=cc:to:from:subject:message-id:date:from:to:cc:subject:date :message-id:reply-to; bh=sWoSNr657cXBdonfA1sCFLx7dJE2EFPcOOVprG1PWmY=; b=f5gWm8kM50o979WmzujKUxNP1WPEJ+4uOarGTL7pX7XPdT1tgVhWj4ItKvezX4JAR8 px0MbQXYd9A6dqC9SjIccjStQ7jfAkXRu678hfyOp6vu8kwsQ6ohbKTgqM/O6EGMA43J WvdgVM0Upj/foQPoB8+AbUz3y/B7lCWyh+ULc= X-Google-DKIM-Signature: v=1; a=rsa-sha256; c=relaxed/relaxed; d=1e100.net; s=20230601; t=1738958262; x=1739563062; h=cc:to:from:subject:message-id:date:x-gm-message-state:from:to:cc :subject:date:message-id:reply-to; bh=sWoSNr657cXBdonfA1sCFLx7dJE2EFPcOOVprG1PWmY=; b=L9H/PO35Bg3bW9J1eW7QNYoqbNPfm0/AQ1R+30d6HQsk2CN6hzFnlKDC2HOl9DpOmI kx94bYWW0Mpvb1Qad8lV5VTg7LaCG7JJ08ZDVA4VPZ/oP5SxiTmZKW08Cx91l5sOVPGT pih1atYIlZE1LzMpGU8QGpQHYBvIvoyCAmj3BwvXK/fK/ZAXlFkBZA+axPs990097+WR ZLhyb+7dPLmr3y5tg7Z64Ikobx8DXpwirHoluswz/Vvdtu1OlqbDzMIscOak6MYwJ0A8 r+RY4o5fdjSLiVZoN2R5GMfBpP5bu+9P6ECB+N3gL0tpeTHsBZj7I7D1N6uYc6EySSXG VSaw== X-Gm-Message-State: AOJu0YyVGWsyIBX/jIr3QuUkRfN4xJUkFcBqaluubcbqipdfGMYpULng YrSqlZmuYdZb2miqJRM2vyN4NhMVi4VrZH+AKb1FKMSIPI4jF9qaZcpy8IwCcPvycva0ucNlnIQ KE6Xh/m5OoVUJE7Oip1SR71E1sFhfanmR1edU9BOO X-Gm-Gg: ASbGncuD8aHJMRvugKdcv0+JPqG1RzndSiUsZDChQQsBIO1vEetjOqh9uzw5lNkNBbh LzIx8QUkQ/Jm01COs2/Lor2ZIT2Cod0uR7juc/dv0asa49FRuIfRvhnBXFx7DbuYvvxJQe6/huf No9XVxtb0CVJkdgERpMUjf67gDbZHd3teCwYMJO5mJk9LpmFzq+orO8ypWxXP6RZlOrUM6GN0Ys nAJV9JdS3OUkM44gtWytSgM+PPq7XEcbxixuLIPpqR4IZqCz884OFgat3loi5xWmbWUgT6Pg8QJ OGUCpCHS6QOvoY/LfCF4h/msnqG2GA== X-Google-Smtp-Source: AGHT+IEbvpC1sX7W/Io/Bm34A1ST+Usmt2ezgQdxjbSp5OuBa1m5R4rHSntYui/3fUa9qAT2OMgKA/T1vdGi X-Received: by 2002:a05:622a:1f0e:b0:467:7cda:9388 with SMTP id d75a77b69052e-47167a3c697mr71077561cf.31.1738958261890; Fri, 07 Feb 2025 11:57:41 -0800 (PST) Received: from postal.iol.unh.edu (postal.iol.unh.edu. [132.177.123.84]) by smtp-relay.gmail.com with ESMTPS id d75a77b69052e-47153b5b3fesm2064831cf.23.2025.02.07.11.57.41 (version=TLS1_2 cipher=ECDHE-ECDSA-AES128-GCM-SHA256 bits=128/128); Fri, 07 Feb 2025 11:57:41 -0800 (PST) X-Relaying-Domain: iol.unh.edu Date: Fri, 07 Feb 2025 11:57:41 -0800 (PST) Message-ID: <67a665b5.050a0220.1e9493.a756SMTPIN_ADDED_MISSING@mx.google.com> Received: from [172.21.0.13] (unknown [172.18.0.240]) by postal.iol.unh.edu (Postfix) with ESMTP id 912E86052477; Fri, 7 Feb 2025 14:57:41 -0500 (EST) Subject: |SUCCESS| [GIT MASTER] 07604f264417959d76aa9fcb8cb0c3665f62f0d3 From: dpdklab@iol.unh.edu To: Test Report Cc: dpdk-test-reports@iol.unh.edu, Chenbo Xia , Maxime Coquelin Content-Type: text/plain X-BeenThere: test-report@dpdk.org X-Mailman-Version: 2.1.29 Precedence: list List-Id: automatic DPDK test reports List-Unsubscribe: , List-Archive: List-Post: List-Help: List-Subscribe: , Errors-To: test-report-bounces@dpdk.org _Testing PASS_ Branch: dpdk-next-virtio 07604f264417959d76aa9fcb8cb0c3665f62f0d3 --> testing pass Test environment and result as below: +---------------------+--------------------+------------------+-------------------+-------------------+-------------------------+----------------------+ | Environment | dpdk_meson_compile | dpdk_compile_ovs | dpdk_compile_spdk | dpdk_msvc_compile | dpdk_llvm_clang_compile | dpdk_mingw64_compile | +=====================+====================+==================+===================+===================+=========================+======================+ | CentOS Stream 9 | PASS | PASS | PASS | SKIPPED | SKIPPED | SKIPPED | +---------------------+--------------------+------------------+-------------------+-------------------+-------------------------+----------------------+ | Debian Bullseye | PASS | PASS | PASS | SKIPPED | SKIPPED | SKIPPED | +---------------------+--------------------+------------------+-------------------+-------------------+-------------------------+----------------------+ | Debian 12 | PASS | PASS | PASS | SKIPPED | SKIPPED | SKIPPED | +---------------------+--------------------+------------------+-------------------+-------------------+-------------------------+----------------------+ | Fedora 39 (Clang) | PASS | PASS | PASS | SKIPPED | SKIPPED | SKIPPED | +---------------------+--------------------+------------------+-------------------+-------------------+-------------------------+----------------------+ | Fedora 40 (Clang) | PASS | PASS | PASS | SKIPPED | SKIPPED | SKIPPED | +---------------------+--------------------+------------------+-------------------+-------------------+-------------------------+----------------------+ | Fedora 40 | PASS | PASS | PASS | SKIPPED | SKIPPED | SKIPPED | +---------------------+--------------------+------------------+-------------------+-------------------+-------------------------+----------------------+ | Fedora 39 | PASS | PASS | PASS | SKIPPED | SKIPPED | SKIPPED | +---------------------+--------------------+------------------+-------------------+-------------------+-------------------------+----------------------+ | openSUSE Leap 15 | PASS | SKIPPED | SKIPPED | SKIPPED | SKIPPED | SKIPPED | +---------------------+--------------------+------------------+-------------------+-------------------+-------------------------+----------------------+ | RHEL8 | PASS | PASS | SKIPPED | SKIPPED | SKIPPED | SKIPPED | +---------------------+--------------------+------------------+-------------------+-------------------+-------------------------+----------------------+ | RHEL9 | PASS | PASS | SKIPPED | SKIPPED | SKIPPED | SKIPPED | +---------------------+--------------------+------------------+-------------------+-------------------+-------------------------+----------------------+ | Ubuntu 20.04 | PASS | SKIPPED | SKIPPED | SKIPPED | SKIPPED | SKIPPED | +---------------------+--------------------+------------------+-------------------+-------------------+-------------------------+----------------------+ | Ubuntu 24.04 | PASS | PASS | PASS | SKIPPED | SKIPPED | SKIPPED | +---------------------+--------------------+------------------+-------------------+-------------------+-------------------------+----------------------+ | Alpine | PASS | PASS | SKIPPED | SKIPPED | SKIPPED | SKIPPED | +---------------------+--------------------+------------------+-------------------+-------------------+-------------------------+----------------------+ | FreeBSD 13.4 | PASS | SKIPPED | SKIPPED | SKIPPED | SKIPPED | SKIPPED | +---------------------+--------------------+------------------+-------------------+-------------------+-------------------------+----------------------+ | FreeBSD 14.2 | PASS | SKIPPED | SKIPPED | SKIPPED | SKIPPED | SKIPPED | +---------------------+--------------------+------------------+-------------------+-------------------+-------------------------+----------------------+ | Ubuntu 22.04 | PASS | PASS | PASS | SKIPPED | SKIPPED | SKIPPED | +---------------------+--------------------+------------------+-------------------+-------------------+-------------------------+----------------------+ | Windows Server 2022 | SKIPPED | SKIPPED | SKIPPED | PASS | PASS | PASS | +---------------------+--------------------+------------------+-------------------+-------------------+-------------------------+----------------------+ CentOS Stream 9 Kernel: Depends on container host Compiler: gcc 11.5.0 20240719 (Red Hat 11.5.0-2) Debian Bullseye Kernel: Depends on container host Compiler: gcc (Debian 10.2.1-6) 10.2.1 20210110 Debian 12 Kernel: Depends on container host Compiler: gcc (Debian 12.2.0-14) 12.2.0 Fedora 39 (Clang) Kernel: Depends on container host Compiler: clang 17.0.6 (Fedora 17.0.6-2.fc39) Fedora 40 (Clang) Kernel: Depends on container host Compiler: clang 18.1.8 (Fedora 18.1.8-1.fc40) Fedora 40 Kernel: Depends on container host Compiler: gcc 14.2.1 20240912 (Red Hat 14.2.1-3) Fedora 39 Kernel: Depends on container host Compiler: gcc 13.3.1 20240522 (Red Hat 13.3.1-1) openSUSE Leap 15 Kernel: Depends on container host Compiler: gcc (SUSE Linux) 7.5.0 RHEL8 Kernel: Depends on container host Compiler: gcc 8.5.0 20210514 (Red Hat 8.5.0-22) RHEL9 Kernel: Depends on container host Compiler: gcc 11.5.0 20240719 (Red Hat 11.5.0-2) Ubuntu 20.04 Kernel: Depends on container host Compiler: gcc (Ubuntu 9.4.0-1ubuntu1~20.04.2) 9.4.0 Ubuntu 24.04 Kernel: Depends on container host Compiler: gcc (Ubuntu 13.3.0-6ubuntu2~24.04) 13.3.0 Alpine Kernel: Depends on container host Compiler: gcc (Alpine 14.2.0) 14.2.0 FreeBSD 13.4 Kernel: 13.4-RELEASE-p1 Compiler: clang 18.1.6 FreeBSD 14.2 Kernel: 14.2-RELEASE Compiler: clang 18.1.6 Ubuntu 22.04 Kernel: Depends on container host Compiler: gcc (Ubuntu 11.4.0-1ubuntu1~22.04) 11.4.0 Windows Server 2022 Kernel: 10.0.20348.2031 Compiler: clang 15.0.7, gcc 14.1.0 (MinGW), and MSVC VS 19.39.33521 To view detailed results, visit: https://lab.dpdk.org/results/dashboard/tarballs/32009/ UNH-IOL DPDK Community Lab To manage your email subscriptions, visit: https://lab.dpdk.org/results/dashboard/preferences/subscriptions/