From mboxrd@z Thu Jan 1 00:00:00 1970 Return-Path: Received: from mails.dpdk.org (mails.dpdk.org [217.70.189.124]) by inbox.dpdk.org (Postfix) with ESMTP id 4A987461BF for ; Fri, 7 Feb 2025 20:57:44 +0100 (CET) Received: from mails.dpdk.org (localhost [127.0.0.1]) by mails.dpdk.org (Postfix) with ESMTP id 45B5640290; Fri, 7 Feb 2025 20:57:44 +0100 (CET) Received: from mail-io1-f100.google.com (mail-io1-f100.google.com [209.85.166.100]) by mails.dpdk.org (Postfix) with ESMTP id F2E304026C for ; Fri, 7 Feb 2025 20:57:41 +0100 (CET) Received: by mail-io1-f100.google.com with SMTP id ca18e2360f4ac-8550803e1afso27038839f.1 for ; Fri, 07 Feb 2025 11:57:41 -0800 (PST) DKIM-Signature: v=1; a=rsa-sha256; c=relaxed/relaxed; d=iol.unh.edu; s=unh-iol; t=1738958261; x=1739563061; darn=dpdk.org; h=references:in-reply-to:cc:to:from:subject:message-id:date:from:to :cc:subject:date:message-id:reply-to; bh=66iabpf75Ac6DTyA6ZCI55iAMXNruBG0oTPb5Oogbgo=; b=JNP2rIPvcdfg4AAgS20MQZ1y30z4rlDUp1pIsBQV9V9Kw7YHjCPV84uM4EJPxMuE7z JtPwC0HjyWvRjmswoed4ok1x7NoSF4bXg2CmNv279tt09kiwcggbNbgvg6eK2T+u5I+h XWDzuV2+SvdT1kvKVTcYt2U/4XM49gKSCUYYg= X-Google-DKIM-Signature: v=1; a=rsa-sha256; c=relaxed/relaxed; d=1e100.net; s=20230601; t=1738958261; x=1739563061; h=references:in-reply-to:cc:to:from:subject:message-id:date :x-gm-message-state:from:to:cc:subject:date:message-id:reply-to; bh=66iabpf75Ac6DTyA6ZCI55iAMXNruBG0oTPb5Oogbgo=; b=NucOW9Gdv96Bs9IR0s0UhIQ+ImWfmwryvAwECfkudrBypH10/kVjMkO/TVtMx9VxQb i1PQFbJ1eIPVt1zAiS1RgS0OCSS42JnUlH59uZIOtrzjboQa4cJ/lc4iYHxerwa7Nt+g zEU0Q4xFENPTIJ1LrWd7IGWwlwRVB2z8KjTLZuje1xHqxpVDVw1d3VDRCgulwHvTaJw5 PqAFb084j1OIfFu0ptK3T9XIaAcLJQvMpaaMtHePgP4Fu5b0wQOPwk5CJWdTX+F1uNEm gltSn9Adm9mKTMxgSq3EDfyUhGE4NKHlXI405Bs/eMptfBFR1AuWzFqXo+xVKJgnyHMF 5XCg== X-Gm-Message-State: AOJu0YwE+hzVcPzP8QSbMdoLgUbHmZkwsYdSbm2ZiN8fcEQvtL/1TiUj kezl9QmTiUC7YZZbZEU7YT2LsYG0x5jJJ7AOl5un/F3oCIFkEYbSUasJ7g1HG6mZNpkiB8lXygv d+Iugv4bYQPNcVzjXZm+R6DMaXivVtksPme8TNcwn X-Gm-Gg: ASbGncte8hpOPN1RFEqpdg6op/Bpljd3opcRHei2wmDH4BGujNq5aPQc/YG0TcvRAOO 8zJsIVw5+59kwSTphIzeC5pqiiOYF5uaUlG5AFVOTyVpAfdOCE7fqH290XwUZt5R8A/L/AH6OIa oyBDQssnG3wYSsFlfQwKI+I3h2eJqmZSdfxMTiNCG1VEk6sY9c+El/6Pe51Oszn2qIGQ3q3naUA L+Fk6FdbbTbihLqk7fqV+Xr2v4OPscZbRdgHCOBee0YFMTuFSbDKoLKGVb3XX4uk9Sp7khHXJsH 08jp5kwftXWK9IMUrMzJgPsn3Le9IQ== X-Google-Smtp-Source: AGHT+IGmnrsM16NsEhD8OJ0GgsgddF+bGw9IskQQxaQl6QZTMOsk6Bruhhmqzrogv+GtbJFKilqHvkpvhonj X-Received: by 2002:a05:6602:3713:b0:83e:418c:8a28 with SMTP id ca18e2360f4ac-854fd8b32c6mr535736839f.7.1738958261287; Fri, 07 Feb 2025 11:57:41 -0800 (PST) Received: from postal.iol.unh.edu (postal.iol.unh.edu. [132.177.123.84]) by smtp-relay.gmail.com with ESMTPS id ca18e2360f4ac-854f675d5c9sm24076639f.27.2025.02.07.11.57.41 (version=TLS1_2 cipher=ECDHE-ECDSA-AES128-GCM-SHA256 bits=128/128); Fri, 07 Feb 2025 11:57:41 -0800 (PST) X-Relaying-Domain: iol.unh.edu Date: Fri, 07 Feb 2025 11:57:41 -0800 (PST) Message-ID: <67a665b5.050a0220.383c71.c6d1SMTPIN_ADDED_MISSING@mx.google.com> Received: from [172.21.0.12] (unknown [172.18.0.240]) by postal.iol.unh.edu (Postfix) with ESMTP id C69C9605247D; Fri, 7 Feb 2025 14:57:10 -0500 (EST) Subject: |SUCCESS| pw149383 [PATCH] app/test-flow-perf: support testing the f From: dpdklab@iol.unh.edu To: Test Report Cc: dpdk-test-reports@iol.unh.edu In-Reply-To: <20241223083554.37784-1-sunyang.wu@jaguarmicro.com> References: <20241223083554.37784-1-sunyang.wu@jaguarmicro.com> Content-Type: text/plain X-BeenThere: test-report@dpdk.org X-Mailman-Version: 2.1.29 Precedence: list List-Id: automatic DPDK test reports List-Unsubscribe: , List-Archive: List-Post: List-Help: List-Subscribe: , Errors-To: test-report-bounces@dpdk.org Test-Label: iol-compile-amd64-testing Test-Status: SUCCESS http://dpdk.org/patch/149383 _Testing PASS_ Submitter: Sunyang Wu Date: Monday, December 23 2024 08:35:54 DPDK git baseline: Repo:dpdk Branch: master CommitID:07604f264417959d76aa9fcb8cb0c3665f62f0d3 149383 --> testing pass Test environment and result as below: +---------------------+--------------------+------------------+-------------------+-------------------------+-------------------+----------------------+ | Environment | dpdk_meson_compile | dpdk_compile_ovs | dpdk_compile_spdk | dpdk_llvm_clang_compile | dpdk_msvc_compile | dpdk_mingw64_compile | +=====================+====================+==================+===================+=========================+===================+======================+ | CentOS Stream 9 | PASS | PASS | PASS | SKIPPED | SKIPPED | SKIPPED | +---------------------+--------------------+------------------+-------------------+-------------------------+-------------------+----------------------+ | Debian 12 | PASS | PASS | PASS | SKIPPED | SKIPPED | SKIPPED | +---------------------+--------------------+------------------+-------------------+-------------------------+-------------------+----------------------+ | Fedora 39 (Clang) | PASS | PASS | PASS | SKIPPED | SKIPPED | SKIPPED | +---------------------+--------------------+------------------+-------------------+-------------------------+-------------------+----------------------+ | Debian Bullseye | PASS | PASS | PASS | SKIPPED | SKIPPED | SKIPPED | +---------------------+--------------------+------------------+-------------------+-------------------------+-------------------+----------------------+ | Fedora 39 | PASS | PASS | PASS | SKIPPED | SKIPPED | SKIPPED | +---------------------+--------------------+------------------+-------------------+-------------------------+-------------------+----------------------+ | RHEL8 | PASS | PASS | SKIPPED | SKIPPED | SKIPPED | SKIPPED | +---------------------+--------------------+------------------+-------------------+-------------------------+-------------------+----------------------+ | openSUSE Leap 15 | PASS | SKIPPED | SKIPPED | SKIPPED | SKIPPED | SKIPPED | +---------------------+--------------------+------------------+-------------------+-------------------------+-------------------+----------------------+ | Fedora 40 (Clang) | PASS | PASS | PASS | SKIPPED | SKIPPED | SKIPPED | +---------------------+--------------------+------------------+-------------------+-------------------------+-------------------+----------------------+ | Ubuntu 24.04 | PASS | PASS | PASS | SKIPPED | SKIPPED | SKIPPED | +---------------------+--------------------+------------------+-------------------+-------------------------+-------------------+----------------------+ | Fedora 40 | PASS | PASS | PASS | SKIPPED | SKIPPED | SKIPPED | +---------------------+--------------------+------------------+-------------------+-------------------------+-------------------+----------------------+ | RHEL9 | PASS | PASS | SKIPPED | SKIPPED | SKIPPED | SKIPPED | +---------------------+--------------------+------------------+-------------------+-------------------------+-------------------+----------------------+ | Ubuntu 20.04 | PASS | SKIPPED | SKIPPED | SKIPPED | SKIPPED | SKIPPED | +---------------------+--------------------+------------------+-------------------+-------------------------+-------------------+----------------------+ | Ubuntu 22.04 | PASS | PASS | PASS | SKIPPED | SKIPPED | SKIPPED | +---------------------+--------------------+------------------+-------------------+-------------------------+-------------------+----------------------+ | Alpine | PASS | PASS | SKIPPED | SKIPPED | SKIPPED | SKIPPED | +---------------------+--------------------+------------------+-------------------+-------------------------+-------------------+----------------------+ | FreeBSD 13.4 | PASS | SKIPPED | SKIPPED | SKIPPED | SKIPPED | SKIPPED | +---------------------+--------------------+------------------+-------------------+-------------------------+-------------------+----------------------+ | FreeBSD 14.2 | PASS | SKIPPED | SKIPPED | SKIPPED | SKIPPED | SKIPPED | +---------------------+--------------------+------------------+-------------------+-------------------------+-------------------+----------------------+ | Windows Server 2022 | SKIPPED | SKIPPED | SKIPPED | PASS | PASS | PASS | +---------------------+--------------------+------------------+-------------------+-------------------------+-------------------+----------------------+ CentOS Stream 9 Kernel: Depends on container host Compiler: gcc 11.5.0 20240719 (Red Hat 11.5.0-2) Debian 12 Kernel: Depends on container host Compiler: gcc (Debian 12.2.0-14) 12.2.0 Fedora 39 (Clang) Kernel: Depends on container host Compiler: clang 17.0.6 (Fedora 17.0.6-2.fc39) Debian Bullseye Kernel: Depends on container host Compiler: gcc (Debian 10.2.1-6) 10.2.1 20210110 Fedora 39 Kernel: Depends on container host Compiler: gcc 13.3.1 20240522 (Red Hat 13.3.1-1) RHEL8 Kernel: Depends on container host Compiler: gcc 8.5.0 20210514 (Red Hat 8.5.0-22) openSUSE Leap 15 Kernel: Depends on container host Compiler: gcc (SUSE Linux) 7.5.0 Fedora 40 (Clang) Kernel: Depends on container host Compiler: clang 18.1.8 (Fedora 18.1.8-1.fc40) Ubuntu 24.04 Kernel: Depends on container host Compiler: gcc (Ubuntu 13.3.0-6ubuntu2~24.04) 13.3.0 Fedora 40 Kernel: Depends on container host Compiler: gcc 14.2.1 20240912 (Red Hat 14.2.1-3) RHEL9 Kernel: Depends on container host Compiler: gcc 11.5.0 20240719 (Red Hat 11.5.0-2) Ubuntu 20.04 Kernel: Depends on container host Compiler: gcc (Ubuntu 9.4.0-1ubuntu1~20.04.2) 9.4.0 Ubuntu 22.04 Kernel: Depends on container host Compiler: gcc (Ubuntu 11.4.0-1ubuntu1~22.04) 11.4.0 Alpine Kernel: Depends on container host Compiler: gcc (Alpine 14.2.0) 14.2.0 FreeBSD 13.4 Kernel: 13.4-RELEASE-p1 Compiler: clang 18.1.6 FreeBSD 14.2 Kernel: 14.2-RELEASE Compiler: clang 18.1.6 Windows Server 2022 Kernel: 10.0.20348.2031 Compiler: clang 15.0.7, gcc 14.1.0 (MinGW), and MSVC VS 19.39.33521 To view detailed results, visit: https://lab.dpdk.org/results/dashboard/patchsets/32191/ UNH-IOL DPDK Community Lab To manage your email subscriptions, visit: https://lab.dpdk.org/results/dashboard/preferences/subscriptions/