From mboxrd@z Thu Jan 1 00:00:00 1970 Return-Path: Received: from mails.dpdk.org (mails.dpdk.org [217.70.189.124]) by inbox.dpdk.org (Postfix) with ESMTP id 6D251461BF for ; Fri, 7 Feb 2025 20:58:05 +0100 (CET) Received: from mails.dpdk.org (localhost [127.0.0.1]) by mails.dpdk.org (Postfix) with ESMTP id 65C8C40290; Fri, 7 Feb 2025 20:58:05 +0100 (CET) Received: from mail-io1-f100.google.com (mail-io1-f100.google.com [209.85.166.100]) by mails.dpdk.org (Postfix) with ESMTP id 055414026C for ; Fri, 7 Feb 2025 20:58:04 +0100 (CET) Received: by mail-io1-f100.google.com with SMTP id ca18e2360f4ac-844e39439abso67829539f.1 for ; Fri, 07 Feb 2025 11:58:03 -0800 (PST) DKIM-Signature: v=1; a=rsa-sha256; c=relaxed/relaxed; d=iol.unh.edu; s=unh-iol; t=1738958283; x=1739563083; darn=dpdk.org; h=references:in-reply-to:cc:to:from:subject:message-id:date:from:to :cc:subject:date:message-id:reply-to; bh=7dvSLTdBGYXar0QmMQRIeH9sFixM+9q8RghCrnfQvIo=; b=DfMCwbO6iK3PRTnfkExt0pMYUTpaCgqDzHUsHBQhkDrs2LLdhZpiAVbqkwwrHulOCj jHVPpbe/nUZ+GqcjGcX3LhvGhS5XdTRciUMixZnSPS7Bmq/IVJ0/PQ1yRWiz/0VWUWey WdyCPN3yoNdgY+ifFOYi0eE5Mk39e39IpYM48= X-Google-DKIM-Signature: v=1; a=rsa-sha256; c=relaxed/relaxed; d=1e100.net; s=20230601; t=1738958283; x=1739563083; h=references:in-reply-to:cc:to:from:subject:message-id:date :x-gm-message-state:from:to:cc:subject:date:message-id:reply-to; bh=7dvSLTdBGYXar0QmMQRIeH9sFixM+9q8RghCrnfQvIo=; b=RN0+FbDfUUNi1KgZvNqSzrWn3Fmcu50MEHIqvbKyw13blNEqOT07RPpMI2Cwn49mYq VILCtmLntEsS5hFoFmnJwYM6kti1yodzcHoWWMJFSVl+Y3F/haUi99onX2YKP3J2R0CO v3cdhccIFza63DMMKuZXsR98k6LWMbWfi3x2FBj3Pquge+ErO64zWVGGhfAt1QM0FHED pw5s51BUPIFp4+dcZ3KSL9ikzzE2PgCGbUk9l/hUHJQVh4b3peXuCvAEAY7F+IbI+9i4 laEcn/RQ77C5173dBdN2EzLTfx7F1G5gE4ThjUIBY30vmwlBOOJHQzrH+UiXoTXl4Aco sCmQ== X-Gm-Message-State: AOJu0Yw4zoDe/yPtWVpxNA9YSFYAPwBX5qdgr94c5qDE+88k3ffkSqx7 tnQdXq0wy+SJ5/FZBpoE1t2VdHHerNsP0YDjyBkW+q3nEotqTWiQ7QW2fCmidxOm3CGEPzQ6sRN 2chD61LcFPZs9bGGUg73wHMp1vOtPyMToh0muz1QZ X-Gm-Gg: ASbGncs9S13CShoyfkY7oYgl7BQn0LDcf2gi5+BRMffFIEjL/kMBFWeG91KQwRHurzy 0IwciwxjzeTEhzJaeszthPWpijMGt4wFGjXcqy6qybcc0QpXQpxcDrmasc8xjJ//mulYSHFX/lS EzwWBDwpDlwOkYIH5M1eysHkBmDCEBEf7s0k+A1vG500WdSN9qRI5MZUULl6uRn4yEFO1fGdktx YANXYyfoCx8g4Kk2KPGOgf+Je4ofTbGEumNhp15q9iw9Qd/698700O+f8zuEU068z+5Pakd+TUA W1wk7AIRN4jf3GTCiY1WinNzrDDz7A== X-Google-Smtp-Source: AGHT+IEkFlsubVna0L0c9XP/9wuMyKaY+MSY8Za3CyLRU+LnL2/gem6p+8BfUOLH64H7I2EX226mdRVH+ZtQ X-Received: by 2002:a92:c241:0:b0:3cf:c85c:4f60 with SMTP id e9e14a558f8ab-3d13dd4ba6amr35382485ab.11.1738958283322; Fri, 07 Feb 2025 11:58:03 -0800 (PST) Received: from postal.iol.unh.edu (postal.iol.unh.edu. [132.177.123.84]) by smtp-relay.gmail.com with ESMTPS id e9e14a558f8ab-3d05ea1bb30sm2661225ab.59.2025.02.07.11.58.03 (version=TLS1_2 cipher=ECDHE-ECDSA-AES128-GCM-SHA256 bits=128/128); Fri, 07 Feb 2025 11:58:03 -0800 (PST) X-Relaying-Domain: iol.unh.edu Date: Fri, 07 Feb 2025 11:58:03 -0800 (PST) Message-ID: <67a665cb.050a0220.1b8a4.d5bdSMTPIN_ADDED_MISSING@mx.google.com> Received: from [172.21.0.8] (unknown [172.18.0.240]) by postal.iol.unh.edu (Postfix) with ESMTP id CF774605247D; Fri, 7 Feb 2025 14:57:44 -0500 (EST) Subject: |SUCCESS| pw149382 [PATCH] [1/1] vhost: fix missing descriptor chain From: dpdklab@iol.unh.edu To: Test Report Cc: dpdk-test-reports@iol.unh.edu In-Reply-To: <0bf28cc647eac66343c39d6acd4df868836e6ae6.1734923187.git.wangyunjian@huawei.com> References: <0bf28cc647eac66343c39d6acd4df868836e6ae6.1734923187.git.wangyunjian@huawei.com> Content-Type: text/plain X-BeenThere: test-report@dpdk.org X-Mailman-Version: 2.1.29 Precedence: list List-Id: automatic DPDK test reports List-Unsubscribe: , List-Archive: List-Post: List-Help: List-Subscribe: , Errors-To: test-report-bounces@dpdk.org Test-Label: iol-compile-amd64-testing Test-Status: SUCCESS http://dpdk.org/patch/149382 _Testing PASS_ Submitter: Yunjian Wang Date: Monday, December 23 2024 03:29:21 DPDK git baseline: Repo:dpdk Branch: master CommitID:07604f264417959d76aa9fcb8cb0c3665f62f0d3 149382 --> testing pass Test environment and result as below: +---------------------+--------------------+------------------+-------------------+-------------------------+-------------------+----------------------+ | Environment | dpdk_meson_compile | dpdk_compile_ovs | dpdk_compile_spdk | dpdk_llvm_clang_compile | dpdk_msvc_compile | dpdk_mingw64_compile | +=====================+====================+==================+===================+=========================+===================+======================+ | Debian Bullseye | PASS | PASS | PASS | SKIPPED | SKIPPED | SKIPPED | +---------------------+--------------------+------------------+-------------------+-------------------------+-------------------+----------------------+ | Debian 12 | PASS | PASS | PASS | SKIPPED | SKIPPED | SKIPPED | +---------------------+--------------------+------------------+-------------------+-------------------------+-------------------+----------------------+ | Fedora 39 (Clang) | PASS | PASS | PASS | SKIPPED | SKIPPED | SKIPPED | +---------------------+--------------------+------------------+-------------------+-------------------------+-------------------+----------------------+ | openSUSE Leap 15 | PASS | SKIPPED | SKIPPED | SKIPPED | SKIPPED | SKIPPED | +---------------------+--------------------+------------------+-------------------+-------------------------+-------------------+----------------------+ | RHEL8 | PASS | PASS | SKIPPED | SKIPPED | SKIPPED | SKIPPED | +---------------------+--------------------+------------------+-------------------+-------------------------+-------------------+----------------------+ | RHEL9 | PASS | PASS | SKIPPED | SKIPPED | SKIPPED | SKIPPED | +---------------------+--------------------+------------------+-------------------+-------------------------+-------------------+----------------------+ | Fedora 40 (Clang) | PASS | PASS | PASS | SKIPPED | SKIPPED | SKIPPED | +---------------------+--------------------+------------------+-------------------+-------------------------+-------------------+----------------------+ | Fedora 40 | PASS | PASS | PASS | SKIPPED | SKIPPED | SKIPPED | +---------------------+--------------------+------------------+-------------------+-------------------------+-------------------+----------------------+ | Ubuntu 22.04 | PASS | PASS | PASS | SKIPPED | SKIPPED | SKIPPED | +---------------------+--------------------+------------------+-------------------+-------------------------+-------------------+----------------------+ | Fedora 39 | PASS | PASS | PASS | SKIPPED | SKIPPED | SKIPPED | +---------------------+--------------------+------------------+-------------------+-------------------------+-------------------+----------------------+ | Ubuntu 20.04 | PASS | SKIPPED | SKIPPED | SKIPPED | SKIPPED | SKIPPED | +---------------------+--------------------+------------------+-------------------+-------------------------+-------------------+----------------------+ | Ubuntu 24.04 | PASS | PASS | PASS | SKIPPED | SKIPPED | SKIPPED | +---------------------+--------------------+------------------+-------------------+-------------------------+-------------------+----------------------+ | FreeBSD 13.4 | PASS | SKIPPED | SKIPPED | SKIPPED | SKIPPED | SKIPPED | +---------------------+--------------------+------------------+-------------------+-------------------------+-------------------+----------------------+ | Alpine | PASS | PASS | SKIPPED | SKIPPED | SKIPPED | SKIPPED | +---------------------+--------------------+------------------+-------------------+-------------------------+-------------------+----------------------+ | FreeBSD 14.2 | PASS | SKIPPED | SKIPPED | SKIPPED | SKIPPED | SKIPPED | +---------------------+--------------------+------------------+-------------------+-------------------------+-------------------+----------------------+ | CentOS Stream 9 | PASS | PASS | PASS | SKIPPED | SKIPPED | SKIPPED | +---------------------+--------------------+------------------+-------------------+-------------------------+-------------------+----------------------+ | Windows Server 2022 | SKIPPED | SKIPPED | SKIPPED | PASS | PASS | PASS | +---------------------+--------------------+------------------+-------------------+-------------------------+-------------------+----------------------+ Debian Bullseye Kernel: Depends on container host Compiler: gcc (Debian 10.2.1-6) 10.2.1 20210110 Debian 12 Kernel: Depends on container host Compiler: gcc (Debian 12.2.0-14) 12.2.0 Fedora 39 (Clang) Kernel: Depends on container host Compiler: clang 17.0.6 (Fedora 17.0.6-2.fc39) openSUSE Leap 15 Kernel: Depends on container host Compiler: gcc (SUSE Linux) 7.5.0 RHEL8 Kernel: Depends on container host Compiler: gcc 8.5.0 20210514 (Red Hat 8.5.0-22) RHEL9 Kernel: Depends on container host Compiler: gcc 11.5.0 20240719 (Red Hat 11.5.0-2) Fedora 40 (Clang) Kernel: Depends on container host Compiler: clang 18.1.8 (Fedora 18.1.8-1.fc40) Fedora 40 Kernel: Depends on container host Compiler: gcc 14.2.1 20240912 (Red Hat 14.2.1-3) Ubuntu 22.04 Kernel: Depends on container host Compiler: gcc (Ubuntu 11.4.0-1ubuntu1~22.04) 11.4.0 Fedora 39 Kernel: Depends on container host Compiler: gcc 13.3.1 20240522 (Red Hat 13.3.1-1) Ubuntu 20.04 Kernel: Depends on container host Compiler: gcc (Ubuntu 9.4.0-1ubuntu1~20.04.2) 9.4.0 Ubuntu 24.04 Kernel: Depends on container host Compiler: gcc (Ubuntu 13.3.0-6ubuntu2~24.04) 13.3.0 FreeBSD 13.4 Kernel: 13.4-RELEASE-p1 Compiler: clang 18.1.6 Alpine Kernel: Depends on container host Compiler: gcc (Alpine 14.2.0) 14.2.0 FreeBSD 14.2 Kernel: 14.2-RELEASE Compiler: clang 18.1.6 CentOS Stream 9 Kernel: Depends on container host Compiler: gcc 11.5.0 20240719 (Red Hat 11.5.0-2) Windows Server 2022 Kernel: 10.0.20348.2031 Compiler: clang 15.0.7, gcc 14.1.0 (MinGW), and MSVC VS 19.39.33521 To view detailed results, visit: https://lab.dpdk.org/results/dashboard/patchsets/32190/ UNH-IOL DPDK Community Lab To manage your email subscriptions, visit: https://lab.dpdk.org/results/dashboard/preferences/subscriptions/