From mboxrd@z Thu Jan 1 00:00:00 1970 Return-Path: Received: from mails.dpdk.org (mails.dpdk.org [217.70.189.124]) by inbox.dpdk.org (Postfix) with ESMTP id 825D7461BF for ; Fri, 7 Feb 2025 20:58:08 +0100 (CET) Received: from mails.dpdk.org (localhost [127.0.0.1]) by mails.dpdk.org (Postfix) with ESMTP id 77AD740290; Fri, 7 Feb 2025 20:58:08 +0100 (CET) Received: from mail-io1-f98.google.com (mail-io1-f98.google.com [209.85.166.98]) by mails.dpdk.org (Postfix) with ESMTP id C91E84026C for ; Fri, 7 Feb 2025 20:58:07 +0100 (CET) Received: by mail-io1-f98.google.com with SMTP id ca18e2360f4ac-844e9b83aaaso180076139f.3 for ; Fri, 07 Feb 2025 11:58:07 -0800 (PST) DKIM-Signature: v=1; a=rsa-sha256; c=relaxed/relaxed; d=iol.unh.edu; s=unh-iol; t=1738958287; x=1739563087; darn=dpdk.org; h=references:in-reply-to:cc:to:from:subject:message-id:date:from:to :cc:subject:date:message-id:reply-to; bh=R3bQpZvWio3ZhMfi1V5jsAH4h3JSykAolzHRrjcN2IA=; b=IGGtW5TX1EvGvWGbIeF92K7ntr4X3IW4yYq3VRHvwVJYhQMPBcWEyITKe4JjzyZ8Ar /iYUQofI44mee8M6SlwKVU2/9sHW2U11Rhg14TRmqMmvV9u4GaCJtEunuwmfasuW0qRX cmSvssLId+Ekp9Sjtl2HJusRVcge5Km2FAfXc= X-Google-DKIM-Signature: v=1; a=rsa-sha256; c=relaxed/relaxed; d=1e100.net; s=20230601; t=1738958287; x=1739563087; h=references:in-reply-to:cc:to:from:subject:message-id:date :x-gm-message-state:from:to:cc:subject:date:message-id:reply-to; bh=R3bQpZvWio3ZhMfi1V5jsAH4h3JSykAolzHRrjcN2IA=; b=bdsh0A7CD358NlICE0593h7Ifgndfl/0lRzZPiImAp89S6lSWjLtyQ+GxBT6HD+Vmc Yx5qpm8ezaIEfLFU1+IENwRU9v8Srn9+uDvy6oXivd04x10MRuu1X7aVmjW0oko1mbf7 NeVRTbMxLd+euhHMqeAkH3aexEn4kD9hCfjG+MuGtW6BGtgZd4+JI4f8/X9SGgiQvwEx cj8V/NnTcr3pK0TatDti3oKcuNWkMl3VK4cBQWClkX5/bvc20iASSiI2G7zhVQuwK/Pw oLDYGKUIXC7OX0nTQcK3y4aed3xzBcZwxkTrAnBCm0NB+/cEsmV+VNAazAPZQ874DZJX ApQA== X-Gm-Message-State: AOJu0YxUV3v8d1TGB7LC0+g1ROgSDfgwPmmmJnzr3cXTig/i8Pma0kUC rBCQ5Ls/3WadD9D1xUrTbA9nnETHJgFpP0qbADQ6Vw/sqoXQlXh7sewNroWAiglZ6cJWOT3gKUM brWE/oAU+T6HdIPrM3EiDrQWWx0eMf89HaWlUh4bI X-Gm-Gg: ASbGncuisyxwYH/mNuWcycZt7l24MJcCZ3bzdWszZm4MdR6ze9B6ftqjewO8IPWbZxg knE6g9ck3WFhye9Tb4eD4sl5n0mf7laDg80nrdGFva3dNU4j69bfG5ZduAa31FoVWMzzg5wbmj8 XndA46idbsQCz0vxkcAah3wlycvzVJ1yGcK+HbJGMq7VP87acTgPED0CouY+fcE1dtZvGZs3wyW OFRhESwPsKfOzyToOyptspYpSN1l14HIT0tkwttl+6YFzTiG6/94UzLD5DFaSHMu/y+Mzw7+u4g 4zFoNnSFvPtANZ/PGCdQgQfM9sUEIA== X-Google-Smtp-Source: AGHT+IFhHWK4Uu6cmdUQq49hzhm2drErvJbsxKXXJGu8G+wx7BLCtZg1MnUsGSt7LkVOfScNYcf5M1+B9Pi1 X-Received: by 2002:a05:6602:3a86:b0:84f:5634:8a1b with SMTP id ca18e2360f4ac-854fd8844a6mr535855039f.2.1738958287200; Fri, 07 Feb 2025 11:58:07 -0800 (PST) Received: from postal.iol.unh.edu (postal.iol.unh.edu. [132.177.123.84]) by smtp-relay.gmail.com with ESMTPS id ca18e2360f4ac-854f6778b28sm25468239f.31.2025.02.07.11.58.07 (version=TLS1_2 cipher=ECDHE-ECDSA-AES128-GCM-SHA256 bits=128/128); Fri, 07 Feb 2025 11:58:07 -0800 (PST) X-Relaying-Domain: iol.unh.edu Date: Fri, 07 Feb 2025 11:58:07 -0800 (PST) Message-ID: <67a665cf.050a0220.2a8228.cf2eSMTPIN_ADDED_MISSING@mx.google.com> Received: from [172.21.0.15] (unknown [172.18.0.240]) by postal.iol.unh.edu (Postfix) with ESMTP id B27D76052471; Fri, 7 Feb 2025 14:57:36 -0500 (EST) Subject: |SUCCESS| pw149328 [PATCH] [v2,1/1] vhost: fix a double fetch when d From: dpdklab@iol.unh.edu To: Test Report Cc: dpdk-test-reports@iol.unh.edu In-Reply-To: <09058cfb25d7583f67d74f09cd36673f1b10f5ec.1734661755.git.wangyunjian@huawei.com> References: <09058cfb25d7583f67d74f09cd36673f1b10f5ec.1734661755.git.wangyunjian@huawei.com> Content-Type: text/plain X-BeenThere: test-report@dpdk.org X-Mailman-Version: 2.1.29 Precedence: list List-Id: automatic DPDK test reports List-Unsubscribe: , List-Archive: List-Post: List-Help: List-Subscribe: , Errors-To: test-report-bounces@dpdk.org Test-Label: iol-compile-amd64-testing Test-Status: SUCCESS http://dpdk.org/patch/149328 _Testing PASS_ Submitter: Yunjian Wang Date: Friday, December 20 2024 03:49:55 DPDK git baseline: Repo:dpdk Branch: master CommitID:510b460e02594a70d4ce19e2d29df3ade8af36d7 149328 --> testing pass Test environment and result as below: +---------------------+--------------------+------------------+-------------------+-------------------------+-------------------+----------------------+ | Environment | dpdk_meson_compile | dpdk_compile_ovs | dpdk_compile_spdk | dpdk_llvm_clang_compile | dpdk_msvc_compile | dpdk_mingw64_compile | +=====================+====================+==================+===================+=========================+===================+======================+ | CentOS Stream 9 | PASS | PASS | PASS | SKIPPED | SKIPPED | SKIPPED | +---------------------+--------------------+------------------+-------------------+-------------------------+-------------------+----------------------+ | Fedora 39 (Clang) | PASS | PASS | PASS | SKIPPED | SKIPPED | SKIPPED | +---------------------+--------------------+------------------+-------------------+-------------------------+-------------------+----------------------+ | Fedora 39 | PASS | PASS | PASS | SKIPPED | SKIPPED | SKIPPED | +---------------------+--------------------+------------------+-------------------+-------------------------+-------------------+----------------------+ | Fedora 40 (Clang) | PASS | PASS | PASS | SKIPPED | SKIPPED | SKIPPED | +---------------------+--------------------+------------------+-------------------+-------------------------+-------------------+----------------------+ | Fedora 40 | PASS | PASS | PASS | SKIPPED | SKIPPED | SKIPPED | +---------------------+--------------------+------------------+-------------------+-------------------------+-------------------+----------------------+ | openSUSE Leap 15 | PASS | SKIPPED | SKIPPED | SKIPPED | SKIPPED | SKIPPED | +---------------------+--------------------+------------------+-------------------+-------------------------+-------------------+----------------------+ | RHEL9 | PASS | PASS | SKIPPED | SKIPPED | SKIPPED | SKIPPED | +---------------------+--------------------+------------------+-------------------+-------------------------+-------------------+----------------------+ | Ubuntu 20.04 | PASS | SKIPPED | SKIPPED | SKIPPED | SKIPPED | SKIPPED | +---------------------+--------------------+------------------+-------------------+-------------------------+-------------------+----------------------+ | Ubuntu 22.04 | PASS | PASS | PASS | SKIPPED | SKIPPED | SKIPPED | +---------------------+--------------------+------------------+-------------------+-------------------------+-------------------+----------------------+ | Ubuntu 24.04 | PASS | PASS | PASS | SKIPPED | SKIPPED | SKIPPED | +---------------------+--------------------+------------------+-------------------+-------------------------+-------------------+----------------------+ | Alpine | PASS | PASS | SKIPPED | SKIPPED | SKIPPED | SKIPPED | +---------------------+--------------------+------------------+-------------------+-------------------------+-------------------+----------------------+ | FreeBSD 13.4 | PASS | SKIPPED | SKIPPED | SKIPPED | SKIPPED | SKIPPED | +---------------------+--------------------+------------------+-------------------+-------------------------+-------------------+----------------------+ | FreeBSD 14.2 | PASS | SKIPPED | SKIPPED | SKIPPED | SKIPPED | SKIPPED | +---------------------+--------------------+------------------+-------------------+-------------------------+-------------------+----------------------+ | RHEL8 | PASS | PASS | SKIPPED | SKIPPED | SKIPPED | SKIPPED | +---------------------+--------------------+------------------+-------------------+-------------------------+-------------------+----------------------+ | Debian 12 | PASS | PASS | PASS | SKIPPED | SKIPPED | SKIPPED | +---------------------+--------------------+------------------+-------------------+-------------------------+-------------------+----------------------+ | Windows Server 2022 | SKIPPED | SKIPPED | SKIPPED | PASS | PASS | PASS | +---------------------+--------------------+------------------+-------------------+-------------------------+-------------------+----------------------+ CentOS Stream 9 Kernel: Depends on container host Compiler: gcc 11.5.0 20240719 (Red Hat 11.5.0-2) Fedora 39 (Clang) Kernel: Depends on container host Compiler: clang 17.0.6 (Fedora 17.0.6-2.fc39) Fedora 39 Kernel: Depends on container host Compiler: gcc 13.3.1 20240522 (Red Hat 13.3.1-1) Fedora 40 (Clang) Kernel: Depends on container host Compiler: clang 18.1.8 (Fedora 18.1.8-1.fc40) Fedora 40 Kernel: Depends on container host Compiler: gcc 14.2.1 20240912 (Red Hat 14.2.1-3) openSUSE Leap 15 Kernel: Depends on container host Compiler: gcc (SUSE Linux) 7.5.0 RHEL9 Kernel: Depends on container host Compiler: gcc 11.5.0 20240719 (Red Hat 11.5.0-2) Ubuntu 20.04 Kernel: Depends on container host Compiler: gcc (Ubuntu 9.4.0-1ubuntu1~20.04.2) 9.4.0 Ubuntu 22.04 Kernel: Depends on container host Compiler: gcc (Ubuntu 11.4.0-1ubuntu1~22.04) 11.4.0 Ubuntu 24.04 Kernel: Depends on container host Compiler: gcc (Ubuntu 13.3.0-6ubuntu2~24.04) 13.3.0 Alpine Kernel: Depends on container host Compiler: gcc (Alpine 14.2.0) 14.2.0 FreeBSD 13.4 Kernel: 13.4-RELEASE-p1 Compiler: clang 18.1.6 FreeBSD 14.2 Kernel: 14.2-RELEASE Compiler: clang 18.1.6 RHEL8 Kernel: Depends on container host Compiler: gcc 8.5.0 20210514 (Red Hat 8.5.0-22) Debian 12 Kernel: Depends on container host Compiler: gcc (Debian 12.2.0-14) 12.2.0 Windows Server 2022 Kernel: 10.0.20348.2031 Compiler: clang 15.0.7, gcc 14.1.0 (MinGW), and MSVC VS 19.39.33521 To view detailed results, visit: https://lab.dpdk.org/results/dashboard/patchsets/32179/ UNH-IOL DPDK Community Lab To manage your email subscriptions, visit: https://lab.dpdk.org/results/dashboard/preferences/subscriptions/