From mboxrd@z Thu Jan 1 00:00:00 1970 Return-Path: Received: from mails.dpdk.org (mails.dpdk.org [217.70.189.124]) by inbox.dpdk.org (Postfix) with ESMTP id C2FE9461BF for ; Fri, 7 Feb 2025 20:58:17 +0100 (CET) Received: from mails.dpdk.org (localhost [127.0.0.1]) by mails.dpdk.org (Postfix) with ESMTP id BE0B740290; Fri, 7 Feb 2025 20:58:17 +0100 (CET) Received: from mail-yb1-f227.google.com (mail-yb1-f227.google.com [209.85.219.227]) by mails.dpdk.org (Postfix) with ESMTP id 885C04026C for ; Fri, 7 Feb 2025 20:58:14 +0100 (CET) Received: by mail-yb1-f227.google.com with SMTP id 3f1490d57ef6-e46ac799015so1823618276.0 for ; Fri, 07 Feb 2025 11:58:14 -0800 (PST) DKIM-Signature: v=1; a=rsa-sha256; c=relaxed/relaxed; d=iol.unh.edu; s=unh-iol; t=1738958294; x=1739563094; darn=dpdk.org; h=references:in-reply-to:cc:to:from:subject:message-id:date:from:to :cc:subject:date:message-id:reply-to; bh=iIQJnjh5Duo8pOdp6khWUpA+pyW7Au+nGCWsjKJuUhw=; b=B3P7By1Jha+GpVg5+M0Yxvz6NNE3RIpdavRINddCwwx3eGf0WdNqK7cRzUvKPRtYEj YZosXXD/Ibr9bGHHcjanPE5MVVVELBL0EFfANAlqFJhLrTw/h1uPzLFKNlYSgkZG1TcD uta3fqsaNKDPYP3V7o0Hs1kWfTAHYMkq3PZlg= X-Google-DKIM-Signature: v=1; a=rsa-sha256; c=relaxed/relaxed; d=1e100.net; s=20230601; t=1738958294; x=1739563094; h=references:in-reply-to:cc:to:from:subject:message-id:date :x-gm-message-state:from:to:cc:subject:date:message-id:reply-to; bh=iIQJnjh5Duo8pOdp6khWUpA+pyW7Au+nGCWsjKJuUhw=; b=cscrrClKia4lCtZenAVmsiL4nnRVs2irHcZw0cWx9oUm6JfsqjD2DPy/aPRPvcTaPk P3ZhjYn8vmDjMVtd56D5Sr8gTpJY2rod8zBAI8DevNV1a8v/u8laDDXLtOn0X9l+Ncr1 hHkBMaSrAC07apikgFJtd+lB7ACHL99k0rFgNnHAQJJqC6YmRW/pYqCDX47n+hAxJpki Ro2aDrnM0FFQmhszq9b6583J/7StmvKvZwF5rkHhWTK+dspSFjQesfk9rDSWHJFeWtx+ Ikf77Plh9KU7sZoR/7lAUB/tSzNAwjuMFES8z4+y4QfXddHNEKVL7O84LKn2v6yenFMS sdIQ== X-Gm-Message-State: AOJu0Ywfe/PHWB7QEAj/hj1f9fgA28UruCfz1nuakAwZZQLxYfkYVwRN mduxHBd8aUMsGast8JpvPMNwMyFvUS8vhYPegyziarwhgIC1xIofZfc3tN1A9puUq9BacDJpwu8 eOKhNrsUaRx+x+iUZkpWji+jpXmIw6d0HkOOCxuzU X-Gm-Gg: ASbGnctB/n8ftAWxjnV/VbD0IwNc8WAOH1B7LaWv3q8V3lXg/UjVbbdYXTofmXxFdEV VyzhS1Vxt0EhY3sMT+vcgceXLDHau6JzGBxUgUMmfU+ddVQcsHcTFXPNtb/909IKsYiujyFqwsD KkhwE8qx5VVcV18XsWF+E19CURPdAZOjOJi1AHtTKd8CVNhnW/E0/e6lHxTJo3qVRoOChswiwci HUMHmM8mnMgNcSCz23QoUK6gFyitRwK1/b0gEOC/22QzS6+/vSVwOSFWv77tQKLQwKBHSDsMVqU /B/k5tfMku8vI8tbUUPL2EtsXpW4dg== X-Google-Smtp-Source: AGHT+IEbHSnQ2Bc3kebldJ6+8GmwV9IoYsbyhJIb5nj95wdu5WPLoZEDsMB6SOOCEwjrTfUVh2t2tmDe7N0V X-Received: by 2002:a05:6902:188d:b0:e5b:1858:9f34 with SMTP id 3f1490d57ef6-e5b4619f369mr4053501276.16.1738958293876; Fri, 07 Feb 2025 11:58:13 -0800 (PST) Received: from postal.iol.unh.edu (postal.iol.unh.edu. [132.177.123.84]) by smtp-relay.gmail.com with ESMTPS id 3f1490d57ef6-e5b3a2231fcsm226084276.17.2025.02.07.11.58.13 (version=TLS1_2 cipher=ECDHE-ECDSA-AES128-GCM-SHA256 bits=128/128); Fri, 07 Feb 2025 11:58:13 -0800 (PST) X-Relaying-Domain: iol.unh.edu Date: Fri, 07 Feb 2025 11:58:13 -0800 (PST) Message-ID: <67a665d5.250a0220.c9c4.c61cSMTPIN_ADDED_MISSING@mx.google.com> Received: from [172.21.0.7] (unknown [172.18.0.240]) by postal.iol.unh.edu (Postfix) with ESMTP id 80A316052477; Fri, 7 Feb 2025 14:57:43 -0500 (EST) Subject: |SUCCESS| pw149329 [PATCH] net/bonding: check return value when enab From: dpdklab@iol.unh.edu To: Test Report Cc: dpdk-test-reports@iol.unh.edu In-Reply-To: <20241220070811.40124-1-sunyang.wu@jaguarmicro.com> References: <20241220070811.40124-1-sunyang.wu@jaguarmicro.com> Content-Type: text/plain X-BeenThere: test-report@dpdk.org X-Mailman-Version: 2.1.29 Precedence: list List-Id: automatic DPDK test reports List-Unsubscribe: , List-Archive: List-Post: List-Help: List-Subscribe: , Errors-To: test-report-bounces@dpdk.org Test-Label: iol-compile-amd64-testing Test-Status: SUCCESS http://dpdk.org/patch/149329 _Testing PASS_ Submitter: Sunyang Wu Date: Friday, December 20 2024 07:08:11 DPDK git baseline: Repo:dpdk Branch: master CommitID:94ad302b4ebba4a5b6706a1c43ea0505e5098169 149329 --> testing pass Test environment and result as below: +---------------------+--------------------+------------------+-------------------+-------------------+-------------------------+----------------------+ | Environment | dpdk_meson_compile | dpdk_compile_ovs | dpdk_compile_spdk | dpdk_msvc_compile | dpdk_llvm_clang_compile | dpdk_mingw64_compile | +=====================+====================+==================+===================+===================+=========================+======================+ | CentOS Stream 9 | PASS | PASS | PASS | SKIPPED | SKIPPED | SKIPPED | +---------------------+--------------------+------------------+-------------------+-------------------+-------------------------+----------------------+ | Fedora 39 (Clang) | PASS | PASS | PASS | SKIPPED | SKIPPED | SKIPPED | +---------------------+--------------------+------------------+-------------------+-------------------+-------------------------+----------------------+ | Fedora 39 | PASS | PASS | PASS | SKIPPED | SKIPPED | SKIPPED | +---------------------+--------------------+------------------+-------------------+-------------------+-------------------------+----------------------+ | Fedora 40 | PASS | PASS | PASS | SKIPPED | SKIPPED | SKIPPED | +---------------------+--------------------+------------------+-------------------+-------------------+-------------------------+----------------------+ | openSUSE Leap 15 | PASS | SKIPPED | SKIPPED | SKIPPED | SKIPPED | SKIPPED | +---------------------+--------------------+------------------+-------------------+-------------------+-------------------------+----------------------+ | RHEL8 | PASS | PASS | SKIPPED | SKIPPED | SKIPPED | SKIPPED | +---------------------+--------------------+------------------+-------------------+-------------------+-------------------------+----------------------+ | RHEL9 | PASS | PASS | SKIPPED | SKIPPED | SKIPPED | SKIPPED | +---------------------+--------------------+------------------+-------------------+-------------------+-------------------------+----------------------+ | Ubuntu 20.04 | PASS | SKIPPED | SKIPPED | SKIPPED | SKIPPED | SKIPPED | +---------------------+--------------------+------------------+-------------------+-------------------+-------------------------+----------------------+ | Ubuntu 22.04 | PASS | PASS | PASS | SKIPPED | SKIPPED | SKIPPED | +---------------------+--------------------+------------------+-------------------+-------------------+-------------------------+----------------------+ | Ubuntu 24.04 | PASS | PASS | PASS | SKIPPED | SKIPPED | SKIPPED | +---------------------+--------------------+------------------+-------------------+-------------------+-------------------------+----------------------+ | Alpine | PASS | PASS | SKIPPED | SKIPPED | SKIPPED | SKIPPED | +---------------------+--------------------+------------------+-------------------+-------------------+-------------------------+----------------------+ | FreeBSD 14.2 | PASS | SKIPPED | SKIPPED | SKIPPED | SKIPPED | SKIPPED | +---------------------+--------------------+------------------+-------------------+-------------------+-------------------------+----------------------+ | FreeBSD 13.4 | PASS | SKIPPED | SKIPPED | SKIPPED | SKIPPED | SKIPPED | +---------------------+--------------------+------------------+-------------------+-------------------+-------------------------+----------------------+ | Fedora 40 (Clang) | PASS | PASS | PASS | SKIPPED | SKIPPED | SKIPPED | +---------------------+--------------------+------------------+-------------------+-------------------+-------------------------+----------------------+ | Debian 12 | PASS | PASS | PASS | SKIPPED | SKIPPED | SKIPPED | +---------------------+--------------------+------------------+-------------------+-------------------+-------------------------+----------------------+ | Windows Server 2022 | SKIPPED | SKIPPED | SKIPPED | PASS | PASS | PASS | +---------------------+--------------------+------------------+-------------------+-------------------+-------------------------+----------------------+ CentOS Stream 9 Kernel: Depends on container host Compiler: gcc 11.5.0 20240719 (Red Hat 11.5.0-2) Fedora 39 (Clang) Kernel: Depends on container host Compiler: clang 17.0.6 (Fedora 17.0.6-2.fc39) Fedora 39 Kernel: Depends on container host Compiler: gcc 13.3.1 20240522 (Red Hat 13.3.1-1) Fedora 40 Kernel: Depends on container host Compiler: gcc 14.2.1 20240912 (Red Hat 14.2.1-3) openSUSE Leap 15 Kernel: Depends on container host Compiler: gcc (SUSE Linux) 7.5.0 RHEL8 Kernel: Depends on container host Compiler: gcc 8.5.0 20210514 (Red Hat 8.5.0-22) RHEL9 Kernel: Depends on container host Compiler: gcc 11.5.0 20240719 (Red Hat 11.5.0-2) Ubuntu 20.04 Kernel: Depends on container host Compiler: gcc (Ubuntu 9.4.0-1ubuntu1~20.04.2) 9.4.0 Ubuntu 22.04 Kernel: Depends on container host Compiler: gcc (Ubuntu 11.4.0-1ubuntu1~22.04) 11.4.0 Ubuntu 24.04 Kernel: Depends on container host Compiler: gcc (Ubuntu 13.3.0-6ubuntu2~24.04) 13.3.0 Alpine Kernel: Depends on container host Compiler: gcc (Alpine 14.2.0) 14.2.0 FreeBSD 14.2 Kernel: 14.2-RELEASE Compiler: clang 18.1.6 FreeBSD 13.4 Kernel: 13.4-RELEASE-p1 Compiler: clang 18.1.6 Fedora 40 (Clang) Kernel: Depends on container host Compiler: clang 18.1.8 (Fedora 18.1.8-1.fc40) Debian 12 Kernel: Depends on container host Compiler: gcc (Debian 12.2.0-14) 12.2.0 Windows Server 2022 Kernel: 10.0.20348.2031 Compiler: clang 15.0.7, gcc 14.1.0 (MinGW), and MSVC VS 19.39.33521 To view detailed results, visit: https://lab.dpdk.org/results/dashboard/patchsets/32180/ UNH-IOL DPDK Community Lab To manage your email subscriptions, visit: https://lab.dpdk.org/results/dashboard/preferences/subscriptions/