From mboxrd@z Thu Jan 1 00:00:00 1970 Return-Path: Received: from mails.dpdk.org (mails.dpdk.org [217.70.189.124]) by inbox.dpdk.org (Postfix) with ESMTP id 0F8DD461BF for ; Fri, 7 Feb 2025 20:58:35 +0100 (CET) Received: from mails.dpdk.org (localhost [127.0.0.1]) by mails.dpdk.org (Postfix) with ESMTP id 07A6C40290; Fri, 7 Feb 2025 20:58:35 +0100 (CET) Received: from mail-oo1-f100.google.com (mail-oo1-f100.google.com [209.85.161.100]) by mails.dpdk.org (Postfix) with ESMTP id 18F214026C for ; Fri, 7 Feb 2025 20:58:34 +0100 (CET) Received: by mail-oo1-f100.google.com with SMTP id 006d021491bc7-5fc0c06e1deso1214292eaf.1 for ; Fri, 07 Feb 2025 11:58:34 -0800 (PST) DKIM-Signature: v=1; a=rsa-sha256; c=relaxed/relaxed; d=iol.unh.edu; s=unh-iol; t=1738958313; x=1739563113; darn=dpdk.org; h=references:in-reply-to:cc:to:from:subject:message-id:date:from:to :cc:subject:date:message-id:reply-to; bh=Mr7saMSXUooJPL2dzL/VG+i15uwYYEhvmLf/N6jXGHk=; b=BfOaXniOFrp/rMp1xn1uzpl/Nn4rbtZNqqiwRG2wXsBt0rAdbCtQz2VbH+t+kTCDFJ eiU3UNNjISnW5i7Z7kwVAGrbFbA0NVAQmIzno3+iGH+HdWwve+rvVNBYyWCPhZUaaa+v hLnGvi9yfSDl6FKPdEvoVU6+ob12G5bjsdBKw= X-Google-DKIM-Signature: v=1; a=rsa-sha256; c=relaxed/relaxed; d=1e100.net; s=20230601; t=1738958313; x=1739563113; h=references:in-reply-to:cc:to:from:subject:message-id:date :x-gm-message-state:from:to:cc:subject:date:message-id:reply-to; bh=Mr7saMSXUooJPL2dzL/VG+i15uwYYEhvmLf/N6jXGHk=; b=Y/6U+GALilBBY6Rz4eq1PL3pys6rjrNqZXbaCTrSOtFRq8wufIMr9CeMpy7iUWrMtK 0zPl6tw/1IIH7b554dpXb/8RsDNVLOpnBE9MSafPv91vAfYO/cBsNsIjUiFm9UzZ1jnT zYCwo5kRdUTPLNCevAqbaEps1HK7ZfQNrKXrQVzQPD5++oOhCSKsz5QMRM/ICk23pqSK h5t8VIJ/26vJy3Xt1y2wzTxgWsW8Y/idC3juAefQyvtU6GY49hagi5OzgrvajxoBxykj mPbraOaAkLg4J19VWM2XSLGrlhWcoWG9FZPN7bkv1g6UB6LbWfT9QC+xGHdoXfhVANRz jNeA== X-Gm-Message-State: AOJu0YxSrRln3UD65RiyexgcxY1SJV+24XOQSo0YWnn63Y5RXAtB/QLw skNLI+6V8J2PQtJZU1LrQECs3RaeQH+pbhKVg3MeyKuFI3uP4GoRahh9vheArwYv9twNiE73PLY EZT0NpWl/WwQ6QnkN8JrzQ0R30zK+UOKOJwynf8My X-Gm-Gg: ASbGncszC9ficinj6H8DhBThgSVksLc9Z0iArYh3QPUI3vNBVGJlj+oUP5g9/Rq11Qt DIp6eRjvl0jPSaSjsFKizTwO3klqqsRa2uocaiKSOtcrUl8J0ngyRRzf80UQegJqVPwQKGtPyCt zKdgfmAbxhhbJtPyZslOc+lAvGW45v8bo75VARKFxMwQWG8nf4WBB1UQSJbfSi1lCInUyypwYFQ VhBB2SzA5cW2dcNNZ/toO8iJf99rFI29PvGiIAVWZ//3YdDPjxwWgzU+fXwwcj+Ey8fUN3m17jP eou/fmjnhLNXTrbVEiGSqijUMkJZyQ== X-Google-Smtp-Source: AGHT+IEJVLvN8BitfjQ/6I+gMZaHXuWgfNGt/ZyBocZVUrnLDik1la3wDyQYlrFHGd35Yd6Y4CeU6t4n0oTE X-Received: by 2002:a05:6870:eca0:b0:2b7:f58d:6dcf with SMTP id 586e51a60fabf-2b83ecd5c43mr2821728fac.18.1738958313368; Fri, 07 Feb 2025 11:58:33 -0800 (PST) Received: from postal.iol.unh.edu (postal.iol.unh.edu. [132.177.123.84]) by smtp-relay.gmail.com with ESMTPS id 586e51a60fabf-2b826012976sm203365fac.18.2025.02.07.11.58.33 (version=TLS1_2 cipher=ECDHE-ECDSA-AES128-GCM-SHA256 bits=128/128); Fri, 07 Feb 2025 11:58:33 -0800 (PST) X-Relaying-Domain: iol.unh.edu Date: Fri, 07 Feb 2025 11:58:33 -0800 (PST) Message-ID: <67a665e9.050a0220.327df0.a720SMTPIN_ADDED_MISSING@mx.google.com> Received: from [172.21.0.7] (unknown [172.18.0.240]) by postal.iol.unh.edu (Postfix) with ESMTP id D66EA6052477; Fri, 7 Feb 2025 14:58:32 -0500 (EST) Subject: |SUCCESS| pw149370-149380 [PATCH] [v4,11/11] {common,net}/cnxk: remo From: dpdklab@iol.unh.edu To: Test Report Cc: dpdk-test-reports@iol.unh.edu In-Reply-To: <20241222125725.1532157-12-otilibil@eurecom.fr> References: <20241222125725.1532157-12-otilibil@eurecom.fr> Content-Type: text/plain X-BeenThere: test-report@dpdk.org X-Mailman-Version: 2.1.29 Precedence: list List-Id: automatic DPDK test reports List-Unsubscribe: , List-Archive: List-Post: List-Help: List-Subscribe: , Errors-To: test-report-bounces@dpdk.org Test-Label: iol-compile-amd64-testing Test-Status: SUCCESS http://dpdk.org/patch/149380 _Testing PASS_ Submitter: Ariel Otilibili-Anieli Date: Sunday, December 22 2024 12:49:31 DPDK git baseline: Repo:dpdk Branch: master CommitID:07604f264417959d76aa9fcb8cb0c3665f62f0d3 149370-149380 --> testing pass Test environment and result as below: +---------------------+--------------------+------------------+-------------------+-------------------------+-------------------+----------------------+ | Environment | dpdk_meson_compile | dpdk_compile_ovs | dpdk_compile_spdk | dpdk_llvm_clang_compile | dpdk_msvc_compile | dpdk_mingw64_compile | +=====================+====================+==================+===================+=========================+===================+======================+ | CentOS Stream 9 | PASS | PASS | PASS | SKIPPED | SKIPPED | SKIPPED | +---------------------+--------------------+------------------+-------------------+-------------------------+-------------------+----------------------+ | Debian Bullseye | PASS | PASS | PASS | SKIPPED | SKIPPED | SKIPPED | +---------------------+--------------------+------------------+-------------------+-------------------------+-------------------+----------------------+ | Fedora 39 | PASS | PASS | PASS | SKIPPED | SKIPPED | SKIPPED | +---------------------+--------------------+------------------+-------------------+-------------------------+-------------------+----------------------+ | Debian 12 | PASS | PASS | PASS | SKIPPED | SKIPPED | SKIPPED | +---------------------+--------------------+------------------+-------------------+-------------------------+-------------------+----------------------+ | openSUSE Leap 15 | PASS | SKIPPED | SKIPPED | SKIPPED | SKIPPED | SKIPPED | +---------------------+--------------------+------------------+-------------------+-------------------------+-------------------+----------------------+ | Fedora 40 | PASS | PASS | PASS | SKIPPED | SKIPPED | SKIPPED | +---------------------+--------------------+------------------+-------------------+-------------------------+-------------------+----------------------+ | RHEL9 | PASS | PASS | SKIPPED | SKIPPED | SKIPPED | SKIPPED | +---------------------+--------------------+------------------+-------------------+-------------------------+-------------------+----------------------+ | RHEL8 | PASS | PASS | SKIPPED | SKIPPED | SKIPPED | SKIPPED | +---------------------+--------------------+------------------+-------------------+-------------------------+-------------------+----------------------+ | Ubuntu 20.04 | PASS | SKIPPED | SKIPPED | SKIPPED | SKIPPED | SKIPPED | +---------------------+--------------------+------------------+-------------------+-------------------------+-------------------+----------------------+ | Ubuntu 22.04 | PASS | PASS | PASS | SKIPPED | SKIPPED | SKIPPED | +---------------------+--------------------+------------------+-------------------+-------------------------+-------------------+----------------------+ | Alpine | PASS | PASS | SKIPPED | SKIPPED | SKIPPED | SKIPPED | +---------------------+--------------------+------------------+-------------------+-------------------------+-------------------+----------------------+ | FreeBSD 13.4 | PASS | SKIPPED | SKIPPED | SKIPPED | SKIPPED | SKIPPED | +---------------------+--------------------+------------------+-------------------+-------------------------+-------------------+----------------------+ | FreeBSD 14.2 | PASS | SKIPPED | SKIPPED | SKIPPED | SKIPPED | SKIPPED | +---------------------+--------------------+------------------+-------------------+-------------------------+-------------------+----------------------+ | Fedora 40 (Clang) | PASS | PASS | PASS | SKIPPED | SKIPPED | SKIPPED | +---------------------+--------------------+------------------+-------------------+-------------------------+-------------------+----------------------+ | Fedora 39 (Clang) | PASS | PASS | PASS | SKIPPED | SKIPPED | SKIPPED | +---------------------+--------------------+------------------+-------------------+-------------------------+-------------------+----------------------+ | Ubuntu 24.04 | PASS | PASS | PASS | SKIPPED | SKIPPED | SKIPPED | +---------------------+--------------------+------------------+-------------------+-------------------------+-------------------+----------------------+ | Windows Server 2022 | SKIPPED | SKIPPED | SKIPPED | PASS | PASS | PASS | +---------------------+--------------------+------------------+-------------------+-------------------------+-------------------+----------------------+ CentOS Stream 9 Kernel: Depends on container host Compiler: gcc 11.5.0 20240719 (Red Hat 11.5.0-2) Debian Bullseye Kernel: Depends on container host Compiler: gcc (Debian 10.2.1-6) 10.2.1 20210110 Fedora 39 Kernel: Depends on container host Compiler: gcc 13.3.1 20240522 (Red Hat 13.3.1-1) Debian 12 Kernel: Depends on container host Compiler: gcc (Debian 12.2.0-14) 12.2.0 openSUSE Leap 15 Kernel: Depends on container host Compiler: gcc (SUSE Linux) 7.5.0 Fedora 40 Kernel: Depends on container host Compiler: gcc 14.2.1 20240912 (Red Hat 14.2.1-3) RHEL9 Kernel: Depends on container host Compiler: gcc 11.5.0 20240719 (Red Hat 11.5.0-2) RHEL8 Kernel: Depends on container host Compiler: gcc 8.5.0 20210514 (Red Hat 8.5.0-22) Ubuntu 20.04 Kernel: Depends on container host Compiler: gcc (Ubuntu 9.4.0-1ubuntu1~20.04.2) 9.4.0 Ubuntu 22.04 Kernel: Depends on container host Compiler: gcc (Ubuntu 11.4.0-1ubuntu1~22.04) 11.4.0 Alpine Kernel: Depends on container host Compiler: gcc (Alpine 14.2.0) 14.2.0 FreeBSD 13.4 Kernel: 13.4-RELEASE-p1 Compiler: clang 18.1.6 FreeBSD 14.2 Kernel: 14.2-RELEASE Compiler: clang 18.1.6 Fedora 40 (Clang) Kernel: Depends on container host Compiler: clang 18.1.8 (Fedora 18.1.8-1.fc40) Fedora 39 (Clang) Kernel: Depends on container host Compiler: clang 17.0.6 (Fedora 17.0.6-2.fc39) Ubuntu 24.04 Kernel: Depends on container host Compiler: gcc (Ubuntu 13.3.0-6ubuntu2~24.04) 13.3.0 Windows Server 2022 Kernel: 10.0.20348.2031 Compiler: clang 15.0.7, gcc 14.1.0 (MinGW), and MSVC VS 19.39.33521 To view detailed results, visit: https://lab.dpdk.org/results/dashboard/patchsets/32188/ UNH-IOL DPDK Community Lab To manage your email subscriptions, visit: https://lab.dpdk.org/results/dashboard/preferences/subscriptions/