From mboxrd@z Thu Jan 1 00:00:00 1970 Return-Path: Received: from mails.dpdk.org (mails.dpdk.org [217.70.189.124]) by inbox.dpdk.org (Postfix) with ESMTP id 473AF461BF for ; Fri, 7 Feb 2025 20:58:39 +0100 (CET) Received: from mails.dpdk.org (localhost [127.0.0.1]) by mails.dpdk.org (Postfix) with ESMTP id 3717840290; Fri, 7 Feb 2025 20:58:39 +0100 (CET) Received: from mail-qv1-f98.google.com (mail-qv1-f98.google.com [209.85.219.98]) by mails.dpdk.org (Postfix) with ESMTP id 724724026C for ; Fri, 7 Feb 2025 20:58:36 +0100 (CET) Received: by mail-qv1-f98.google.com with SMTP id 6a1803df08f44-6dd15d03eacso20491046d6.0 for ; Fri, 07 Feb 2025 11:58:36 -0800 (PST) DKIM-Signature: v=1; a=rsa-sha256; c=relaxed/relaxed; d=iol.unh.edu; s=unh-iol; t=1738958316; x=1739563116; darn=dpdk.org; h=references:in-reply-to:cc:to:from:subject:message-id:date:from:to :cc:subject:date:message-id:reply-to; bh=LDE3CBJmZoPnQgOrDWgsH3yGFPJwkw7xi8oeSWf8EE0=; b=bxT+0vCiQ11qsFWN2X6/Z4MSJTmBIDj00FXFV70O6GZES8hCLwsNaBV/SuLMzzDNN+ 5CTYqD98Q3GfzfbeaGLOr8lCDv105OsIn+CSH1R2MskkblKsVyliOfyYngQ+W7UiOCnL v+dsUCjemY/up+Hzd512wRMbYTbSUD8ii9/pI= X-Google-DKIM-Signature: v=1; a=rsa-sha256; c=relaxed/relaxed; d=1e100.net; s=20230601; t=1738958316; x=1739563116; h=references:in-reply-to:cc:to:from:subject:message-id:date :x-gm-message-state:from:to:cc:subject:date:message-id:reply-to; bh=LDE3CBJmZoPnQgOrDWgsH3yGFPJwkw7xi8oeSWf8EE0=; b=JyW+9tferfC0RtSeiG36jnsl7P8+ADRchL/0C7iO4tTXRMuhpibwwPMQLEr/ZemjYy oyQA7xGGLci6oCzfVHBzFKsHMu8mg8gOXrc5Blsi85ZYcSTmVEP0JW4BKcfbI1EEKUx6 vYyzMZJnqpCxXHdeDFACkVOFxNIzO9F5WfQ/puqTWPMAUVOQwQXyM3xi7XUwlSvgd7qw 4zNzrpnUiAtXXLOSLZsZeUntJi3Hcxu/6pfSz653Nn9/iBSJuDsuxrDpnjt5m+Fr4w/y BNqg5Tz1wlt8eyOFWsvvITKt4FDqEFPlASB7m0uiV4s/gqOVZrZOmUi2J+JeQ+KdJQ9W cBXA== X-Gm-Message-State: AOJu0Ywq8/4mSyEmMJuOYLe52YllIyhMq1FROIB4HwK3AwGEDUSYfL/s PltTlcQxEr6fAaJT7pqreXC/Db5blfwFCX+vS9RPtWIBbsHD14MTB0lRItIp8RfDd8C8Qw/nTqS 7usB+L1vv/DPrLeN77OhvuA4N27eAVldKqx1QpzYf X-Gm-Gg: ASbGncsxgP3e390r1vxbwzr98msekLHBUvaEVVZX/P9LIgEBywjqgkY6LgJ/gV/woMt WCGSYyqSVViVn9d1e0HUsVrB4CuuVH/lGOBIMGUv68FH2y8ZTRcR5Li61zWnZ72z561BHPHtkui EnyVQ7JySYaQvTg4+heRahpYLrb1w4bPn1IdbdZLcSzOUToKuixIU2+5qWdWzigimErL2+h6RAx 4kdDFTlJYmZjfeFMpnHVtD/aA3T6be7cBXn+bMuexn2wmGGLwztN+WuROAhv8LepYB/RTSG9yu3 bjkWm9kVS40/DOUPlymaLRcv6eVmFg== X-Google-Smtp-Source: AGHT+IF9Up+McAR7YYKj0ujNVpNjLDXkP84EOlAUtI73QCjS0FL5hyciLwil9SYgdCF+YsDYInLvSfyearGr X-Received: by 2002:a05:6214:e8c:b0:6e4:2561:48a7 with SMTP id 6a1803df08f44-6e445a1f897mr56080566d6.17.1738958315913; Fri, 07 Feb 2025 11:58:35 -0800 (PST) Received: from postal.iol.unh.edu (postal.iol.unh.edu. [132.177.123.84]) by smtp-relay.gmail.com with ESMTPS id 6a1803df08f44-6e446aea016sm1953056d6.56.2025.02.07.11.58.35 (version=TLS1_2 cipher=ECDHE-ECDSA-AES128-GCM-SHA256 bits=128/128); Fri, 07 Feb 2025 11:58:35 -0800 (PST) X-Relaying-Domain: iol.unh.edu Date: Fri, 07 Feb 2025 11:58:35 -0800 (PST) Message-ID: <67a665eb.0c0a0220.3b393.ac54SMTPIN_ADDED_MISSING@mx.google.com> Received: from [172.21.0.6] (unknown [172.18.0.240]) by postal.iol.unh.edu (Postfix) with ESMTP id 97E5D605247D; Fri, 7 Feb 2025 14:58:05 -0500 (EST) Subject: |SUCCESS| pw149394-149406 [PATCH] [v5,15/15] net/zxdh: mtu update op From: dpdklab@iol.unh.edu To: Test Report Cc: dpdk-test-reports@iol.unh.edu In-Reply-To: <20241223110249.1483277-16-wang.junlong1@zte.com.cn> References: <20241223110249.1483277-16-wang.junlong1@zte.com.cn> Content-Type: text/plain X-BeenThere: test-report@dpdk.org X-Mailman-Version: 2.1.29 Precedence: list List-Id: automatic DPDK test reports List-Unsubscribe: , List-Archive: List-Post: List-Help: List-Subscribe: , Errors-To: test-report-bounces@dpdk.org Test-Label: iol-compile-amd64-testing Test-Status: SUCCESS http://dpdk.org/patch/149406 _Testing PASS_ Submitter: Junlong Wang Date: Monday, December 23 2024 11:02:49 DPDK git baseline: Repo:dpdk Branch: master CommitID:94ad302b4ebba4a5b6706a1c43ea0505e5098169 149394-149406 --> testing pass Test environment and result as below: +---------------------+--------------------+------------------+-------------------+-------------------+-------------------------+----------------------+ | Environment | dpdk_meson_compile | dpdk_compile_ovs | dpdk_compile_spdk | dpdk_msvc_compile | dpdk_llvm_clang_compile | dpdk_mingw64_compile | +=====================+====================+==================+===================+===================+=========================+======================+ | CentOS Stream 9 | PASS | PASS | PASS | SKIPPED | SKIPPED | SKIPPED | +---------------------+--------------------+------------------+-------------------+-------------------+-------------------------+----------------------+ | Debian Bullseye | PASS | PASS | PASS | SKIPPED | SKIPPED | SKIPPED | +---------------------+--------------------+------------------+-------------------+-------------------+-------------------------+----------------------+ | Debian 12 | PASS | PASS | PASS | SKIPPED | SKIPPED | SKIPPED | +---------------------+--------------------+------------------+-------------------+-------------------+-------------------------+----------------------+ | Fedora 39 (Clang) | PASS | PASS | PASS | SKIPPED | SKIPPED | SKIPPED | +---------------------+--------------------+------------------+-------------------+-------------------+-------------------------+----------------------+ | Fedora 40 (Clang) | PASS | PASS | PASS | SKIPPED | SKIPPED | SKIPPED | +---------------------+--------------------+------------------+-------------------+-------------------+-------------------------+----------------------+ | RHEL8 | PASS | PASS | SKIPPED | SKIPPED | SKIPPED | SKIPPED | +---------------------+--------------------+------------------+-------------------+-------------------+-------------------------+----------------------+ | openSUSE Leap 15 | PASS | SKIPPED | SKIPPED | SKIPPED | SKIPPED | SKIPPED | +---------------------+--------------------+------------------+-------------------+-------------------+-------------------------+----------------------+ | Fedora 40 | PASS | PASS | PASS | SKIPPED | SKIPPED | SKIPPED | +---------------------+--------------------+------------------+-------------------+-------------------+-------------------------+----------------------+ | Ubuntu 20.04 | PASS | SKIPPED | SKIPPED | SKIPPED | SKIPPED | SKIPPED | +---------------------+--------------------+------------------+-------------------+-------------------+-------------------------+----------------------+ | Ubuntu 22.04 | PASS | PASS | PASS | SKIPPED | SKIPPED | SKIPPED | +---------------------+--------------------+------------------+-------------------+-------------------+-------------------------+----------------------+ | RHEL9 | PASS | PASS | SKIPPED | SKIPPED | SKIPPED | SKIPPED | +---------------------+--------------------+------------------+-------------------+-------------------+-------------------------+----------------------+ | Ubuntu 24.04 | PASS | PASS | PASS | SKIPPED | SKIPPED | SKIPPED | +---------------------+--------------------+------------------+-------------------+-------------------+-------------------------+----------------------+ | Alpine | PASS | PASS | SKIPPED | SKIPPED | SKIPPED | SKIPPED | +---------------------+--------------------+------------------+-------------------+-------------------+-------------------------+----------------------+ | FreeBSD 13.4 | PASS | SKIPPED | SKIPPED | SKIPPED | SKIPPED | SKIPPED | +---------------------+--------------------+------------------+-------------------+-------------------+-------------------------+----------------------+ | FreeBSD 14.2 | PASS | SKIPPED | SKIPPED | SKIPPED | SKIPPED | SKIPPED | +---------------------+--------------------+------------------+-------------------+-------------------+-------------------------+----------------------+ | Fedora 39 | PASS | PASS | PASS | SKIPPED | SKIPPED | SKIPPED | +---------------------+--------------------+------------------+-------------------+-------------------+-------------------------+----------------------+ | Windows Server 2022 | SKIPPED | SKIPPED | SKIPPED | PASS | PASS | PASS | +---------------------+--------------------+------------------+-------------------+-------------------+-------------------------+----------------------+ CentOS Stream 9 Kernel: Depends on container host Compiler: gcc 11.5.0 20240719 (Red Hat 11.5.0-2) Debian Bullseye Kernel: Depends on container host Compiler: gcc (Debian 10.2.1-6) 10.2.1 20210110 Debian 12 Kernel: Depends on container host Compiler: gcc (Debian 12.2.0-14) 12.2.0 Fedora 39 (Clang) Kernel: Depends on container host Compiler: clang 17.0.6 (Fedora 17.0.6-2.fc39) Fedora 40 (Clang) Kernel: Depends on container host Compiler: clang 18.1.8 (Fedora 18.1.8-1.fc40) RHEL8 Kernel: Depends on container host Compiler: gcc 8.5.0 20210514 (Red Hat 8.5.0-22) openSUSE Leap 15 Kernel: Depends on container host Compiler: gcc (SUSE Linux) 7.5.0 Fedora 40 Kernel: Depends on container host Compiler: gcc 14.2.1 20240912 (Red Hat 14.2.1-3) Ubuntu 20.04 Kernel: Depends on container host Compiler: gcc (Ubuntu 9.4.0-1ubuntu1~20.04.2) 9.4.0 Ubuntu 22.04 Kernel: Depends on container host Compiler: gcc (Ubuntu 11.4.0-1ubuntu1~22.04) 11.4.0 RHEL9 Kernel: Depends on container host Compiler: gcc 11.5.0 20240719 (Red Hat 11.5.0-2) Ubuntu 24.04 Kernel: Depends on container host Compiler: gcc (Ubuntu 13.3.0-6ubuntu2~24.04) 13.3.0 Alpine Kernel: Depends on container host Compiler: gcc (Alpine 14.2.0) 14.2.0 FreeBSD 13.4 Kernel: 13.4-RELEASE-p1 Compiler: clang 18.1.6 FreeBSD 14.2 Kernel: 14.2-RELEASE Compiler: clang 18.1.6 Fedora 39 Kernel: Depends on container host Compiler: gcc 13.3.1 20240522 (Red Hat 13.3.1-1) Windows Server 2022 Kernel: 10.0.20348.2031 Compiler: clang 15.0.7, gcc 14.1.0 (MinGW), and MSVC VS 19.39.33521 To view detailed results, visit: https://lab.dpdk.org/results/dashboard/patchsets/32195/ UNH-IOL DPDK Community Lab To manage your email subscriptions, visit: https://lab.dpdk.org/results/dashboard/preferences/subscriptions/