From mboxrd@z Thu Jan 1 00:00:00 1970 Return-Path: Received: from mails.dpdk.org (mails.dpdk.org [217.70.189.124]) by inbox.dpdk.org (Postfix) with ESMTP id 5C833461BF for ; Fri, 7 Feb 2025 20:58:44 +0100 (CET) Received: from mails.dpdk.org (localhost [127.0.0.1]) by mails.dpdk.org (Postfix) with ESMTP id 5859D40290; Fri, 7 Feb 2025 20:58:44 +0100 (CET) Received: from mail-pl1-f227.google.com (mail-pl1-f227.google.com [209.85.214.227]) by mails.dpdk.org (Postfix) with ESMTP id 7AEE64026C for ; Fri, 7 Feb 2025 20:58:42 +0100 (CET) Received: by mail-pl1-f227.google.com with SMTP id d9443c01a7336-21f48ebaadfso35039725ad.2 for ; Fri, 07 Feb 2025 11:58:42 -0800 (PST) DKIM-Signature: v=1; a=rsa-sha256; c=relaxed/relaxed; d=iol.unh.edu; s=unh-iol; t=1738958321; x=1739563121; darn=dpdk.org; h=references:in-reply-to:cc:to:from:subject:message-id:date:from:to :cc:subject:date:message-id:reply-to; bh=xDSZomwRs+1RPoXf5PZ7BZPJzWL8NUrMW+V0h6/415o=; b=DO6J685EQk+i6e7xNgo2m+A/LsKN2n7IcfdsVcFe4QmdM8sXw5Ghlr0mopf+mZdu6C QgoxtMJKxGMY4yneGRXE6UIanViyKvimbFRaoK79t0yKmzpowQCnlP1PBAcVPjTCE67Z 87EkKCZsnaXGBbjCeIvTw9NP7VLid4y4cOdFM= X-Google-DKIM-Signature: v=1; a=rsa-sha256; c=relaxed/relaxed; d=1e100.net; s=20230601; t=1738958321; x=1739563121; h=references:in-reply-to:cc:to:from:subject:message-id:date :x-gm-message-state:from:to:cc:subject:date:message-id:reply-to; bh=xDSZomwRs+1RPoXf5PZ7BZPJzWL8NUrMW+V0h6/415o=; b=Yqsfi2pV6wjy21n9rIR5IRH8Q1SPL66Z3C/H+slXgR4ORl0h8RLH1c6DGiTts8Gt2K A6Uvs/fiBcGEJ5hxCUwOlVeY8xf8H4KOuy5Kf70/LU9kN+ewWS0GEPBebQlD1kJUmCri ySr6Ke2GOctGv2mgdYA0r2OetblfV3zo2oHC+UQHBtYpjcWL2MRMZIz6Z2Rjb6ibvgtR TXFZhSReXpQGv3xkjxBj6Zw+Nv0rzHT/QfjC6le88P+sUna5a04qA1S5SYMNMvfo+Sog eED3UU4CaGn5Q57DAUzdVrd04O7EKePCf5VepoaFrWbxXC6oMcRkxalFeTELo09f5VAk Kwbw== X-Gm-Message-State: AOJu0Yw/MRAsYFltiHKtxtTF1EzqUkTSh0kAQvWWPYCDn+XoYue0SP57 i6wDhOvSjEIuD/zoz34Z+ruR3CEszsVVKe7ETcIGF5kX5f+wI4QAMrOzOuImh0Zj6IhveQGNxaD P5qmYZsPk9LdOFXMXygSvAt9USX+SYPiqxxHk2h77 X-Gm-Gg: ASbGncvRuGH/ibiGCtekA7utClw+uX0Vbegs8RmU+HyRpi/rHBixsztbYH38f+fzTsk 7Rxm0DCgem3F5znLmBvdCRLu2LjBJSXPYHTbjjhGrAybAaEEKfRdb1KqueXK8nHaZ4fGIc5CW6u LPGskJf2AOh4rbKyzB6C3li9Gqfobdm7MFeIjk0gpjeYq+rBWiEYjAfhGAnAeaW+QgYeRxPhP/d XQ6QKlCfCTJqiX/xGP6WE3ocRKTrbNsQFSd15QMbkR2Cy8wVqAKzzbL2uI+dMAetalkr1OXFShQ zgMboLtbaOeSYhuq9migh8NAbnGOuA== X-Google-Smtp-Source: AGHT+IG6lqUXXXZMRIC6ZgxRN8vQ/IwSkovGXkZazfTxam4UwmFj1T/p684oATHcujbuOMEm1H9ZS9fLEn3v X-Received: by 2002:a17:903:19c7:b0:21c:fb6:7c52 with SMTP id d9443c01a7336-21f4e7442ffmr73672515ad.45.1738958321467; Fri, 07 Feb 2025 11:58:41 -0800 (PST) Received: from postal.iol.unh.edu (postal.iol.unh.edu. [132.177.123.84]) by smtp-relay.gmail.com with ESMTPS id d9443c01a7336-21f36560ef0sm2165525ad.48.2025.02.07.11.58.41 (version=TLS1_2 cipher=ECDHE-ECDSA-AES128-GCM-SHA256 bits=128/128); Fri, 07 Feb 2025 11:58:41 -0800 (PST) X-Relaying-Domain: iol.unh.edu Date: Fri, 07 Feb 2025 11:58:41 -0800 (PST) Message-ID: <67a665f1.170a0220.21f2b.b149SMTPIN_ADDED_MISSING@mx.google.com> Received: from [172.21.0.8] (unknown [172.18.0.240]) by postal.iol.unh.edu (Postfix) with ESMTP id A648C605247D; Fri, 7 Feb 2025 14:58:40 -0500 (EST) Subject: |SUCCESS| pw149359 [PATCH] [1/1] common/sfc_efx/base: remove unreach From: dpdklab@iol.unh.edu To: Test Report Cc: dpdk-test-reports@iol.unh.edu In-Reply-To: <20241221132830.1100648-2-otilibil@eurecom.fr> References: <20241221132830.1100648-2-otilibil@eurecom.fr> Content-Type: text/plain X-BeenThere: test-report@dpdk.org X-Mailman-Version: 2.1.29 Precedence: list List-Id: automatic DPDK test reports List-Unsubscribe: , List-Archive: List-Post: List-Help: List-Subscribe: , Errors-To: test-report-bounces@dpdk.org Test-Label: iol-compile-amd64-testing Test-Status: SUCCESS http://dpdk.org/patch/149359 _Testing PASS_ Submitter: Ariel Otilibili-Anieli Date: Saturday, December 21 2024 13:27:07 DPDK git baseline: Repo:dpdk Branch: master CommitID:94ad302b4ebba4a5b6706a1c43ea0505e5098169 149359 --> testing pass Test environment and result as below: +---------------------+--------------------+------------------+-------------------+-------------------+-------------------------+----------------------+ | Environment | dpdk_meson_compile | dpdk_compile_ovs | dpdk_compile_spdk | dpdk_msvc_compile | dpdk_llvm_clang_compile | dpdk_mingw64_compile | +=====================+====================+==================+===================+===================+=========================+======================+ | Debian Bullseye | PASS | PASS | PASS | SKIPPED | SKIPPED | SKIPPED | +---------------------+--------------------+------------------+-------------------+-------------------+-------------------------+----------------------+ | CentOS Stream 9 | PASS | PASS | PASS | SKIPPED | SKIPPED | SKIPPED | +---------------------+--------------------+------------------+-------------------+-------------------+-------------------------+----------------------+ | Ubuntu 20.04 | PASS | SKIPPED | SKIPPED | SKIPPED | SKIPPED | SKIPPED | +---------------------+--------------------+------------------+-------------------+-------------------+-------------------------+----------------------+ | Fedora 39 (Clang) | PASS | PASS | PASS | SKIPPED | SKIPPED | SKIPPED | +---------------------+--------------------+------------------+-------------------+-------------------+-------------------------+----------------------+ | Debian 12 | PASS | PASS | PASS | SKIPPED | SKIPPED | SKIPPED | +---------------------+--------------------+------------------+-------------------+-------------------+-------------------------+----------------------+ | Fedora 39 | PASS | PASS | PASS | SKIPPED | SKIPPED | SKIPPED | +---------------------+--------------------+------------------+-------------------+-------------------+-------------------------+----------------------+ | Fedora 40 | PASS | PASS | PASS | SKIPPED | SKIPPED | SKIPPED | +---------------------+--------------------+------------------+-------------------+-------------------+-------------------------+----------------------+ | Fedora 40 (Clang) | PASS | PASS | PASS | SKIPPED | SKIPPED | SKIPPED | +---------------------+--------------------+------------------+-------------------+-------------------+-------------------------+----------------------+ | RHEL9 | PASS | PASS | SKIPPED | SKIPPED | SKIPPED | SKIPPED | +---------------------+--------------------+------------------+-------------------+-------------------+-------------------------+----------------------+ | RHEL8 | PASS | PASS | SKIPPED | SKIPPED | SKIPPED | SKIPPED | +---------------------+--------------------+------------------+-------------------+-------------------+-------------------------+----------------------+ | openSUSE Leap 15 | PASS | SKIPPED | SKIPPED | SKIPPED | SKIPPED | SKIPPED | +---------------------+--------------------+------------------+-------------------+-------------------+-------------------------+----------------------+ | Ubuntu 24.04 | PASS | PASS | PASS | SKIPPED | SKIPPED | SKIPPED | +---------------------+--------------------+------------------+-------------------+-------------------+-------------------------+----------------------+ | Ubuntu 22.04 | PASS | PASS | PASS | SKIPPED | SKIPPED | SKIPPED | +---------------------+--------------------+------------------+-------------------+-------------------+-------------------------+----------------------+ | Alpine | PASS | PASS | SKIPPED | SKIPPED | SKIPPED | SKIPPED | +---------------------+--------------------+------------------+-------------------+-------------------+-------------------------+----------------------+ | FreeBSD 13.4 | PASS | SKIPPED | SKIPPED | SKIPPED | SKIPPED | SKIPPED | +---------------------+--------------------+------------------+-------------------+-------------------+-------------------------+----------------------+ | FreeBSD 14.2 | PASS | SKIPPED | SKIPPED | SKIPPED | SKIPPED | SKIPPED | +---------------------+--------------------+------------------+-------------------+-------------------+-------------------------+----------------------+ | Windows Server 2022 | SKIPPED | SKIPPED | SKIPPED | PASS | PASS | PASS | +---------------------+--------------------+------------------+-------------------+-------------------+-------------------------+----------------------+ Debian Bullseye Kernel: Depends on container host Compiler: gcc (Debian 10.2.1-6) 10.2.1 20210110 CentOS Stream 9 Kernel: Depends on container host Compiler: gcc 11.5.0 20240719 (Red Hat 11.5.0-2) Ubuntu 20.04 Kernel: Depends on container host Compiler: gcc (Ubuntu 9.4.0-1ubuntu1~20.04.2) 9.4.0 Fedora 39 (Clang) Kernel: Depends on container host Compiler: clang 17.0.6 (Fedora 17.0.6-2.fc39) Debian 12 Kernel: Depends on container host Compiler: gcc (Debian 12.2.0-14) 12.2.0 Fedora 39 Kernel: Depends on container host Compiler: gcc 13.3.1 20240522 (Red Hat 13.3.1-1) Fedora 40 Kernel: Depends on container host Compiler: gcc 14.2.1 20240912 (Red Hat 14.2.1-3) Fedora 40 (Clang) Kernel: Depends on container host Compiler: clang 18.1.8 (Fedora 18.1.8-1.fc40) RHEL9 Kernel: Depends on container host Compiler: gcc 11.5.0 20240719 (Red Hat 11.5.0-2) RHEL8 Kernel: Depends on container host Compiler: gcc 8.5.0 20210514 (Red Hat 8.5.0-22) openSUSE Leap 15 Kernel: Depends on container host Compiler: gcc (SUSE Linux) 7.5.0 Ubuntu 24.04 Kernel: Depends on container host Compiler: gcc (Ubuntu 13.3.0-6ubuntu2~24.04) 13.3.0 Ubuntu 22.04 Kernel: Depends on container host Compiler: gcc (Ubuntu 11.4.0-1ubuntu1~22.04) 11.4.0 Alpine Kernel: Depends on container host Compiler: gcc (Alpine 14.2.0) 14.2.0 FreeBSD 13.4 Kernel: 13.4-RELEASE-p1 Compiler: clang 18.1.6 FreeBSD 14.2 Kernel: 14.2-RELEASE Compiler: clang 18.1.6 Windows Server 2022 Kernel: 10.0.20348.2031 Compiler: clang 15.0.7, gcc 14.1.0 (MinGW), and MSVC VS 19.39.33521 To view detailed results, visit: https://lab.dpdk.org/results/dashboard/patchsets/32186/ UNH-IOL DPDK Community Lab To manage your email subscriptions, visit: https://lab.dpdk.org/results/dashboard/preferences/subscriptions/