From mboxrd@z Thu Jan 1 00:00:00 1970 Return-Path: Received: from mails.dpdk.org (mails.dpdk.org [217.70.189.124]) by inbox.dpdk.org (Postfix) with ESMTP id 71E41461BF for ; Fri, 7 Feb 2025 20:58:47 +0100 (CET) Received: from mails.dpdk.org (localhost [127.0.0.1]) by mails.dpdk.org (Postfix) with ESMTP id 6A70240290; Fri, 7 Feb 2025 20:58:47 +0100 (CET) Received: from mail-pl1-f227.google.com (mail-pl1-f227.google.com [209.85.214.227]) by mails.dpdk.org (Postfix) with ESMTP id 8CAD54026C for ; Fri, 7 Feb 2025 20:58:45 +0100 (CET) Received: by mail-pl1-f227.google.com with SMTP id d9443c01a7336-21f4a4fbb35so27274125ad.0 for ; Fri, 07 Feb 2025 11:58:45 -0800 (PST) DKIM-Signature: v=1; a=rsa-sha256; c=relaxed/relaxed; d=iol.unh.edu; s=unh-iol; t=1738958325; x=1739563125; darn=dpdk.org; h=references:in-reply-to:cc:to:from:subject:message-id:date:from:to :cc:subject:date:message-id:reply-to; bh=w6wAnPfes6pzjr2+65KzXjyQGZ+R6VhOVDGeB33fLBk=; b=LxJsb7GlJ+SOY1vbdoNSH/qXY9EdUJwvMUbwl2yki1qqVHx3OzFXFQRZzdMbq8ghbx 9dMW8mrVe5MP4c/4N8N7BwXJ7UlAvJoBHIk7J/7hW7GqYcEK0YwtAQP5c3KeCWF1AD/t 6V6FtYnOzVyq7JLokqo3oJa8whDtxhW9aUIWo= X-Google-DKIM-Signature: v=1; a=rsa-sha256; c=relaxed/relaxed; d=1e100.net; s=20230601; t=1738958325; x=1739563125; h=references:in-reply-to:cc:to:from:subject:message-id:date :x-gm-message-state:from:to:cc:subject:date:message-id:reply-to; bh=w6wAnPfes6pzjr2+65KzXjyQGZ+R6VhOVDGeB33fLBk=; b=IJK2nEbpAf214CUkBCbMG3WV8tr+hGKnzmTuEQNg9EOqCG+p8CjFnn1Ls+aIwYs51G HJp5sS/p4gLWTgTOC0WF6yCOSYivejXaiVDRbrjTyVTobv8WteeDAJobyciOvPuBExVk uupb7HF2kIdewgHCEiLA4QaonntF0zmg+EtwQOnEjP0OppDyrJYP6W/b0zufZETOlq7j AdLRYAXgT2rNRavQsV6nmecMXG0zUawRVR2toP6C+CbLmNdse318MtUqN/uXRHeEGF8m PBRmLroyEqNMkQ0SD866fvS+jEjCwdvgSYA8hO/PDOsnbnwAFQTsVYtSdi9WIV9kdkEF sZAQ== X-Gm-Message-State: AOJu0YxzAJ9HVntrHaCaMxorgPeIh1jbaiJoqqQCquvEVs4mTMKHiFBp sKJFB3eGClSjq8UpfqmFQoY+7jaM2+rLy7vbK2Of0afkQ5Emj7q1UXEk8topIg/vGdro0OX1Wql KMDNsGOfUGjeGn1T6XhKg8ME2VCIgPT03Ay5FKxd6 X-Gm-Gg: ASbGncsbtNG/fyIL6bLObsU63em0q9bRSXauiZvroFIYshOLv6BW39lRHTzfpkh36ti VeJmAg5f3B5CT2+AsOAx1YoGX4sIs9knPLnfdKldq+Wh+RbPwsnMM2wxcxoXZp48+2ka1f6lMOY rVWr4fujDWXcDGzhjLy5Qws0HnsvM6WeY9W7tZ8MANi2j1UbIGz81zC/aeNSTTyGRMtZfOLw3RD pjKFLyC944QImxOse+WUD+OF9d+PMsno2bqYXlmYhPFFK+7WSQv1iQo1aF1aPHRGJpLP3VLN0pR h60kXJgDk5sHNaoHf+GRCBnzEujhtA== X-Google-Smtp-Source: AGHT+IF4T8QXYuRbRV9qiQcyKMT+pKlZlcLoVTMOnjBi6WXCdewuGYtAE48cNDvZZ/WMOUSDQ0n/cCLv/2L/ X-Received: by 2002:a17:902:e0c3:b0:21f:3a7b:f4e6 with SMTP id d9443c01a7336-21f3a7bf930mr89418635ad.23.1738958324785; Fri, 07 Feb 2025 11:58:44 -0800 (PST) Received: from postal.iol.unh.edu (postal.iol.unh.edu. [132.177.123.84]) by smtp-relay.gmail.com with ESMTPS id d9443c01a7336-21f3650ccefsm2318525ad.11.2025.02.07.11.58.44 (version=TLS1_2 cipher=ECDHE-ECDSA-AES128-GCM-SHA256 bits=128/128); Fri, 07 Feb 2025 11:58:44 -0800 (PST) X-Relaying-Domain: iol.unh.edu Date: Fri, 07 Feb 2025 11:58:44 -0800 (PST) Message-ID: <67a665f4.170a0220.7bdb0.c746SMTPIN_ADDED_MISSING@mx.google.com> Received: from [172.21.0.9] (unknown [172.18.0.240]) by postal.iol.unh.edu (Postfix) with ESMTP id F18946052471; Fri, 7 Feb 2025 14:58:13 -0500 (EST) Subject: |SUCCESS| pw149331-149354 [PATCH] [v4,24/24] net/_common_intel: extr From: dpdklab@iol.unh.edu To: Test Report Cc: dpdk-test-reports@iol.unh.edu In-Reply-To: <20241220143925.609044-25-bruce.richardson@intel.com> References: <20241220143925.609044-25-bruce.richardson@intel.com> Content-Type: text/plain X-BeenThere: test-report@dpdk.org X-Mailman-Version: 2.1.29 Precedence: list List-Id: automatic DPDK test reports List-Unsubscribe: , List-Archive: List-Post: List-Help: List-Subscribe: , Errors-To: test-report-bounces@dpdk.org Test-Label: iol-compile-amd64-testing Test-Status: SUCCESS http://dpdk.org/patch/149354 _Testing PASS_ Submitter: Bruce Richardson Date: Friday, December 20 2024 14:39:21 DPDK git baseline: Repo:dpdk Branch: master CommitID:07604f264417959d76aa9fcb8cb0c3665f62f0d3 149331-149354 --> testing pass Test environment and result as below: +---------------------+--------------------+------------------+-------------------+-------------------------+-------------------+----------------------+ | Environment | dpdk_meson_compile | dpdk_compile_ovs | dpdk_compile_spdk | dpdk_llvm_clang_compile | dpdk_msvc_compile | dpdk_mingw64_compile | +=====================+====================+==================+===================+=========================+===================+======================+ | CentOS Stream 9 | PASS | PASS | PASS | SKIPPED | SKIPPED | SKIPPED | +---------------------+--------------------+------------------+-------------------+-------------------------+-------------------+----------------------+ | Debian 12 | PASS | PASS | PASS | SKIPPED | SKIPPED | SKIPPED | +---------------------+--------------------+------------------+-------------------+-------------------------+-------------------+----------------------+ | Debian Bullseye | PASS | PASS | PASS | SKIPPED | SKIPPED | SKIPPED | +---------------------+--------------------+------------------+-------------------+-------------------------+-------------------+----------------------+ | openSUSE Leap 15 | PASS | SKIPPED | SKIPPED | SKIPPED | SKIPPED | SKIPPED | +---------------------+--------------------+------------------+-------------------+-------------------------+-------------------+----------------------+ | Fedora 40 (Clang) | PASS | PASS | PASS | SKIPPED | SKIPPED | SKIPPED | +---------------------+--------------------+------------------+-------------------+-------------------------+-------------------+----------------------+ | Fedora 40 | PASS | PASS | PASS | SKIPPED | SKIPPED | SKIPPED | +---------------------+--------------------+------------------+-------------------+-------------------------+-------------------+----------------------+ | Fedora 39 (Clang) | PASS | PASS | PASS | SKIPPED | SKIPPED | SKIPPED | +---------------------+--------------------+------------------+-------------------+-------------------------+-------------------+----------------------+ | Fedora 39 | PASS | PASS | PASS | SKIPPED | SKIPPED | SKIPPED | +---------------------+--------------------+------------------+-------------------+-------------------------+-------------------+----------------------+ | RHEL8 | PASS | PASS | SKIPPED | SKIPPED | SKIPPED | SKIPPED | +---------------------+--------------------+------------------+-------------------+-------------------------+-------------------+----------------------+ | RHEL9 | PASS | PASS | SKIPPED | SKIPPED | SKIPPED | SKIPPED | +---------------------+--------------------+------------------+-------------------+-------------------------+-------------------+----------------------+ | Ubuntu 20.04 | PASS | SKIPPED | SKIPPED | SKIPPED | SKIPPED | SKIPPED | +---------------------+--------------------+------------------+-------------------+-------------------------+-------------------+----------------------+ | Ubuntu 22.04 | PASS | PASS | PASS | SKIPPED | SKIPPED | SKIPPED | +---------------------+--------------------+------------------+-------------------+-------------------------+-------------------+----------------------+ | Ubuntu 24.04 | PASS | PASS | PASS | SKIPPED | SKIPPED | SKIPPED | +---------------------+--------------------+------------------+-------------------+-------------------------+-------------------+----------------------+ | Alpine | PASS | PASS | SKIPPED | SKIPPED | SKIPPED | SKIPPED | +---------------------+--------------------+------------------+-------------------+-------------------------+-------------------+----------------------+ | FreeBSD 13.4 | PASS | SKIPPED | SKIPPED | SKIPPED | SKIPPED | SKIPPED | +---------------------+--------------------+------------------+-------------------+-------------------------+-------------------+----------------------+ | FreeBSD 14.2 | PASS | SKIPPED | SKIPPED | SKIPPED | SKIPPED | SKIPPED | +---------------------+--------------------+------------------+-------------------+-------------------------+-------------------+----------------------+ | Windows Server 2022 | SKIPPED | SKIPPED | SKIPPED | PASS | PASS | PASS | +---------------------+--------------------+------------------+-------------------+-------------------------+-------------------+----------------------+ CentOS Stream 9 Kernel: Depends on container host Compiler: gcc 11.5.0 20240719 (Red Hat 11.5.0-2) Debian 12 Kernel: Depends on container host Compiler: gcc (Debian 12.2.0-14) 12.2.0 Debian Bullseye Kernel: Depends on container host Compiler: gcc (Debian 10.2.1-6) 10.2.1 20210110 openSUSE Leap 15 Kernel: Depends on container host Compiler: gcc (SUSE Linux) 7.5.0 Fedora 40 (Clang) Kernel: Depends on container host Compiler: clang 18.1.8 (Fedora 18.1.8-1.fc40) Fedora 40 Kernel: Depends on container host Compiler: gcc 14.2.1 20240912 (Red Hat 14.2.1-3) Fedora 39 (Clang) Kernel: Depends on container host Compiler: clang 17.0.6 (Fedora 17.0.6-2.fc39) Fedora 39 Kernel: Depends on container host Compiler: gcc 13.3.1 20240522 (Red Hat 13.3.1-1) RHEL8 Kernel: Depends on container host Compiler: gcc 8.5.0 20210514 (Red Hat 8.5.0-22) RHEL9 Kernel: Depends on container host Compiler: gcc 11.5.0 20240719 (Red Hat 11.5.0-2) Ubuntu 20.04 Kernel: Depends on container host Compiler: gcc (Ubuntu 9.4.0-1ubuntu1~20.04.2) 9.4.0 Ubuntu 22.04 Kernel: Depends on container host Compiler: gcc (Ubuntu 11.4.0-1ubuntu1~22.04) 11.4.0 Ubuntu 24.04 Kernel: Depends on container host Compiler: gcc (Ubuntu 13.3.0-6ubuntu2~24.04) 13.3.0 Alpine Kernel: Depends on container host Compiler: gcc (Alpine 14.2.0) 14.2.0 FreeBSD 13.4 Kernel: 13.4-RELEASE-p1 Compiler: clang 18.1.6 FreeBSD 14.2 Kernel: 14.2-RELEASE Compiler: clang 18.1.6 Windows Server 2022 Kernel: 10.0.20348.2031 Compiler: clang 15.0.7, gcc 14.1.0 (MinGW), and MSVC VS 19.39.33521 To view detailed results, visit: https://lab.dpdk.org/results/dashboard/patchsets/32182/ UNH-IOL DPDK Community Lab To manage your email subscriptions, visit: https://lab.dpdk.org/results/dashboard/preferences/subscriptions/