From mboxrd@z Thu Jan 1 00:00:00 1970 Return-Path: Received: from mails.dpdk.org (mails.dpdk.org [217.70.189.124]) by inbox.dpdk.org (Postfix) with ESMTP id 9AF8E461BF for ; Fri, 7 Feb 2025 20:58:52 +0100 (CET) Received: from mails.dpdk.org (localhost [127.0.0.1]) by mails.dpdk.org (Postfix) with ESMTP id 98157402B3; Fri, 7 Feb 2025 20:58:52 +0100 (CET) Received: from mail-pl1-f228.google.com (mail-pl1-f228.google.com [209.85.214.228]) by mails.dpdk.org (Postfix) with ESMTP id 1A98C4026C for ; Fri, 7 Feb 2025 20:58:51 +0100 (CET) Received: by mail-pl1-f228.google.com with SMTP id d9443c01a7336-21f40f2bafdso29264955ad.3 for ; Fri, 07 Feb 2025 11:58:51 -0800 (PST) DKIM-Signature: v=1; a=rsa-sha256; c=relaxed/relaxed; d=iol.unh.edu; s=unh-iol; t=1738958330; x=1739563130; darn=dpdk.org; h=cc:to:from:subject:message-id:date:from:to:cc:subject:date :message-id:reply-to; bh=e1iEvnFi/tXnii5c2wEr92Vgrm1r+BevtiiMYW8PT4o=; b=Rc19DTk4fco4q8AR4XdFr2n9Xl2YiicBbCB01Nf40Y+oiL1h/y5kXl/KNJkPA14q/n K27Nr2WJibIrUx4zjR6Oq+ujk0S7cHFCUtC2z3UHmHAaGzv0M7naZ0eMETjZam1xiwn2 9kHZ4pHiUtiX5+ERQzq/RK7K1rPwgHTYHfgEg= X-Google-DKIM-Signature: v=1; a=rsa-sha256; c=relaxed/relaxed; d=1e100.net; s=20230601; t=1738958330; x=1739563130; h=cc:to:from:subject:message-id:date:x-gm-message-state:from:to:cc :subject:date:message-id:reply-to; bh=e1iEvnFi/tXnii5c2wEr92Vgrm1r+BevtiiMYW8PT4o=; b=G6yBPqW6KX0mQ6Z+yTCELv7dYYBGEi9HEBuFPlyPDimgZUmaCS9Ge4qyydpH1uQ/Qm IWGH7uAjAAjzD4kI3OhlrahBAWYFB9vPBcCU5AL0wBgXOBNXQRurioJgiTOytIrYWKJ9 FLPHkRifUYa1wpPMXN0FyeV+ZgsbkhvCaPCKInCg7dnGYsmIyCqE0ogYjasman+hD8ud uZ4bWKBQwkltJHB04q8JXXqfzVEq7qVsXqPlqpiW/jmFt/jIusCAYFRTsQFYBt97Ymf1 jkXobtCXNCF6YgkjdbmxYbYnNP/VWtcQ+hhulIi+A/5Om4Pi4DX140uCwYoVRzsBZZNo 4Wpw== X-Gm-Message-State: AOJu0YxQTWs9jSKmT7CX34t8QR7GWG08mjJMOfsTHYF3zINnPiPfkK9e FGtkNdpAJVTD5jfAQWf2txF/p+9Y+pRDggozDoKXpbd3GqJlTmHQZatz7kCtl2+KrE6f4QSRRVE KkRdQ4aBwy4yju6b23AWPr5+C2h7cwULFSI03FMns X-Gm-Gg: ASbGnctE4ttG5ZzflpiO/FWUCVSmNoIupUyiPE2eIcAZGuZzsF/y12kP6pXyhhM9L1h JR0/UKXEcMoi41GqvJNWI3hVG0rp5TVuy37qNj//Fuw4fBWUCk50Ib4HmPBJihQFr2jaNO4XeOZ BjB9xLVRBHhpAZwopqEmUCbMQgIwBAexsCez/HCaWju3samjLdzkQ4x4oIV1aDn+LA9uB+RDzt1 k+z8lfisVfwyS47Hk5dCMNC7yEodlslkbAj9a+4RMMYQ6gpoX3vxkoa9y8Q8gLydBHgqcBxZXhq /fUaw0lauqM32Q74C5wg3+wZE1BRLQ== X-Google-Smtp-Source: AGHT+IFLfG5qRE1cvBQsNRvGSMh5BDdDX5WVFVHAebAqd9hpsVGLhQA4vcilWULSerTKqroxQDqcAIxQGtVN X-Received: by 2002:a17:902:d2cc:b0:216:725c:a122 with SMTP id d9443c01a7336-21f4e6da67fmr77872225ad.19.1738958330285; Fri, 07 Feb 2025 11:58:50 -0800 (PST) Received: from postal.iol.unh.edu (postal.iol.unh.edu. [132.177.123.84]) by smtp-relay.gmail.com with ESMTPS id d9443c01a7336-21f365517d3sm2232415ad.45.2025.02.07.11.58.50 (version=TLS1_2 cipher=ECDHE-ECDSA-AES128-GCM-SHA256 bits=128/128); Fri, 07 Feb 2025 11:58:50 -0800 (PST) X-Relaying-Domain: iol.unh.edu Date: Fri, 07 Feb 2025 11:58:50 -0800 (PST) Message-ID: <67a665fa.170a0220.181dd4.c030SMTPIN_ADDED_MISSING@mx.google.com> Received: from [172.21.0.12] (unknown [172.18.0.240]) by postal.iol.unh.edu (Postfix) with ESMTP id BBED66052471; Fri, 7 Feb 2025 14:58:49 -0500 (EST) Subject: |SUCCESS| [GIT MASTER] 07604f264417959d76aa9fcb8cb0c3665f62f0d3 From: dpdklab@iol.unh.edu To: Test Report Cc: dpdk-test-reports@iol.unh.edu Content-Type: text/plain X-BeenThere: test-report@dpdk.org X-Mailman-Version: 2.1.29 Precedence: list List-Id: automatic DPDK test reports List-Unsubscribe: , List-Archive: List-Post: List-Help: List-Subscribe: , Errors-To: test-report-bounces@dpdk.org _Testing PASS_ Branch: dpdk 07604f264417959d76aa9fcb8cb0c3665f62f0d3 --> testing pass Test environment and result as below: +---------------------+--------------------+------------------+-------------------+-------------------------+-------------------+----------------------+ | Environment | dpdk_meson_compile | dpdk_compile_ovs | dpdk_compile_spdk | dpdk_llvm_clang_compile | dpdk_msvc_compile | dpdk_mingw64_compile | +=====================+====================+==================+===================+=========================+===================+======================+ | Fedora 39 (Clang) | PASS | PASS | PASS | SKIPPED | SKIPPED | SKIPPED | +---------------------+--------------------+------------------+-------------------+-------------------------+-------------------+----------------------+ | Debian Bullseye | PASS | PASS | PASS | SKIPPED | SKIPPED | SKIPPED | +---------------------+--------------------+------------------+-------------------+-------------------------+-------------------+----------------------+ | Debian 12 | PASS | PASS | PASS | SKIPPED | SKIPPED | SKIPPED | +---------------------+--------------------+------------------+-------------------+-------------------------+-------------------+----------------------+ | Fedora 39 | PASS | PASS | PASS | SKIPPED | SKIPPED | SKIPPED | +---------------------+--------------------+------------------+-------------------+-------------------------+-------------------+----------------------+ | RHEL8 | PASS | PASS | SKIPPED | SKIPPED | SKIPPED | SKIPPED | +---------------------+--------------------+------------------+-------------------+-------------------------+-------------------+----------------------+ | openSUSE Leap 15 | PASS | SKIPPED | SKIPPED | SKIPPED | SKIPPED | SKIPPED | +---------------------+--------------------+------------------+-------------------+-------------------------+-------------------+----------------------+ | Ubuntu 20.04 | PASS | SKIPPED | SKIPPED | SKIPPED | SKIPPED | SKIPPED | +---------------------+--------------------+------------------+-------------------+-------------------------+-------------------+----------------------+ | RHEL9 | PASS | PASS | SKIPPED | SKIPPED | SKIPPED | SKIPPED | +---------------------+--------------------+------------------+-------------------+-------------------------+-------------------+----------------------+ | Ubuntu 22.04 | PASS | PASS | PASS | SKIPPED | SKIPPED | SKIPPED | +---------------------+--------------------+------------------+-------------------+-------------------------+-------------------+----------------------+ | Ubuntu 24.04 | PASS | PASS | PASS | SKIPPED | SKIPPED | SKIPPED | +---------------------+--------------------+------------------+-------------------+-------------------------+-------------------+----------------------+ | Arch Linux | PASS | PASS | SKIPPED | SKIPPED | SKIPPED | SKIPPED | +---------------------+--------------------+------------------+-------------------+-------------------------+-------------------+----------------------+ | Alpine | PASS | PASS | SKIPPED | SKIPPED | SKIPPED | SKIPPED | +---------------------+--------------------+------------------+-------------------+-------------------------+-------------------+----------------------+ | FreeBSD 13.4 | PASS | SKIPPED | SKIPPED | SKIPPED | SKIPPED | SKIPPED | +---------------------+--------------------+------------------+-------------------+-------------------------+-------------------+----------------------+ | CentOS Stream 9 | PASS | PASS | PASS | SKIPPED | SKIPPED | SKIPPED | +---------------------+--------------------+------------------+-------------------+-------------------------+-------------------+----------------------+ | Fedora 40 | PASS | PASS | PASS | SKIPPED | SKIPPED | SKIPPED | +---------------------+--------------------+------------------+-------------------+-------------------------+-------------------+----------------------+ | Fedora 40 (Clang) | PASS | PASS | PASS | SKIPPED | SKIPPED | SKIPPED | +---------------------+--------------------+------------------+-------------------+-------------------------+-------------------+----------------------+ | FreeBSD 14.2 | PASS | SKIPPED | SKIPPED | SKIPPED | SKIPPED | SKIPPED | +---------------------+--------------------+------------------+-------------------+-------------------------+-------------------+----------------------+ | Windows Server 2022 | SKIPPED | SKIPPED | SKIPPED | PASS | PASS | PASS | +---------------------+--------------------+------------------+-------------------+-------------------------+-------------------+----------------------+ Fedora 39 (Clang) Kernel: Depends on container host Compiler: clang 17.0.6 (Fedora 17.0.6-2.fc39) Debian Bullseye Kernel: Depends on container host Compiler: gcc (Debian 10.2.1-6) 10.2.1 20210110 Debian 12 Kernel: Depends on container host Compiler: gcc (Debian 12.2.0-14) 12.2.0 Fedora 39 Kernel: Depends on container host Compiler: gcc 13.3.1 20240522 (Red Hat 13.3.1-1) RHEL8 Kernel: Depends on container host Compiler: gcc 8.5.0 20210514 (Red Hat 8.5.0-22) openSUSE Leap 15 Kernel: Depends on container host Compiler: gcc (SUSE Linux) 7.5.0 Ubuntu 20.04 Kernel: Depends on container host Compiler: gcc (Ubuntu 9.4.0-1ubuntu1~20.04.2) 9.4.0 RHEL9 Kernel: Depends on container host Compiler: gcc 11.5.0 20240719 (Red Hat 11.5.0-2) Ubuntu 22.04 Kernel: Depends on container host Compiler: gcc (Ubuntu 11.4.0-1ubuntu1~22.04) 11.4.0 Ubuntu 24.04 Kernel: Depends on container host Compiler: gcc (Ubuntu 13.3.0-6ubuntu2~24.04) 13.3.0 Arch Linux Kernel: Depends on container host Compiler: gcc 14.2.1 20240910 Alpine Kernel: Depends on container host Compiler: gcc (Alpine 14.2.0) 14.2.0 FreeBSD 13.4 Kernel: 13.4-RELEASE-p1 Compiler: clang 18.1.6 CentOS Stream 9 Kernel: Depends on container host Compiler: gcc 11.5.0 20240719 (Red Hat 11.5.0-2) Fedora 40 Kernel: Depends on container host Compiler: gcc 14.2.1 20240912 (Red Hat 14.2.1-3) Fedora 40 (Clang) Kernel: Depends on container host Compiler: clang 18.1.8 (Fedora 18.1.8-1.fc40) FreeBSD 14.2 Kernel: 14.2-RELEASE Compiler: clang 18.1.6 Windows Server 2022 Kernel: 10.0.20348.2031 Compiler: clang 15.0.7, gcc 14.1.0 (MinGW), and MSVC VS 19.39.33521 To view detailed results, visit: https://lab.dpdk.org/results/dashboard/tarballs/32011/ UNH-IOL DPDK Community Lab To manage your email subscriptions, visit: https://lab.dpdk.org/results/dashboard/preferences/subscriptions/