From mboxrd@z Thu Jan 1 00:00:00 1970 Return-Path: Received: from mails.dpdk.org (mails.dpdk.org [217.70.189.124]) by inbox.dpdk.org (Postfix) with ESMTP id AE28E461BF for ; Fri, 7 Feb 2025 20:59:05 +0100 (CET) Received: from mails.dpdk.org (localhost [127.0.0.1]) by mails.dpdk.org (Postfix) with ESMTP id AB60B40290; Fri, 7 Feb 2025 20:59:05 +0100 (CET) Received: from mail-il1-f226.google.com (mail-il1-f226.google.com [209.85.166.226]) by mails.dpdk.org (Postfix) with ESMTP id C28D64026C for ; Fri, 7 Feb 2025 20:59:04 +0100 (CET) Received: by mail-il1-f226.google.com with SMTP id e9e14a558f8ab-3d14811cabfso2097455ab.1 for ; Fri, 07 Feb 2025 11:59:04 -0800 (PST) DKIM-Signature: v=1; a=rsa-sha256; c=relaxed/relaxed; d=iol.unh.edu; s=unh-iol; t=1738958344; x=1739563144; darn=dpdk.org; h=cc:to:from:subject:message-id:date:from:to:cc:subject:date :message-id:reply-to; bh=tkXABL4ZJuuA3ljuy44wj33ZPiY7acGGam66nozxK3g=; b=YFhwh83l7Ytzpssxw6jkpOTyTQV6UlZVcG3GQ5bZLkR6DPZGDwszyRakre1iuxn9S9 CUi57yWSby8JH88Ymh3VVmfcho1vJjBjLL6p3flDXwF06Lu+ZRAk6HuXGL/UV5k5Ul3k Cz922qOT5DuNBrJeTqcKmCF5Ungdxa8O5Y1bg= X-Google-DKIM-Signature: v=1; a=rsa-sha256; c=relaxed/relaxed; d=1e100.net; s=20230601; t=1738958344; x=1739563144; h=cc:to:from:subject:message-id:date:x-gm-message-state:from:to:cc :subject:date:message-id:reply-to; bh=tkXABL4ZJuuA3ljuy44wj33ZPiY7acGGam66nozxK3g=; b=Fto9T8pQDtHyBqjE7ul9C3oxVde+x8B+RFOgvLcfQYZGfLTw7iNh0tLok75pIb3rrl 9R2akgJMeq7XIeN4+T7F0aXmeIIzdgogln2LXAwToENWIj5XqaFaPwdWtp0/cUmi/qtd WopzeBBA7QcCblG2fV978o5CDHdDmkHcV/OgwC8r+dR7fj58YNtW+Gwj3jTrE/+epS7k npjocFBLFOERbi9EJ534DO4pMN4s+VV0hfvRWHf9leOhtA/UnyRNvt2Fh5RQCkHCscfE 1ZF0nkrGPGVkAAZkpCHkUo7rTzzGyuosEz6iJjHBDbGVB5aGCUzKrqXo1d4HonL1jnpz K2Kg== X-Gm-Message-State: AOJu0Yzx+obyCeWfsY5qSYQ0oPHhHclyMWgn0w3FXcQkymYYxPW5+7o9 lnVlK5Qb/WxHJE9uttCOrKfowjRb2UWGWDey338jWkbj/IxMUmOvV3kfVSeNd235yAJuycBrtM2 b9vsneRVgloiTeR+t8b2Yt0fnjJCt74Rq55E3vNiX X-Gm-Gg: ASbGncs4P5cBU4gryPpSRQ8yKUOB9dycpd2kZDKr8YeHE4u1W5X9cDZ4tE+Hmx/xLtj IMOH3M6pNAKFeIsXbs1m6FoiR7cOrAgQJcJrmEifV12Ugo+neAo5W9ghZTskWHMNKWn6ZzUdit9 ciDLfTafN5tV41H3i0znYhryp+GsUW0jWNmqJkTmxZZ7TTrJ5Onr+P4D77LQqF1O4ZIm/gbyFi6 sk4UEj9rpcnPu7LrqrSEfIdsqJrQkjIP8fW1mIL6WPD+qiFd8v9nero7vhHQj9H6I7UlSlPo0SQ 8aVsD8Yy5y/HutNgnAlT2R7yrUsn1A== X-Google-Smtp-Source: AGHT+IEs05EPH9bNXeRguYenOqpVMjkgEFIoXRmQlR+BWDNJGvmGajU3NPcUnhe3SMRrqGX61k1DQ6nl0jcn X-Received: by 2002:a05:6e02:1448:b0:3cf:c17d:5cba with SMTP id e9e14a558f8ab-3d13dd2086dmr32386595ab.9.1738958344190; Fri, 07 Feb 2025 11:59:04 -0800 (PST) Received: from postal.iol.unh.edu (postal.iol.unh.edu. [132.177.123.84]) by smtp-relay.gmail.com with ESMTPS id 8926c6da1cb9f-4eccfad3822sm266600173.62.2025.02.07.11.59.04 (version=TLS1_2 cipher=ECDHE-ECDSA-AES128-GCM-SHA256 bits=128/128); Fri, 07 Feb 2025 11:59:04 -0800 (PST) X-Relaying-Domain: iol.unh.edu Date: Fri, 07 Feb 2025 11:59:04 -0800 (PST) Message-ID: <67a66608.050a0220.16521a.dceeSMTPIN_ADDED_MISSING@mx.google.com> Received: from [172.21.0.11] (unknown [172.18.0.240]) by postal.iol.unh.edu (Postfix) with ESMTP id B36546052477; Fri, 7 Feb 2025 14:58:33 -0500 (EST) Subject: |SUCCESS| [GIT MASTER] 94ad302b4ebba4a5b6706a1c43ea0505e5098169 From: dpdklab@iol.unh.edu To: Test Report Cc: dpdk-test-reports@iol.unh.edu, Stephen Hemminger Content-Type: text/plain X-BeenThere: test-report@dpdk.org X-Mailman-Version: 2.1.29 Precedence: list List-Id: automatic DPDK test reports List-Unsubscribe: , List-Archive: List-Post: List-Help: List-Subscribe: , Errors-To: test-report-bounces@dpdk.org _Testing PASS_ Branch: dpdk-next-net 94ad302b4ebba4a5b6706a1c43ea0505e5098169 --> testing pass Test environment and result as below: +---------------------+--------------------+------------------+-------------------+-------------------+-------------------------+----------------------+ | Environment | dpdk_meson_compile | dpdk_compile_ovs | dpdk_compile_spdk | dpdk_msvc_compile | dpdk_llvm_clang_compile | dpdk_mingw64_compile | +=====================+====================+==================+===================+===================+=========================+======================+ | CentOS Stream 9 | PASS | PASS | PASS | SKIPPED | SKIPPED | SKIPPED | +---------------------+--------------------+------------------+-------------------+-------------------+-------------------------+----------------------+ | Debian 12 | PASS | PASS | PASS | SKIPPED | SKIPPED | SKIPPED | +---------------------+--------------------+------------------+-------------------+-------------------+-------------------------+----------------------+ | Fedora 39 (Clang) | PASS | PASS | PASS | SKIPPED | SKIPPED | SKIPPED | +---------------------+--------------------+------------------+-------------------+-------------------+-------------------------+----------------------+ | Fedora 39 | PASS | PASS | PASS | SKIPPED | SKIPPED | SKIPPED | +---------------------+--------------------+------------------+-------------------+-------------------+-------------------------+----------------------+ | Fedora 40 | PASS | PASS | PASS | SKIPPED | SKIPPED | SKIPPED | +---------------------+--------------------+------------------+-------------------+-------------------+-------------------------+----------------------+ | openSUSE Leap 15 | PASS | SKIPPED | SKIPPED | SKIPPED | SKIPPED | SKIPPED | +---------------------+--------------------+------------------+-------------------+-------------------+-------------------------+----------------------+ | RHEL8 | PASS | PASS | SKIPPED | SKIPPED | SKIPPED | SKIPPED | +---------------------+--------------------+------------------+-------------------+-------------------+-------------------------+----------------------+ | Ubuntu 20.04 | PASS | SKIPPED | SKIPPED | SKIPPED | SKIPPED | SKIPPED | +---------------------+--------------------+------------------+-------------------+-------------------+-------------------------+----------------------+ | Ubuntu 22.04 | PASS | PASS | PASS | SKIPPED | SKIPPED | SKIPPED | +---------------------+--------------------+------------------+-------------------+-------------------+-------------------------+----------------------+ | Ubuntu 24.04 | PASS | PASS | PASS | SKIPPED | SKIPPED | SKIPPED | +---------------------+--------------------+------------------+-------------------+-------------------+-------------------------+----------------------+ | Alpine | PASS | PASS | SKIPPED | SKIPPED | SKIPPED | SKIPPED | +---------------------+--------------------+------------------+-------------------+-------------------+-------------------------+----------------------+ | FreeBSD 13.4 | PASS | SKIPPED | SKIPPED | SKIPPED | SKIPPED | SKIPPED | +---------------------+--------------------+------------------+-------------------+-------------------+-------------------------+----------------------+ | FreeBSD 14.2 | PASS | SKIPPED | SKIPPED | SKIPPED | SKIPPED | SKIPPED | +---------------------+--------------------+------------------+-------------------+-------------------+-------------------------+----------------------+ | Fedora 40 (Clang) | PASS | PASS | PASS | SKIPPED | SKIPPED | SKIPPED | +---------------------+--------------------+------------------+-------------------+-------------------+-------------------------+----------------------+ | RHEL9 | PASS | PASS | SKIPPED | SKIPPED | SKIPPED | SKIPPED | +---------------------+--------------------+------------------+-------------------+-------------------+-------------------------+----------------------+ | Windows Server 2022 | SKIPPED | SKIPPED | SKIPPED | PASS | PASS | PASS | +---------------------+--------------------+------------------+-------------------+-------------------+-------------------------+----------------------+ CentOS Stream 9 Kernel: Depends on container host Compiler: gcc 11.5.0 20240719 (Red Hat 11.5.0-2) Debian 12 Kernel: Depends on container host Compiler: gcc (Debian 12.2.0-14) 12.2.0 Fedora 39 (Clang) Kernel: Depends on container host Compiler: clang 17.0.6 (Fedora 17.0.6-2.fc39) Fedora 39 Kernel: Depends on container host Compiler: gcc 13.3.1 20240522 (Red Hat 13.3.1-1) Fedora 40 Kernel: Depends on container host Compiler: gcc 14.2.1 20240912 (Red Hat 14.2.1-3) openSUSE Leap 15 Kernel: Depends on container host Compiler: gcc (SUSE Linux) 7.5.0 RHEL8 Kernel: Depends on container host Compiler: gcc 8.5.0 20210514 (Red Hat 8.5.0-22) Ubuntu 20.04 Kernel: Depends on container host Compiler: gcc (Ubuntu 9.4.0-1ubuntu1~20.04.2) 9.4.0 Ubuntu 22.04 Kernel: Depends on container host Compiler: gcc (Ubuntu 11.4.0-1ubuntu1~22.04) 11.4.0 Ubuntu 24.04 Kernel: Depends on container host Compiler: gcc (Ubuntu 13.3.0-6ubuntu2~24.04) 13.3.0 Alpine Kernel: Depends on container host Compiler: gcc (Alpine 14.2.0) 14.2.0 FreeBSD 13.4 Kernel: 13.4-RELEASE-p1 Compiler: clang 18.1.6 FreeBSD 14.2 Kernel: 14.2-RELEASE Compiler: clang 18.1.6 Fedora 40 (Clang) Kernel: Depends on container host Compiler: clang 18.1.8 (Fedora 18.1.8-1.fc40) RHEL9 Kernel: Depends on container host Compiler: gcc 11.5.0 20240719 (Red Hat 11.5.0-2) Windows Server 2022 Kernel: 10.0.20348.2031 Compiler: clang 15.0.7, gcc 14.1.0 (MinGW), and MSVC VS 19.39.33521 To view detailed results, visit: https://lab.dpdk.org/results/dashboard/tarballs/32001/ UNH-IOL DPDK Community Lab To manage your email subscriptions, visit: https://lab.dpdk.org/results/dashboard/preferences/subscriptions/