From mboxrd@z Thu Jan 1 00:00:00 1970 Return-Path: Received: from mails.dpdk.org (mails.dpdk.org [217.70.189.124]) by inbox.dpdk.org (Postfix) with ESMTP id CC7A3461BF for ; Fri, 7 Feb 2025 20:59:13 +0100 (CET) Received: from mails.dpdk.org (localhost [127.0.0.1]) by mails.dpdk.org (Postfix) with ESMTP id C469640290; Fri, 7 Feb 2025 20:59:13 +0100 (CET) Received: from mail-qv1-f99.google.com (mail-qv1-f99.google.com [209.85.219.99]) by mails.dpdk.org (Postfix) with ESMTP id AF3CC4026C for ; Fri, 7 Feb 2025 20:59:12 +0100 (CET) Received: by mail-qv1-f99.google.com with SMTP id 6a1803df08f44-6dcdd9a3e54so23949376d6.3 for ; Fri, 07 Feb 2025 11:59:12 -0800 (PST) DKIM-Signature: v=1; a=rsa-sha256; c=relaxed/relaxed; d=iol.unh.edu; s=unh-iol; t=1738958352; x=1739563152; darn=dpdk.org; h=references:in-reply-to:cc:to:from:subject:message-id:date:from:to :cc:subject:date:message-id:reply-to; bh=lD+dCQfHOJH5J00DLclLHxtxNzJ1vcl9bdLdUuHGO00=; b=C7MZpteZTv/VJ3XRoOXgo9BYZOWF8mzeVz4Pf2851yp82iEMuNqPg1MmVrDnHQUmFS gnXkixG9UyMzsqNlvGbV+XsT1047vCgH1kSv6xEpXiSbimaZQwa4Dn924WP7be4ZNnwb VPxvwE1d/EbKXUk1wCPNDWiMHvVn3eCX5Z7/8= X-Google-DKIM-Signature: v=1; a=rsa-sha256; c=relaxed/relaxed; d=1e100.net; s=20230601; t=1738958352; x=1739563152; h=references:in-reply-to:cc:to:from:subject:message-id:date :x-gm-message-state:from:to:cc:subject:date:message-id:reply-to; bh=lD+dCQfHOJH5J00DLclLHxtxNzJ1vcl9bdLdUuHGO00=; b=KHeOE3B+WkkwoF9yQn437rMxnhTDxaJxQqsZchUs1JaTNnzS8qTlf1FQwI0XZJzmBR pRiyqt+ypVHhLBB0ed8Y1c0FRCgo1fWgD7qXj2nZHFZdzOd9ymwpcjm72p+akMBtDEA+ 6eZDA2OOpZU80wTeyW8qG5QAFfwa6qpwQ9eZ8lgI46XM3XTLTOdXFaaarXNOhovHK1hb KhNdLfbq1116F/H4XUYA+iswImzTb7YRSMViRdieCQuf2+eQw2LMHZCtPjbLkIXXw4Ff kBDhWG4mPvIlUTNczsjSskx5LcqdnZxajUx8vN4R6ocwkjpjKqN9YM1CmwG8UM+pYD3b VcZw== X-Gm-Message-State: AOJu0YyLZSIjWHKe/NTygWWSaaLOSgudwBcdoP09vnTwHEWxprx9p0lb ip8vdX9yJc3qLp0gXrQPL7LbJPT/04wqtoAV9bVL961r1ICDvHkVgbnETbGYOJF6PtTmNlnp9yU wZqrMJnJLEjoQxXnaPH2cwb5XunU1FC2L23qhd/oZ X-Gm-Gg: ASbGncuLespI/BvHJidbBsAzPexYlWB2OqbBc7DhNrvww4WXYnI4WUZ/q0HpnNTX9CM 5tBiQaNfD7ou2Qu7efNepu3DsFxf1FqCCKfbJPBjtTfZ9/sS0vJvOG5EUDsF8Pw+I0boqjl/arS kPUghYNwSIhEhHlBJ56zi4DsgBNmA0DuQFw/ynmwJSzwHzKYHNbkgUh6+f/B7kJ+gWqe1rWDbd3 LbDBdlb4l/fGEsSuyWySt1RVot//LnixbRHRp3Rfbl0iP8QPacIvfdemWADFPixaygbhaAHojHW MD2drGbJ9mQmf8mAoG4kfhuxewpC3Q== X-Google-Smtp-Source: AGHT+IE+YfBsG/bx5WSuPkmtvAbW3wsaVP/iQy2K1C67K4AjedzHdSeREQp5VSmlOJVrstaQeHq0LV7jVALN X-Received: by 2002:ad4:5d67:0:b0:6e1:fe68:11c1 with SMTP id 6a1803df08f44-6e4455f1e25mr61876886d6.14.1738958352164; Fri, 07 Feb 2025 11:59:12 -0800 (PST) Received: from postal.iol.unh.edu (postal.iol.unh.edu. [132.177.123.84]) by smtp-relay.gmail.com with ESMTPS id d75a77b69052e-47149276ac9sm1973801cf.4.2025.02.07.11.59.12 (version=TLS1_2 cipher=ECDHE-ECDSA-AES128-GCM-SHA256 bits=128/128); Fri, 07 Feb 2025 11:59:12 -0800 (PST) X-Relaying-Domain: iol.unh.edu Date: Fri, 07 Feb 2025 11:59:12 -0800 (PST) Message-ID: <67a66610.c80a0220.3abfa8.a3dfSMTPIN_ADDED_MISSING@mx.google.com> Received: from [172.21.0.10] (unknown [172.18.0.240]) by postal.iol.unh.edu (Postfix) with ESMTP id D7C8A6052483; Fri, 7 Feb 2025 14:59:11 -0500 (EST) Subject: |SUCCESS| pw149320-149324 [PATCH] [v2,5/5] vhost: use strlcpy instea From: dpdklab@iol.unh.edu To: Test Report Cc: dpdk-test-reports@iol.unh.edu In-Reply-To: <20241219225253.782792-6-stephen@networkplumber.org> References: <20241219225253.782792-6-stephen@networkplumber.org> Content-Type: text/plain X-BeenThere: test-report@dpdk.org X-Mailman-Version: 2.1.29 Precedence: list List-Id: automatic DPDK test reports List-Unsubscribe: , List-Archive: List-Post: List-Help: List-Subscribe: , Errors-To: test-report-bounces@dpdk.org Test-Label: iol-compile-amd64-testing Test-Status: SUCCESS http://dpdk.org/patch/149324 _Testing PASS RETEST #1_ Submitter: Stephen Hemminger Date: Thursday, December 19 2024 22:49:55 DPDK git baseline: Repo:dpdk Branch: master CommitID:94ad302b4ebba4a5b6706a1c43ea0505e5098169 149320-149324 --> testing pass Test environment and result as below: +---------------------+--------------------+------------------+-------------------+-------------------+-------------------------+----------------------+ | Environment | dpdk_meson_compile | dpdk_compile_ovs | dpdk_compile_spdk | dpdk_msvc_compile | dpdk_llvm_clang_compile | dpdk_mingw64_compile | +=====================+====================+==================+===================+===================+=========================+======================+ | Fedora 39 (Clang) | PASS | PASS | PASS | SKIPPED | SKIPPED | SKIPPED | +---------------------+--------------------+------------------+-------------------+-------------------+-------------------------+----------------------+ | Fedora 39 | PASS | PASS | PASS | SKIPPED | SKIPPED | SKIPPED | +---------------------+--------------------+------------------+-------------------+-------------------+-------------------------+----------------------+ | Fedora 40 (Clang) | PASS | PASS | PASS | SKIPPED | SKIPPED | SKIPPED | +---------------------+--------------------+------------------+-------------------+-------------------+-------------------------+----------------------+ | openSUSE Leap 15 | PASS | SKIPPED | SKIPPED | SKIPPED | SKIPPED | SKIPPED | +---------------------+--------------------+------------------+-------------------+-------------------+-------------------------+----------------------+ | RHEL8 | PASS | PASS | SKIPPED | SKIPPED | SKIPPED | SKIPPED | +---------------------+--------------------+------------------+-------------------+-------------------+-------------------------+----------------------+ | Fedora 40 | PASS | PASS | PASS | SKIPPED | SKIPPED | SKIPPED | +---------------------+--------------------+------------------+-------------------+-------------------+-------------------------+----------------------+ | RHEL9 | PASS | PASS | SKIPPED | SKIPPED | SKIPPED | SKIPPED | +---------------------+--------------------+------------------+-------------------+-------------------+-------------------------+----------------------+ | Ubuntu 24.04 | PASS | PASS | PASS | SKIPPED | SKIPPED | SKIPPED | +---------------------+--------------------+------------------+-------------------+-------------------+-------------------------+----------------------+ | Ubuntu 22.04 | PASS | PASS | PASS | SKIPPED | SKIPPED | SKIPPED | +---------------------+--------------------+------------------+-------------------+-------------------+-------------------------+----------------------+ | Alpine | PASS | PASS | SKIPPED | SKIPPED | SKIPPED | SKIPPED | +---------------------+--------------------+------------------+-------------------+-------------------+-------------------------+----------------------+ | FreeBSD 13.4 | PASS | SKIPPED | SKIPPED | SKIPPED | SKIPPED | SKIPPED | +---------------------+--------------------+------------------+-------------------+-------------------+-------------------------+----------------------+ | CentOS Stream 9 | PASS | PASS | PASS | SKIPPED | SKIPPED | SKIPPED | +---------------------+--------------------+------------------+-------------------+-------------------+-------------------------+----------------------+ | FreeBSD 14.2 | PASS | SKIPPED | SKIPPED | SKIPPED | SKIPPED | SKIPPED | +---------------------+--------------------+------------------+-------------------+-------------------+-------------------------+----------------------+ | Debian 12 | PASS | PASS | PASS | SKIPPED | SKIPPED | SKIPPED | +---------------------+--------------------+------------------+-------------------+-------------------+-------------------------+----------------------+ | Ubuntu 20.04 | PASS | SKIPPED | SKIPPED | SKIPPED | SKIPPED | SKIPPED | +---------------------+--------------------+------------------+-------------------+-------------------+-------------------------+----------------------+ | Debian Bullseye | PASS | PASS | PASS | SKIPPED | SKIPPED | SKIPPED | +---------------------+--------------------+------------------+-------------------+-------------------+-------------------------+----------------------+ | Fedora 41 (Clang) | PASS | PASS | PASS | SKIPPED | SKIPPED | SKIPPED | +---------------------+--------------------+------------------+-------------------+-------------------+-------------------------+----------------------+ | Fedora 41 | PASS | PASS | PASS | SKIPPED | SKIPPED | SKIPPED | +---------------------+--------------------+------------------+-------------------+-------------------+-------------------------+----------------------+ | Windows Server 2022 | SKIPPED | SKIPPED | SKIPPED | PASS | PASS | PASS | +---------------------+--------------------+------------------+-------------------+-------------------+-------------------------+----------------------+ Fedora 39 (Clang) Kernel: Depends on container host Compiler: clang 17.0.6 (Fedora 17.0.6-2.fc39) Fedora 39 Kernel: Depends on container host Compiler: gcc 13.3.1 20240522 (Red Hat 13.3.1-1) Fedora 40 (Clang) Kernel: Depends on container host Compiler: clang 18.1.8 (Fedora 18.1.8-1.fc40) openSUSE Leap 15 Kernel: Depends on container host Compiler: gcc (SUSE Linux) 7.5.0 RHEL8 Kernel: Depends on container host Compiler: gcc 8.5.0 20210514 (Red Hat 8.5.0-22) Fedora 40 Kernel: Depends on container host Compiler: gcc 14.2.1 20240912 (Red Hat 14.2.1-3) RHEL9 Kernel: Depends on container host Compiler: gcc 11.5.0 20240719 (Red Hat 11.5.0-2) Ubuntu 24.04 Kernel: Depends on container host Compiler: gcc (Ubuntu 13.3.0-6ubuntu2~24.04) 13.3.0 Ubuntu 22.04 Kernel: Depends on container host Compiler: gcc (Ubuntu 11.4.0-1ubuntu1~22.04) 11.4.0 Alpine Kernel: Depends on container host Compiler: gcc (Alpine 14.2.0) 14.2.0 FreeBSD 13.4 Kernel: 13.4-RELEASE-p1 Compiler: clang 18.1.6 CentOS Stream 9 Kernel: Depends on container host Compiler: gcc 11.5.0 20240719 (Red Hat 11.5.0-2) FreeBSD 14.2 Kernel: 14.2-RELEASE Compiler: clang 18.1.6 Debian 12 Kernel: Depends on container host Compiler: gcc (Debian 12.2.0-14) 12.2.0 Ubuntu 20.04 Kernel: Depends on container host Compiler: gcc (Ubuntu 9.4.0-1ubuntu1~20.04.2) 9.4.0 Debian Bullseye Kernel: Depends on container host Compiler: gcc (Debian 10.2.1-6) 10.2.1 20210110 Fedora 41 (Clang) Kernel: Depends on container host Compiler: clang 19.1.5 (Fedora 19.1.5-1.fc41) Fedora 41 Kernel: Depends on container host Compiler: gcc 14.2.1 20240912 (Red Hat 14.2.1-3) Windows Server 2022 Kernel: 10.0.20348.2031 Compiler: clang 15.0.7, gcc 14.1.0 (MinGW), and MSVC VS 19.39.33521 To view detailed results, visit: https://lab.dpdk.org/results/dashboard/patchsets/32175/ UNH-IOL DPDK Community Lab To manage your email subscriptions, visit: https://lab.dpdk.org/results/dashboard/preferences/subscriptions/