From mboxrd@z Thu Jan 1 00:00:00 1970 Return-Path: Received: from mails.dpdk.org (mails.dpdk.org [217.70.189.124]) by inbox.dpdk.org (Postfix) with ESMTP id E0652461BF for ; Fri, 7 Feb 2025 20:59:15 +0100 (CET) Received: from mails.dpdk.org (localhost [127.0.0.1]) by mails.dpdk.org (Postfix) with ESMTP id D9CCD40290; Fri, 7 Feb 2025 20:59:15 +0100 (CET) Received: from mail-il1-f225.google.com (mail-il1-f225.google.com [209.85.166.225]) by mails.dpdk.org (Postfix) with ESMTP id CD5EC4026C for ; Fri, 7 Feb 2025 20:59:14 +0100 (CET) Received: by mail-il1-f225.google.com with SMTP id e9e14a558f8ab-3d04d767d3aso18849255ab.2 for ; Fri, 07 Feb 2025 11:59:14 -0800 (PST) DKIM-Signature: v=1; a=rsa-sha256; c=relaxed/relaxed; d=iol.unh.edu; s=unh-iol; t=1738958354; x=1739563154; darn=dpdk.org; h=references:in-reply-to:cc:to:from:subject:message-id:date:from:to :cc:subject:date:message-id:reply-to; bh=WKdkDmCgxZ3L+SowHykzuPuURRbvmgKJEzA6qIyIYuY=; b=G92Qy4P0uCNCHHlv1Mfb7bx8oKQOzMkTXhTLD0eQg0BlU/KlFoJ/zvRezf3wXYXgir ejVq3M2C3IVu15Bpi0/HrXHcwI7AWAccvHpNeplYT4FzwherUVHbdFImwGS8GiXrC04+ o/Q8R2CNezAu5FmQkp4Yp2KoJQVZtVNkPOjio= X-Google-DKIM-Signature: v=1; a=rsa-sha256; c=relaxed/relaxed; d=1e100.net; s=20230601; t=1738958354; x=1739563154; h=references:in-reply-to:cc:to:from:subject:message-id:date :x-gm-message-state:from:to:cc:subject:date:message-id:reply-to; bh=WKdkDmCgxZ3L+SowHykzuPuURRbvmgKJEzA6qIyIYuY=; b=mZmrnly9P6zDPONcpg5+/i24KlBktGDc3TX8xVNeBAs44FFQo/tM9KReNFpDuB8MEV LTQIrYZ+2Z6xm5qxVbeM+yrweXyepxgc7+4m9O4T2t9oAUlylaXpCJxWUgCWTQCDtcLc +cRwCfXk0EspreIQhSBb5URVkXTqyzCgBF57+vGKp1YQn3znS/c8Gm4JhLsQ6toyn5DL GKpzDSjUkJhRMZEIQXFJm167ulmnzUGRB+8svvIlsJSB+gFngIXeWKrtHpRJw3ouX68l Lzl0UWH6ey96b59OjrtircvGkfNhD+3t+Od5S92DDI0sr07VAGYvI0MuYTadp9oRTcpE ZwbQ== X-Gm-Message-State: AOJu0YzTARa9ztOW3xFEfvcU9Eoj2gUnvEQ1I6Y+CbktGBUovby2STfF eboJ22b3n/IfgOXZWvWD1wRGfDqBNRWyN1qZCESy3bNmA2DHm+fcmrgnkn1bJUrRwR08nZbSrXt Hg9Fsx4Hnv99mwa641YKt2KOgdHe6ZqCx4W32XxdI X-Gm-Gg: ASbGncvdDPRoOLygr+WLjJDnKqa/clhXyjEA9S3/krOMCoLTzI/hItHCikbCoBd0lf2 TAr7plwr2REso51pTG+cMJ4HZn7/P1kMfbn/M3HOV91BVpRucAmfRegMyE4jbBOJ5JOt48dEz3E FQk9+X+B0231tnXzMgG4rYSf61ssGLL0U42YDu/7hGUoMuVbua0Fnm1WuiTSND+VheAk3JZskKa TOn/DWx46kteCzaGYOcBYoalnIxtifcurRV85pjzoCKiU/dtyxRitmeT96SzZtEc89kFNjLPHaI ijNe0UfmMh3Na11KBDStPlP5JbmNTg== X-Google-Smtp-Source: AGHT+IE3M+SHzh0BsRAXBJRyrxMDksLhifZzAqDHwdnGxdR++3ZHL1A/81o4KejZC3oT1SqrpptyZisXnH4m X-Received: by 2002:a05:6e02:3421:b0:3cf:f9e0:f4ae with SMTP id e9e14a558f8ab-3d13dea61f1mr39561045ab.6.1738958354173; Fri, 07 Feb 2025 11:59:14 -0800 (PST) Received: from postal.iol.unh.edu (postal.iol.unh.edu. [132.177.123.84]) by smtp-relay.gmail.com with ESMTPS id e9e14a558f8ab-3d05e8d92bbsm2725725ab.12.2025.02.07.11.59.14 (version=TLS1_2 cipher=ECDHE-ECDSA-AES128-GCM-SHA256 bits=128/128); Fri, 07 Feb 2025 11:59:14 -0800 (PST) X-Relaying-Domain: iol.unh.edu Date: Fri, 07 Feb 2025 11:59:14 -0800 (PST) Message-ID: <67a66612.050a0220.270a68.e307SMTPIN_ADDED_MISSING@mx.google.com> Received: from [172.21.0.5] (unknown [172.18.0.240]) by postal.iol.unh.edu (Postfix) with ESMTP id A8BA9605247D; Fri, 7 Feb 2025 14:58:43 -0500 (EST) Subject: |SUCCESS| pw149327 [PATCH] [1/1] vhost: fix missing gso_size validit From: dpdklab@iol.unh.edu To: Test Report Cc: dpdk-test-reports@iol.unh.edu In-Reply-To: <6d3c97d4be3a43a45e9435478015f1ec546b14b6.1734663422.git.wangyunjian@huawei.com> References: <6d3c97d4be3a43a45e9435478015f1ec546b14b6.1734663422.git.wangyunjian@huawei.com> Content-Type: text/plain X-BeenThere: test-report@dpdk.org X-Mailman-Version: 2.1.29 Precedence: list List-Id: automatic DPDK test reports List-Unsubscribe: , List-Archive: List-Post: List-Help: List-Subscribe: , Errors-To: test-report-bounces@dpdk.org Test-Label: iol-compile-amd64-testing Test-Status: SUCCESS http://dpdk.org/patch/149327 _Testing PASS_ Submitter: Yunjian Wang Date: Friday, December 20 2024 03:45:09 DPDK git baseline: Repo:dpdk Branch: master CommitID:510b460e02594a70d4ce19e2d29df3ade8af36d7 149327 --> testing pass Test environment and result as below: +---------------------+--------------------+------------------+-------------------+-------------------+-------------------------+----------------------+ | Environment | dpdk_meson_compile | dpdk_compile_ovs | dpdk_compile_spdk | dpdk_msvc_compile | dpdk_llvm_clang_compile | dpdk_mingw64_compile | +=====================+====================+==================+===================+===================+=========================+======================+ | CentOS Stream 9 | PASS | PASS | PASS | SKIPPED | SKIPPED | SKIPPED | +---------------------+--------------------+------------------+-------------------+-------------------+-------------------------+----------------------+ | Fedora 39 (Clang) | PASS | PASS | PASS | SKIPPED | SKIPPED | SKIPPED | +---------------------+--------------------+------------------+-------------------+-------------------+-------------------------+----------------------+ | Fedora 40 (Clang) | PASS | PASS | PASS | SKIPPED | SKIPPED | SKIPPED | +---------------------+--------------------+------------------+-------------------+-------------------+-------------------------+----------------------+ | Fedora 39 | PASS | PASS | PASS | SKIPPED | SKIPPED | SKIPPED | +---------------------+--------------------+------------------+-------------------+-------------------+-------------------------+----------------------+ | RHEL8 | PASS | PASS | SKIPPED | SKIPPED | SKIPPED | SKIPPED | +---------------------+--------------------+------------------+-------------------+-------------------+-------------------------+----------------------+ | RHEL9 | PASS | PASS | SKIPPED | SKIPPED | SKIPPED | SKIPPED | +---------------------+--------------------+------------------+-------------------+-------------------+-------------------------+----------------------+ | openSUSE Leap 15 | PASS | SKIPPED | SKIPPED | SKIPPED | SKIPPED | SKIPPED | +---------------------+--------------------+------------------+-------------------+-------------------+-------------------------+----------------------+ | Ubuntu 20.04 | PASS | SKIPPED | SKIPPED | SKIPPED | SKIPPED | SKIPPED | +---------------------+--------------------+------------------+-------------------+-------------------+-------------------------+----------------------+ | Ubuntu 22.04 | PASS | PASS | PASS | SKIPPED | SKIPPED | SKIPPED | +---------------------+--------------------+------------------+-------------------+-------------------+-------------------------+----------------------+ | Alpine | PASS | PASS | SKIPPED | SKIPPED | SKIPPED | SKIPPED | +---------------------+--------------------+------------------+-------------------+-------------------+-------------------------+----------------------+ | Ubuntu 24.04 | PASS | PASS | PASS | SKIPPED | SKIPPED | SKIPPED | +---------------------+--------------------+------------------+-------------------+-------------------+-------------------------+----------------------+ | FreeBSD 13.4 | PASS | SKIPPED | SKIPPED | SKIPPED | SKIPPED | SKIPPED | +---------------------+--------------------+------------------+-------------------+-------------------+-------------------------+----------------------+ | FreeBSD 14.2 | PASS | SKIPPED | SKIPPED | SKIPPED | SKIPPED | SKIPPED | +---------------------+--------------------+------------------+-------------------+-------------------+-------------------------+----------------------+ | Fedora 40 | PASS | PASS | PASS | SKIPPED | SKIPPED | SKIPPED | +---------------------+--------------------+------------------+-------------------+-------------------+-------------------------+----------------------+ | Windows Server 2022 | SKIPPED | SKIPPED | SKIPPED | PASS | PASS | PASS | +---------------------+--------------------+------------------+-------------------+-------------------+-------------------------+----------------------+ CentOS Stream 9 Kernel: Depends on container host Compiler: gcc 11.5.0 20240719 (Red Hat 11.5.0-2) Fedora 39 (Clang) Kernel: Depends on container host Compiler: clang 17.0.6 (Fedora 17.0.6-2.fc39) Fedora 40 (Clang) Kernel: Depends on container host Compiler: clang 18.1.8 (Fedora 18.1.8-1.fc40) Fedora 39 Kernel: Depends on container host Compiler: gcc 13.3.1 20240522 (Red Hat 13.3.1-1) RHEL8 Kernel: Depends on container host Compiler: gcc 8.5.0 20210514 (Red Hat 8.5.0-22) RHEL9 Kernel: Depends on container host Compiler: gcc 11.5.0 20240719 (Red Hat 11.5.0-2) openSUSE Leap 15 Kernel: Depends on container host Compiler: gcc (SUSE Linux) 7.5.0 Ubuntu 20.04 Kernel: Depends on container host Compiler: gcc (Ubuntu 9.4.0-1ubuntu1~20.04.2) 9.4.0 Ubuntu 22.04 Kernel: Depends on container host Compiler: gcc (Ubuntu 11.4.0-1ubuntu1~22.04) 11.4.0 Alpine Kernel: Depends on container host Compiler: gcc (Alpine 14.2.0) 14.2.0 Ubuntu 24.04 Kernel: Depends on container host Compiler: gcc (Ubuntu 13.3.0-6ubuntu2~24.04) 13.3.0 FreeBSD 13.4 Kernel: 13.4-RELEASE-p1 Compiler: clang 18.1.6 FreeBSD 14.2 Kernel: 14.2-RELEASE Compiler: clang 18.1.6 Fedora 40 Kernel: Depends on container host Compiler: gcc 14.2.1 20240912 (Red Hat 14.2.1-3) Windows Server 2022 Kernel: 10.0.20348.2031 Compiler: clang 15.0.7, gcc 14.1.0 (MinGW), and MSVC VS 19.39.33521 To view detailed results, visit: https://lab.dpdk.org/results/dashboard/patchsets/32178/ UNH-IOL DPDK Community Lab To manage your email subscriptions, visit: https://lab.dpdk.org/results/dashboard/preferences/subscriptions/