From mboxrd@z Thu Jan 1 00:00:00 1970 Return-Path: Received: from mails.dpdk.org (mails.dpdk.org [217.70.189.124]) by inbox.dpdk.org (Postfix) with ESMTP id F3EB5461C0 for ; Fri, 7 Feb 2025 20:59:15 +0100 (CET) Received: from mails.dpdk.org (localhost [127.0.0.1]) by mails.dpdk.org (Postfix) with ESMTP id F1027402C9; Fri, 7 Feb 2025 20:59:15 +0100 (CET) Received: from mail-yw1-f228.google.com (mail-yw1-f228.google.com [209.85.128.228]) by mails.dpdk.org (Postfix) with ESMTP id 655954026C for ; Fri, 7 Feb 2025 20:59:15 +0100 (CET) Received: by mail-yw1-f228.google.com with SMTP id 00721157ae682-6f678a27787so23803237b3.1 for ; Fri, 07 Feb 2025 11:59:15 -0800 (PST) DKIM-Signature: v=1; a=rsa-sha256; c=relaxed/relaxed; d=iol.unh.edu; s=unh-iol; t=1738958355; x=1739563155; darn=dpdk.org; h=references:in-reply-to:cc:to:from:subject:message-id:date:from:to :cc:subject:date:message-id:reply-to; bh=pa37MuTUe7wDwfkGE0+yZyM3rlVyiOBPlTEQKt2zrtM=; b=ZGL15B3UHHMke0DQ4grPEvAFhr1xTRvp35XgoTaYdNYfHaE+uQ8meLf3KHOroXCsRz oTRNl3CLjJdtB4Ek1ZhQG+G3/AdtynYGVcrNZaCGUtqaxI7mrP+Pk2m2YaoePLbCGBOc psk6yBYWn7+Ynq1J/pWEiYch/2ckydN+kdbDw= X-Google-DKIM-Signature: v=1; a=rsa-sha256; c=relaxed/relaxed; d=1e100.net; s=20230601; t=1738958355; x=1739563155; h=references:in-reply-to:cc:to:from:subject:message-id:date :x-gm-message-state:from:to:cc:subject:date:message-id:reply-to; bh=pa37MuTUe7wDwfkGE0+yZyM3rlVyiOBPlTEQKt2zrtM=; b=S80twdJJ2EUGjSDo2iZj91PFKy5lEPugDmUZqSwp811cKxYVQxNwCgnOInP/rRQCkU MIJ6VRmw97QyIfwsTWICVB8Z4jiKFANUuauHT9PLl7HPIYZHDSLn3PnWejmPpWpQTFeS Qj+r6SuEqVB2Ojuz9VeacggVrYj2Sj7my7JZEJ8XB9g9IleJKwZiyLIu65AzXoBIfwO2 hsjDg1t+4ujD5ZbU1dTE63QvQnUmJwKXytZO4oqMvLMerakshwV8JYz370cPYBQSIBsw ScZL9UXo25Ai1M9kx7GEMsfg5Xlh7RH861u/yKl2fKcolZsRslE7YPlGtPOzJpuZhxwR QA4A== X-Gm-Message-State: AOJu0YxBemKqgFqzbW2xPgBFNwaXx0S/USdZkxhHasKD5FqUAd2NLyXO put7yNJc5htv9ZVhwH8beud/X4GdiEos0nFr/cfnAI9Bx56PZwniQbhXOzGH17pVTSJ2yIf51pY S1StZFCr/W+Fh6MR1b8D7IhyZqVoLmnxYlcrnqK6v X-Gm-Gg: ASbGncsgN0NZWNJgjhMzG844yye5WufsPEyCqdUhcbFoh1Gc8aJdnsqFGQT1OUqSOq5 DYBlF6+xeuuJHslxsIxZP2KM3+sPOsC0bXttlSetskvAZGfFqMTWNeEtll2ruA2MFyClT6jyLxW wRyclxC6000oD5RwGKdzeFKI6x5i7D+upVrjYPV5sSTCzCBsCQ/d3aM3X4H6V91JFqAuZrJbr3u brWhreFJlIZqnRrsw5zqa2LBpyL/7UziKpfqrZEx1Ze7ChoQTexLHyjW3vM3UN6tgWh7xVc4xc3 s1BauOdjMYlTZY+3yj7rF1X3UM03bw== X-Google-Smtp-Source: AGHT+IHjsPT+CeFF0FthHu0jw06WWj+hyi8malwGoefKtqZv3RiYk8FgJ/bCIAwkBaMkSlzUu43uFzvMENdT X-Received: by 2002:a05:690c:62c1:b0:6ef:6eba:1d4f with SMTP id 00721157ae682-6f9b284411fmr46993337b3.1.1738958354792; Fri, 07 Feb 2025 11:59:14 -0800 (PST) Received: from postal.iol.unh.edu (postal.iol.unh.edu. [132.177.123.84]) by smtp-relay.gmail.com with ESMTPS id 00721157ae682-6f99ff947a4sm556897b3.47.2025.02.07.11.59.14 (version=TLS1_2 cipher=ECDHE-ECDSA-AES128-GCM-SHA256 bits=128/128); Fri, 07 Feb 2025 11:59:14 -0800 (PST) X-Relaying-Domain: iol.unh.edu Date: Fri, 07 Feb 2025 11:59:14 -0800 (PST) Message-ID: <67a66612.050a0220.abf35.2a77SMTPIN_ADDED_MISSING@mx.google.com> Received: from [172.21.0.9] (unknown [172.18.0.240]) by postal.iol.unh.edu (Postfix) with ESMTP id 6FDEC605247D; Fri, 7 Feb 2025 14:59:14 -0500 (EST) Subject: |SUCCESS| pw149325 [PATCH] pdump: clear statistics when enabled From: dpdklab@iol.unh.edu To: Test Report Cc: dpdk-test-reports@iol.unh.edu In-Reply-To: <20241219235853.854132-1-stephen@networkplumber.org> References: <20241219235853.854132-1-stephen@networkplumber.org> Content-Type: text/plain X-BeenThere: test-report@dpdk.org X-Mailman-Version: 2.1.29 Precedence: list List-Id: automatic DPDK test reports List-Unsubscribe: , List-Archive: List-Post: List-Help: List-Subscribe: , Errors-To: test-report-bounces@dpdk.org Test-Label: iol-compile-amd64-testing Test-Status: SUCCESS http://dpdk.org/patch/149325 _Testing PASS_ Submitter: Stephen Hemminger Date: Thursday, December 19 2024 23:58:53 DPDK git baseline: Repo:dpdk Branch: master CommitID:07604f264417959d76aa9fcb8cb0c3665f62f0d3 149325 --> testing pass Test environment and result as below: +---------------------+--------------------+------------------+-------------------+-------------------------+-------------------+----------------------+ | Environment | dpdk_meson_compile | dpdk_compile_ovs | dpdk_compile_spdk | dpdk_llvm_clang_compile | dpdk_msvc_compile | dpdk_mingw64_compile | +=====================+====================+==================+===================+=========================+===================+======================+ | CentOS Stream 9 | PASS | PASS | PASS | SKIPPED | SKIPPED | SKIPPED | +---------------------+--------------------+------------------+-------------------+-------------------------+-------------------+----------------------+ | Debian 12 | PASS | PASS | PASS | SKIPPED | SKIPPED | SKIPPED | +---------------------+--------------------+------------------+-------------------+-------------------------+-------------------+----------------------+ | Fedora 40 (Clang) | PASS | PASS | PASS | SKIPPED | SKIPPED | SKIPPED | +---------------------+--------------------+------------------+-------------------+-------------------------+-------------------+----------------------+ | openSUSE Leap 15 | PASS | SKIPPED | SKIPPED | SKIPPED | SKIPPED | SKIPPED | +---------------------+--------------------+------------------+-------------------+-------------------------+-------------------+----------------------+ | Fedora 39 (Clang) | PASS | PASS | PASS | SKIPPED | SKIPPED | SKIPPED | +---------------------+--------------------+------------------+-------------------+-------------------------+-------------------+----------------------+ | Fedora 39 | PASS | PASS | PASS | SKIPPED | SKIPPED | SKIPPED | +---------------------+--------------------+------------------+-------------------+-------------------------+-------------------+----------------------+ | RHEL8 | PASS | PASS | SKIPPED | SKIPPED | SKIPPED | SKIPPED | +---------------------+--------------------+------------------+-------------------+-------------------------+-------------------+----------------------+ | Ubuntu 20.04 | PASS | SKIPPED | SKIPPED | SKIPPED | SKIPPED | SKIPPED | +---------------------+--------------------+------------------+-------------------+-------------------------+-------------------+----------------------+ | Ubuntu 22.04 | PASS | PASS | PASS | SKIPPED | SKIPPED | SKIPPED | +---------------------+--------------------+------------------+-------------------+-------------------------+-------------------+----------------------+ | FreeBSD 13.4 | PASS | SKIPPED | SKIPPED | SKIPPED | SKIPPED | SKIPPED | +---------------------+--------------------+------------------+-------------------+-------------------------+-------------------+----------------------+ | FreeBSD 14.2 | PASS | SKIPPED | SKIPPED | SKIPPED | SKIPPED | SKIPPED | +---------------------+--------------------+------------------+-------------------+-------------------------+-------------------+----------------------+ | Fedora 40 | PASS | PASS | PASS | SKIPPED | SKIPPED | SKIPPED | +---------------------+--------------------+------------------+-------------------+-------------------------+-------------------+----------------------+ | Ubuntu 24.04 | PASS | PASS | PASS | SKIPPED | SKIPPED | SKIPPED | +---------------------+--------------------+------------------+-------------------+-------------------------+-------------------+----------------------+ | RHEL9 | PASS | PASS | SKIPPED | SKIPPED | SKIPPED | SKIPPED | +---------------------+--------------------+------------------+-------------------+-------------------------+-------------------+----------------------+ | Alpine | PASS | PASS | SKIPPED | SKIPPED | SKIPPED | SKIPPED | +---------------------+--------------------+------------------+-------------------+-------------------------+-------------------+----------------------+ | Windows Server 2022 | SKIPPED | SKIPPED | SKIPPED | PASS | PASS | PASS | +---------------------+--------------------+------------------+-------------------+-------------------------+-------------------+----------------------+ CentOS Stream 9 Kernel: Depends on container host Compiler: gcc 11.5.0 20240719 (Red Hat 11.5.0-2) Debian 12 Kernel: Depends on container host Compiler: gcc (Debian 12.2.0-14) 12.2.0 Fedora 40 (Clang) Kernel: Depends on container host Compiler: clang 18.1.8 (Fedora 18.1.8-1.fc40) openSUSE Leap 15 Kernel: Depends on container host Compiler: gcc (SUSE Linux) 7.5.0 Fedora 39 (Clang) Kernel: Depends on container host Compiler: clang 17.0.6 (Fedora 17.0.6-2.fc39) Fedora 39 Kernel: Depends on container host Compiler: gcc 13.3.1 20240522 (Red Hat 13.3.1-1) RHEL8 Kernel: Depends on container host Compiler: gcc 8.5.0 20210514 (Red Hat 8.5.0-22) Ubuntu 20.04 Kernel: Depends on container host Compiler: gcc (Ubuntu 9.4.0-1ubuntu1~20.04.2) 9.4.0 Ubuntu 22.04 Kernel: Depends on container host Compiler: gcc (Ubuntu 11.4.0-1ubuntu1~22.04) 11.4.0 FreeBSD 13.4 Kernel: 13.4-RELEASE-p1 Compiler: clang 18.1.6 FreeBSD 14.2 Kernel: 14.2-RELEASE Compiler: clang 18.1.6 Fedora 40 Kernel: Depends on container host Compiler: gcc 14.2.1 20240912 (Red Hat 14.2.1-3) Ubuntu 24.04 Kernel: Depends on container host Compiler: gcc (Ubuntu 13.3.0-6ubuntu2~24.04) 13.3.0 RHEL9 Kernel: Depends on container host Compiler: gcc 11.5.0 20240719 (Red Hat 11.5.0-2) Alpine Kernel: Depends on container host Compiler: gcc (Alpine 14.2.0) 14.2.0 Windows Server 2022 Kernel: 10.0.20348.2031 Compiler: clang 15.0.7, gcc 14.1.0 (MinGW), and MSVC VS 19.39.33521 To view detailed results, visit: https://lab.dpdk.org/results/dashboard/patchsets/32176/ UNH-IOL DPDK Community Lab To manage your email subscriptions, visit: https://lab.dpdk.org/results/dashboard/preferences/subscriptions/