From mboxrd@z Thu Jan 1 00:00:00 1970 Return-Path: Received: from mails.dpdk.org (mails.dpdk.org [217.70.189.124]) by inbox.dpdk.org (Postfix) with ESMTP id 15E94461BF for ; Fri, 7 Feb 2025 20:59:26 +0100 (CET) Received: from mails.dpdk.org (localhost [127.0.0.1]) by mails.dpdk.org (Postfix) with ESMTP id 1182640290; Fri, 7 Feb 2025 20:59:26 +0100 (CET) Received: from mail-pl1-f227.google.com (mail-pl1-f227.google.com [209.85.214.227]) by mails.dpdk.org (Postfix) with ESMTP id 8DCAD4026C for ; Fri, 7 Feb 2025 20:59:24 +0100 (CET) Received: by mail-pl1-f227.google.com with SMTP id d9443c01a7336-21f44e7eae4so34454535ad.2 for ; Fri, 07 Feb 2025 11:59:24 -0800 (PST) DKIM-Signature: v=1; a=rsa-sha256; c=relaxed/relaxed; d=iol.unh.edu; s=unh-iol; t=1738958364; x=1739563164; darn=dpdk.org; h=references:in-reply-to:cc:to:from:subject:message-id:date:from:to :cc:subject:date:message-id:reply-to; bh=BL1LOT7j+ccnVW4qcztV+HX0APREVqTxAXcsxKuLdWw=; b=E65FbesADntFXUR6ZGSPerN9btpYqUobtzZ5bYeiewaSWFrY6lUZnMZGpnPwyy6WnJ gpdzq8WOrKz68+M52GGD8NzKILSe46HIDcq3kefpCV9dCmWbvIdVveKR23qbvfH6zGBy AsQjF2NMVnfuwec9EkzbtlxZDhylj0NqqhYcM= X-Google-DKIM-Signature: v=1; a=rsa-sha256; c=relaxed/relaxed; d=1e100.net; s=20230601; t=1738958364; x=1739563164; h=references:in-reply-to:cc:to:from:subject:message-id:date :x-gm-message-state:from:to:cc:subject:date:message-id:reply-to; bh=BL1LOT7j+ccnVW4qcztV+HX0APREVqTxAXcsxKuLdWw=; b=p02ZbPBsrrWeyCMRgDc+JH7zaF9YQ7Ag+zpyp5etefPkRFA43UbcwLTJ/DKtLWcFfv GxnLOh2nxROrl0K/xk/EAif9tGnDDWzq/Bca0bjHG3YekZk/c3gm9QF4Ii+GQtRRC7LL 5S/yodNyIHrF1Q4Q95Exz79KxjY1FKoxHmJWg5iKHH0bOYK4xey3C3c9F3Mm9ptcr8Hw AIc8IDyFzy3/zwJGNvKKlTewJVqSJGSRVlSabes1b2+eoSlR+jv+qPHgmIaBScLkkUCk S2J3qxlfQTPXtZnJ9Ss6Xy7HwI6UyG40xBIEbA+CBoS4kC6qHS8C9pSHx3X+SvgWGsnm jmUQ== X-Gm-Message-State: AOJu0Yya7q0saj96emodlq+7liA3htT38LejcBYrrRNYUGY8E618uAcO k1VUrtx0mrElu0OEsaGcf0Vy/XpzAASXPmFK+fDLq/JCF2vCcwNXrhcB+GIk4X5aQ2Hf7geVgTs Qd5xI3f0fxdhhkXluLBYQ/U+A90K0M/ncHYj2LJ50 X-Gm-Gg: ASbGnctBPz28JZDBCsH0XsxAvOiTvQHUzIhvqJXFxmjMKCqteul9ztLqLH9ET8DEsiF TSP3QinoK+MsjFhVjbj+HPMJDc6bZMxRHCovBt148Z3lbBZQtx+FTv8dQjpJSFpYyldTBPaFp+v GkIQXaqA7tEdygE7tBh8oC24nf5ZxJkWGuiqB4ngcXK3jtnvidXkw9nK173IwNrBWaNQhjzcpwK sUCG7NQrZSsS1EHfT5jYP8K8HocuvbPeDqTcEL23N9x5JRVxJxBR+G+0oRtk/xEXvaEoKcGl/59 pp9uRz+0OkuLQfVyu2CJ8cX2EtRGjw== X-Google-Smtp-Source: AGHT+IEBCKiIrrg3347FH+bcRGyiwaiIG8b3CAhzPeNMO/uMcHuBA81w7YN4AHdR6B5iH3gUDAUzfmY0FlDW X-Received: by 2002:a17:903:234e:b0:216:554a:2127 with SMTP id d9443c01a7336-21f4e7636e1mr79273555ad.41.1738958363845; Fri, 07 Feb 2025 11:59:23 -0800 (PST) Received: from postal.iol.unh.edu (postal.iol.unh.edu. [132.177.123.84]) by smtp-relay.gmail.com with ESMTPS id d9443c01a7336-21f51a8e67dsm1304775ad.96.2025.02.07.11.59.23 (version=TLS1_2 cipher=ECDHE-ECDSA-AES128-GCM-SHA256 bits=128/128); Fri, 07 Feb 2025 11:59:23 -0800 (PST) X-Relaying-Domain: iol.unh.edu Date: Fri, 07 Feb 2025 11:59:23 -0800 (PST) Message-ID: <67a6661b.170a0220.df711.65c6SMTPIN_ADDED_MISSING@mx.google.com> Received: from [172.21.0.7] (unknown [172.18.0.240]) by postal.iol.unh.edu (Postfix) with ESMTP id 0117E605247D; Fri, 7 Feb 2025 14:59:19 -0500 (EST) Subject: |SUCCESS| pw149314 [PATCH] cryptodev: fix C++ include From: dpdklab@iol.unh.edu To: Test Report Cc: dpdk-test-reports@iol.unh.edu In-Reply-To: <20241219114555.406331-1-thomas@monjalon.net> References: <20241219114555.406331-1-thomas@monjalon.net> Content-Type: text/plain X-BeenThere: test-report@dpdk.org X-Mailman-Version: 2.1.29 Precedence: list List-Id: automatic DPDK test reports List-Unsubscribe: , List-Archive: List-Post: List-Help: List-Subscribe: , Errors-To: test-report-bounces@dpdk.org Test-Label: iol-compile-amd64-testing Test-Status: SUCCESS http://dpdk.org/patch/149314 _Testing PASS_ Submitter: Thomas Monjalon Date: Thursday, December 19 2024 11:45:54 DPDK git baseline: Repo:dpdk Branch: master CommitID:7df61db6c387703a36306c1aea92225921e2eeb2 149314 --> testing pass Test environment and result as below: +---------------------+--------------------+------------------+-------------------+-------------------------+-------------------+----------------------+ | Environment | dpdk_meson_compile | dpdk_compile_ovs | dpdk_compile_spdk | dpdk_llvm_clang_compile | dpdk_msvc_compile | dpdk_mingw64_compile | +=====================+====================+==================+===================+=========================+===================+======================+ | Fedora 39 (Clang) | PASS | PASS | PASS | SKIPPED | SKIPPED | SKIPPED | +---------------------+--------------------+------------------+-------------------+-------------------------+-------------------+----------------------+ | Debian 12 | PASS | PASS | PASS | SKIPPED | SKIPPED | SKIPPED | +---------------------+--------------------+------------------+-------------------+-------------------------+-------------------+----------------------+ | CentOS Stream 9 | PASS | PASS | PASS | SKIPPED | SKIPPED | SKIPPED | +---------------------+--------------------+------------------+-------------------+-------------------------+-------------------+----------------------+ | Fedora 39 | PASS | PASS | PASS | SKIPPED | SKIPPED | SKIPPED | +---------------------+--------------------+------------------+-------------------+-------------------------+-------------------+----------------------+ | Fedora 40 (Clang) | PASS | PASS | PASS | SKIPPED | SKIPPED | SKIPPED | +---------------------+--------------------+------------------+-------------------+-------------------------+-------------------+----------------------+ | Fedora 40 | PASS | PASS | PASS | SKIPPED | SKIPPED | SKIPPED | +---------------------+--------------------+------------------+-------------------+-------------------------+-------------------+----------------------+ | openSUSE Leap 15 | PASS | SKIPPED | SKIPPED | SKIPPED | SKIPPED | SKIPPED | +---------------------+--------------------+------------------+-------------------+-------------------------+-------------------+----------------------+ | RHEL8 | PASS | PASS | SKIPPED | SKIPPED | SKIPPED | SKIPPED | +---------------------+--------------------+------------------+-------------------+-------------------------+-------------------+----------------------+ | RHEL9 | PASS | PASS | SKIPPED | SKIPPED | SKIPPED | SKIPPED | +---------------------+--------------------+------------------+-------------------+-------------------------+-------------------+----------------------+ | Ubuntu 20.04 | PASS | SKIPPED | SKIPPED | SKIPPED | SKIPPED | SKIPPED | +---------------------+--------------------+------------------+-------------------+-------------------------+-------------------+----------------------+ | Ubuntu 22.04 | PASS | PASS | PASS | SKIPPED | SKIPPED | SKIPPED | +---------------------+--------------------+------------------+-------------------+-------------------------+-------------------+----------------------+ | Ubuntu 24.04 | PASS | PASS | PASS | SKIPPED | SKIPPED | SKIPPED | +---------------------+--------------------+------------------+-------------------+-------------------------+-------------------+----------------------+ | Alpine | PASS | PASS | SKIPPED | SKIPPED | SKIPPED | SKIPPED | +---------------------+--------------------+------------------+-------------------+-------------------------+-------------------+----------------------+ | FreeBSD 13.4 | PASS | SKIPPED | SKIPPED | SKIPPED | SKIPPED | SKIPPED | +---------------------+--------------------+------------------+-------------------+-------------------------+-------------------+----------------------+ | FreeBSD 14.2 | PASS | SKIPPED | SKIPPED | SKIPPED | SKIPPED | SKIPPED | +---------------------+--------------------+------------------+-------------------+-------------------------+-------------------+----------------------+ | Windows Server 2022 | SKIPPED | SKIPPED | SKIPPED | PASS | PASS | PASS | +---------------------+--------------------+------------------+-------------------+-------------------------+-------------------+----------------------+ Fedora 39 (Clang) Kernel: Depends on container host Compiler: clang 17.0.6 (Fedora 17.0.6-2.fc39) Debian 12 Kernel: Depends on container host Compiler: gcc (Debian 12.2.0-14) 12.2.0 CentOS Stream 9 Kernel: Depends on container host Compiler: gcc 11.5.0 20240719 (Red Hat 11.5.0-2) Fedora 39 Kernel: Depends on container host Compiler: gcc 13.3.1 20240522 (Red Hat 13.3.1-1) Fedora 40 (Clang) Kernel: Depends on container host Compiler: clang 18.1.8 (Fedora 18.1.8-1.fc40) Fedora 40 Kernel: Depends on container host Compiler: gcc 14.2.1 20240912 (Red Hat 14.2.1-3) openSUSE Leap 15 Kernel: Depends on container host Compiler: gcc (SUSE Linux) 7.5.0 RHEL8 Kernel: Depends on container host Compiler: gcc 8.5.0 20210514 (Red Hat 8.5.0-22) RHEL9 Kernel: Depends on container host Compiler: gcc 11.5.0 20240719 (Red Hat 11.5.0-2) Ubuntu 20.04 Kernel: Depends on container host Compiler: gcc (Ubuntu 9.4.0-1ubuntu1~20.04.2) 9.4.0 Ubuntu 22.04 Kernel: Depends on container host Compiler: gcc (Ubuntu 11.4.0-1ubuntu1~22.04) 11.4.0 Ubuntu 24.04 Kernel: Depends on container host Compiler: gcc (Ubuntu 13.3.0-6ubuntu2~24.04) 13.3.0 Alpine Kernel: Depends on container host Compiler: gcc (Alpine 14.2.0) 14.2.0 FreeBSD 13.4 Kernel: 13.4-RELEASE-p1 Compiler: clang 18.1.6 FreeBSD 14.2 Kernel: 14.2-RELEASE Compiler: clang 18.1.6 Windows Server 2022 Kernel: 10.0.20348.2031 Compiler: clang 15.0.7, gcc 14.1.0 (MinGW), and MSVC VS 19.39.33521 To view detailed results, visit: https://lab.dpdk.org/results/dashboard/patchsets/32169/ UNH-IOL DPDK Community Lab To manage your email subscriptions, visit: https://lab.dpdk.org/results/dashboard/preferences/subscriptions/