From mboxrd@z Thu Jan 1 00:00:00 1970 Return-Path: Received: from mails.dpdk.org (mails.dpdk.org [217.70.189.124]) by inbox.dpdk.org (Postfix) with ESMTP id 50E0F461BF for ; Fri, 7 Feb 2025 20:59:32 +0100 (CET) Received: from mails.dpdk.org (localhost [127.0.0.1]) by mails.dpdk.org (Postfix) with ESMTP id 4CBCF40290; Fri, 7 Feb 2025 20:59:32 +0100 (CET) Received: from mail-oa1-f100.google.com (mail-oa1-f100.google.com [209.85.160.100]) by mails.dpdk.org (Postfix) with ESMTP id 7CB4C4026C for ; Fri, 7 Feb 2025 20:59:30 +0100 (CET) Received: by mail-oa1-f100.google.com with SMTP id 586e51a60fabf-2b85d1a9091so66669fac.0 for ; Fri, 07 Feb 2025 11:59:30 -0800 (PST) DKIM-Signature: v=1; a=rsa-sha256; c=relaxed/relaxed; d=iol.unh.edu; s=unh-iol; t=1738958370; x=1739563170; darn=dpdk.org; h=cc:to:from:subject:message-id:date:from:to:cc:subject:date :message-id:reply-to; bh=xMkDm8/hC1WGBQDZckNIkIKTWKMz8Gkcw8ffvMaprFY=; b=K6kA5gtnQdMO8syvUY4i5Ow/YPnYvfXL7SEVuQtzsf/mSb5ENrMuaAUxCBbu3Em6yF HLGO0RGPk8zYuoB/9oq+NKfodx87Z4FI608qA9yZB5txprE/Fk0B3IXPB4h0gtsI52GP OkhMdN/cUiVh6GV0e7zaC2OPb9XuRh6QFZvpM= X-Google-DKIM-Signature: v=1; a=rsa-sha256; c=relaxed/relaxed; d=1e100.net; s=20230601; t=1738958370; x=1739563170; h=cc:to:from:subject:message-id:date:x-gm-message-state:from:to:cc :subject:date:message-id:reply-to; bh=xMkDm8/hC1WGBQDZckNIkIKTWKMz8Gkcw8ffvMaprFY=; b=J1gM7D5JOr6ItYvgRuRQUdpRK8GVLZIiV0YMAkU1dh3d383SeTguJtg0YaQtVY5vrY URhHqxgBToOHvOdlequlRNFmpc4RPCLnzC525Rl2J9Z+RBwhWiI/nUyQ+myMKAWY/W3j 0aQMcOlDfInhBY0IsiRu9HLJi43+gKYcz/BMqhJhaEJg1QGbmKgHyNODVDcAMNCq8Mcp LAH5UK9WvjICeBOUy/rAlunMo1iicbBaXRgSthzvUOwlvGe1QLLFmkxhphx2e9rsHu9+ ZtPi/6rPLM9okyKq9LMzXYNdYcaZ0zcNnPCAABphyKsWqvvVE3TrZpOt2e0NarVucf0T ZoqA== X-Gm-Message-State: AOJu0Yw6OF5eFd4EDjDFKFxzDou6ogAWP/aChsGIh62KruU5YqixMpVQ Dlt0fDh3AwbYFFKftQUYqlhNHT2hTCVxfIxSHSoupy9txRKvDqLcdh+0RtYcU1Fo6D24FV1vHf8 Ei2DCmw7xBJiK0qZInCXZ4/wMS3kew+8R X-Gm-Gg: ASbGnctFba1g9mu2fOliLjlp2Oplggl5yFyvU/3nz074+I3sWF4a4jLZHwpo7VOJDz0 0Z/fCVot8GSAnUVI/MagSkHcR0tq3WYdOgxB+QD0iOqNt4HPVXrxnpCL+nO2ZIT84X7l7JoYLlN GPPcez6hGKYzq2DJDfeGq8940mz37q70oARIYO36vEBXRWHK/9XhoER02I0AynFSiFpFrzH1ULk JHTxZruxkY5fMeHsENVEGHStDkX8akBvjWP8pXUCQRw5AvQCc9beHcwSuburtrIuR8pm+ce5YRH wz7xa2Ch0EV/FK2Fx/DdvjvG/KGecw== X-Google-Smtp-Source: AGHT+IGoz3z0Rq/7ZIVY5iNm0FFZRhTkJdnTxxy2f1cmGlZTZyE15WfltEbMc361+Ejl+GPapnn0WZaF8ihC X-Received: by 2002:a05:6870:41cf:b0:29e:4ba5:4ddc with SMTP id 586e51a60fabf-2b83eef338dmr2805646fac.24.1738958369861; Fri, 07 Feb 2025 11:59:29 -0800 (PST) Received: from postal.iol.unh.edu (postal.iol.unh.edu. [132.177.123.84]) by smtp-relay.gmail.com with ESMTPS id 586e51a60fabf-2b82626242asm223750fac.34.2025.02.07.11.59.29 (version=TLS1_2 cipher=ECDHE-ECDSA-AES128-GCM-SHA256 bits=128/128); Fri, 07 Feb 2025 11:59:29 -0800 (PST) X-Relaying-Domain: iol.unh.edu Date: Fri, 07 Feb 2025 11:59:29 -0800 (PST) Message-ID: <67a66621.050a0220.e9c49.bf3bSMTPIN_ADDED_MISSING@mx.google.com> Received: from [172.21.0.6] (unknown [172.18.0.240]) by postal.iol.unh.edu (Postfix) with ESMTP id 5342C6052471; Fri, 7 Feb 2025 14:58:59 -0500 (EST) Subject: |SUCCESS| [GIT MASTER] c66daa12e76d7b4912cfb7109a761856a7a873ab From: dpdklab@iol.unh.edu To: Test Report Cc: dpdk-test-reports@iol.unh.edu, Xueming Li , Christian Ehrhardt , Kevin Traynor , Luca Boccassi Content-Type: text/plain X-BeenThere: test-report@dpdk.org X-Mailman-Version: 2.1.29 Precedence: list List-Id: automatic DPDK test reports List-Unsubscribe: , List-Archive: List-Post: List-Help: List-Subscribe: , Errors-To: test-report-bounces@dpdk.org _Testing PASS_ Branch: tags/v23.11 c66daa12e76d7b4912cfb7109a761856a7a873ab --> testing pass Test environment and result as below: +---------------------+--------------------+------------------+-------------------+-------------------+-------------------------+----------------------+ | Environment | dpdk_meson_compile | dpdk_compile_ovs | dpdk_compile_spdk | dpdk_msvc_compile | dpdk_llvm_clang_compile | dpdk_mingw64_compile | +=====================+====================+==================+===================+===================+=========================+======================+ | CentOS Stream 9 | PASS | PASS | PASS | SKIPPED | SKIPPED | SKIPPED | +---------------------+--------------------+------------------+-------------------+-------------------+-------------------------+----------------------+ | Fedora 39 (Clang) | PASS | PASS | PASS | SKIPPED | SKIPPED | SKIPPED | +---------------------+--------------------+------------------+-------------------+-------------------+-------------------------+----------------------+ | Fedora 39 | PASS | PASS | PASS | SKIPPED | SKIPPED | SKIPPED | +---------------------+--------------------+------------------+-------------------+-------------------+-------------------------+----------------------+ | Fedora 40 (Clang) | PASS | PASS | PASS | SKIPPED | SKIPPED | SKIPPED | +---------------------+--------------------+------------------+-------------------+-------------------+-------------------------+----------------------+ | RHEL8 | PASS | PASS | SKIPPED | SKIPPED | SKIPPED | SKIPPED | +---------------------+--------------------+------------------+-------------------+-------------------+-------------------------+----------------------+ | openSUSE Leap 15 | PASS | SKIPPED | SKIPPED | SKIPPED | SKIPPED | SKIPPED | +---------------------+--------------------+------------------+-------------------+-------------------+-------------------------+----------------------+ | Ubuntu 22.04 | PASS | PASS | PASS | SKIPPED | SKIPPED | SKIPPED | +---------------------+--------------------+------------------+-------------------+-------------------+-------------------------+----------------------+ | Ubuntu 20.04 | PASS | SKIPPED | SKIPPED | SKIPPED | SKIPPED | SKIPPED | +---------------------+--------------------+------------------+-------------------+-------------------+-------------------------+----------------------+ | Ubuntu 24.04 | PASS | PASS | PASS | SKIPPED | SKIPPED | SKIPPED | +---------------------+--------------------+------------------+-------------------+-------------------+-------------------------+----------------------+ | Alpine | PASS | PASS | SKIPPED | SKIPPED | SKIPPED | SKIPPED | +---------------------+--------------------+------------------+-------------------+-------------------+-------------------------+----------------------+ | FreeBSD 13.4 | PASS | SKIPPED | SKIPPED | SKIPPED | SKIPPED | SKIPPED | +---------------------+--------------------+------------------+-------------------+-------------------+-------------------------+----------------------+ | RHEL9 | PASS | PASS | SKIPPED | SKIPPED | SKIPPED | SKIPPED | +---------------------+--------------------+------------------+-------------------+-------------------+-------------------------+----------------------+ | Fedora 40 | PASS | PASS | PASS | SKIPPED | SKIPPED | SKIPPED | +---------------------+--------------------+------------------+-------------------+-------------------+-------------------------+----------------------+ | Debian 12 | PASS | PASS | PASS | SKIPPED | SKIPPED | SKIPPED | +---------------------+--------------------+------------------+-------------------+-------------------+-------------------------+----------------------+ | FreeBSD 14.2 | PASS | SKIPPED | SKIPPED | SKIPPED | SKIPPED | SKIPPED | +---------------------+--------------------+------------------+-------------------+-------------------+-------------------------+----------------------+ | Windows Server 2022 | SKIPPED | SKIPPED | SKIPPED | PASS | PASS | PASS | +---------------------+--------------------+------------------+-------------------+-------------------+-------------------------+----------------------+ CentOS Stream 9 Kernel: Depends on container host Compiler: gcc 11.5.0 20240719 (Red Hat 11.5.0-2) Fedora 39 (Clang) Kernel: Depends on container host Compiler: clang 17.0.6 (Fedora 17.0.6-2.fc39) Fedora 39 Kernel: Depends on container host Compiler: gcc 13.3.1 20240522 (Red Hat 13.3.1-1) Fedora 40 (Clang) Kernel: Depends on container host Compiler: clang 18.1.8 (Fedora 18.1.8-1.fc40) RHEL8 Kernel: Depends on container host Compiler: gcc 8.5.0 20210514 (Red Hat 8.5.0-22) openSUSE Leap 15 Kernel: Depends on container host Compiler: gcc (SUSE Linux) 7.5.0 Ubuntu 22.04 Kernel: Depends on container host Compiler: gcc (Ubuntu 11.4.0-1ubuntu1~22.04) 11.4.0 Ubuntu 20.04 Kernel: Depends on container host Compiler: gcc (Ubuntu 9.4.0-1ubuntu1~20.04.2) 9.4.0 Ubuntu 24.04 Kernel: Depends on container host Compiler: gcc (Ubuntu 13.3.0-6ubuntu2~24.04) 13.3.0 Alpine Kernel: Depends on container host Compiler: gcc (Alpine 14.2.0) 14.2.0 FreeBSD 13.4 Kernel: 13.4-RELEASE-p1 Compiler: clang 18.1.6 RHEL9 Kernel: Depends on container host Compiler: gcc 11.5.0 20240719 (Red Hat 11.5.0-2) Fedora 40 Kernel: Depends on container host Compiler: gcc 14.2.1 20240912 (Red Hat 14.2.1-3) Debian 12 Kernel: Depends on container host Compiler: gcc (Debian 12.2.0-14) 12.2.0 FreeBSD 14.2 Kernel: 14.2-RELEASE Compiler: clang 18.1.6 Windows Server 2022 Kernel: 10.0.20348.2031 Compiler: clang 15.0.7, gcc 14.1.0 (MinGW), and MSVC VS 19.39.33521 To view detailed results, visit: https://lab.dpdk.org/results/dashboard/tarballs/31998/ UNH-IOL DPDK Community Lab To manage your email subscriptions, visit: https://lab.dpdk.org/results/dashboard/preferences/subscriptions/