From mboxrd@z Thu Jan 1 00:00:00 1970 Return-Path: Received: from mails.dpdk.org (mails.dpdk.org [217.70.189.124]) by inbox.dpdk.org (Postfix) with ESMTP id 64A05461BF for ; Fri, 7 Feb 2025 20:59:37 +0100 (CET) Received: from mails.dpdk.org (localhost [127.0.0.1]) by mails.dpdk.org (Postfix) with ESMTP id 6246540290; Fri, 7 Feb 2025 20:59:37 +0100 (CET) Received: from mail-pl1-f228.google.com (mail-pl1-f228.google.com [209.85.214.228]) by mails.dpdk.org (Postfix) with ESMTP id 838404026C for ; Fri, 7 Feb 2025 20:59:33 +0100 (CET) Received: by mail-pl1-f228.google.com with SMTP id d9443c01a7336-2163dc5155fso51991355ad.0 for ; Fri, 07 Feb 2025 11:59:33 -0800 (PST) DKIM-Signature: v=1; a=rsa-sha256; c=relaxed/relaxed; d=iol.unh.edu; s=unh-iol; t=1738958373; x=1739563173; darn=dpdk.org; h=references:in-reply-to:cc:to:from:subject:message-id:date:from:to :cc:subject:date:message-id:reply-to; bh=xSnmp+Azxtf5o0k/nEFwNgzxJsJykjBZtsQMhLlO1xk=; b=MB7R39Ywp7zo11jSgPg4a6wsGUyG5hsPUoylEhf/ag1yff2lTISqrbgdWKU7KdGiRi kSXvj1uuxFU/B+gmHIzkvUBafRHTKBq354kLTd30SDHZ88xbHpT4lJwX3U7wNcnUr6CF so97ltS8v7S3b1t1X6CS5TAjDkZN6LQEMRYSo= X-Google-DKIM-Signature: v=1; a=rsa-sha256; c=relaxed/relaxed; d=1e100.net; s=20230601; t=1738958373; x=1739563173; h=references:in-reply-to:cc:to:from:subject:message-id:date :x-gm-message-state:from:to:cc:subject:date:message-id:reply-to; bh=xSnmp+Azxtf5o0k/nEFwNgzxJsJykjBZtsQMhLlO1xk=; b=lkWKFDN+C3cpp6jGmjsJI+DG7KZDOGewAUL11PadTh0BgtbKlKFN9hQr7ho2GglVV1 xaKwg+cbeY1TCf0r4UQzvMZ31HzZVq9uiWb8Jc4+Jrt05Jpyt89BNKr/+48EkEaof5oA DYj2gw+PifdpVS3EUaG6nYCuG26NmOjdyYLM+7bLJ4fK5dSr1skJz53goHWJp0IYgCC6 GJZUdjF7meWPRNRpQlVJTBsF60erxSrhczWHQHqiNAXsPo5R1QXYVr4/07HzdGeBpeCN 5SuDfx+Odh7++53Lf3iBYwopvvl1HvLHShIzF8SrtGf7oqjESKE4xmdX0s0ORxaZYrYM QLjA== X-Gm-Message-State: AOJu0YxslAgR/amtKDpcO3xlceyIRYK+L17WfJUeeNkJHK1cbdOMUj1y zUC2UFJ0VKxu+cyE9l9Nqa/eVzaoXBWzvm6g6WWbRGnQQvc+sCVfDW+gSfGfINnLVkNLI0dgtW7 2akYNx9wD+OaU3KyrYv0m6iupAU/cxO30a+B2YjaK X-Gm-Gg: ASbGncv6g5B87LfnXfXDkDCUVhlCB3mGR9Lwpe8eKAH3+nf8u08L/62FgnJrQY1oHcB 2SNMDQROevZROIphHfrC4SDQ3vFvKXQEOxZbWwIIGszfwMRksCZzrx6SJHgxOY+lmkm2UdVef/S DnFALq6zIwVUdv8y5V9zF7LHOIUqqyGPi9okZ3aJaWNh/1MgJ+fTvV9EkieVdYtSvk0s/crLngy wNDy464Oun585k5zbcopq16MeVpUzrf7RHKxkuo/Dy0a9kIaW00DnUDFyrrsx6BO2bU8WkxDaYC jCVX+/qrWkZ47Bxhhl69X6HPGJ92rQ== X-Google-Smtp-Source: AGHT+IHFQJydzm4hGliPF31KQGkDMNSDS5bB1VvdhmsX9WMov2JVAtVnpYc8vYASIRVljC3BBqO2Eg+ef397 X-Received: by 2002:a17:903:2381:b0:219:e4b0:4286 with SMTP id d9443c01a7336-21f4e6fa3cbmr68632195ad.29.1738958372853; Fri, 07 Feb 2025 11:59:32 -0800 (PST) Received: from postal.iol.unh.edu (postal.iol.unh.edu. [132.177.123.84]) by smtp-relay.gmail.com with ESMTPS id d9443c01a7336-21f36877631sm2226955ad.105.2025.02.07.11.59.32 (version=TLS1_2 cipher=ECDHE-ECDSA-AES128-GCM-SHA256 bits=128/128); Fri, 07 Feb 2025 11:59:32 -0800 (PST) X-Relaying-Domain: iol.unh.edu Date: Fri, 07 Feb 2025 11:59:32 -0800 (PST) Message-ID: <67a66624.170a0220.1acae4.b9d3SMTPIN_ADDED_MISSING@mx.google.com> Received: from [172.21.0.14] (unknown [172.18.0.240]) by postal.iol.unh.edu (Postfix) with ESMTP id 435FB6052472; Fri, 7 Feb 2025 14:59:02 -0500 (EST) Subject: |SUCCESS| pw149311 [PATCH] [RFC] eventdev: adapter API to configure From: dpdklab@iol.unh.edu To: Test Report Cc: dpdk-test-reports@iol.unh.edu In-Reply-To: <20241219073147.1719079-1-sthotton@marvell.com> References: <20241219073147.1719079-1-sthotton@marvell.com> Content-Type: text/plain X-BeenThere: test-report@dpdk.org X-Mailman-Version: 2.1.29 Precedence: list List-Id: automatic DPDK test reports List-Unsubscribe: , List-Archive: List-Post: List-Help: List-Subscribe: , Errors-To: test-report-bounces@dpdk.org Test-Label: iol-compile-amd64-testing Test-Status: SUCCESS http://dpdk.org/patch/149311 _Testing PASS_ Submitter: Shijith Thotton Date: Thursday, December 19 2024 07:31:46 DPDK git baseline: Repo:dpdk Branch: master CommitID:1b3bf1128d9bda5595861814792f74b8f57160c8 149311 --> testing pass Test environment and result as below: +---------------------+--------------------+------------------+-------------------+-------------------+-------------------------+----------------------+ | Environment | dpdk_meson_compile | dpdk_compile_ovs | dpdk_compile_spdk | dpdk_msvc_compile | dpdk_llvm_clang_compile | dpdk_mingw64_compile | +=====================+====================+==================+===================+===================+=========================+======================+ | CentOS Stream 9 | PASS | PASS | PASS | SKIPPED | SKIPPED | SKIPPED | +---------------------+--------------------+------------------+-------------------+-------------------+-------------------------+----------------------+ | Fedora 40 (Clang) | PASS | PASS | PASS | SKIPPED | SKIPPED | SKIPPED | +---------------------+--------------------+------------------+-------------------+-------------------+-------------------------+----------------------+ | Fedora 39 | PASS | PASS | PASS | SKIPPED | SKIPPED | SKIPPED | +---------------------+--------------------+------------------+-------------------+-------------------+-------------------------+----------------------+ | Fedora 40 | PASS | PASS | PASS | SKIPPED | SKIPPED | SKIPPED | +---------------------+--------------------+------------------+-------------------+-------------------+-------------------------+----------------------+ | openSUSE Leap 15 | PASS | SKIPPED | SKIPPED | SKIPPED | SKIPPED | SKIPPED | +---------------------+--------------------+------------------+-------------------+-------------------+-------------------------+----------------------+ | RHEL8 | PASS | PASS | SKIPPED | SKIPPED | SKIPPED | SKIPPED | +---------------------+--------------------+------------------+-------------------+-------------------+-------------------------+----------------------+ | Ubuntu 22.04 | PASS | PASS | PASS | SKIPPED | SKIPPED | SKIPPED | +---------------------+--------------------+------------------+-------------------+-------------------+-------------------------+----------------------+ | RHEL9 | PASS | PASS | SKIPPED | SKIPPED | SKIPPED | SKIPPED | +---------------------+--------------------+------------------+-------------------+-------------------+-------------------------+----------------------+ | Ubuntu 20.04 | PASS | SKIPPED | SKIPPED | SKIPPED | SKIPPED | SKIPPED | +---------------------+--------------------+------------------+-------------------+-------------------+-------------------------+----------------------+ | FreeBSD 14.2 | PASS | SKIPPED | SKIPPED | SKIPPED | SKIPPED | SKIPPED | +---------------------+--------------------+------------------+-------------------+-------------------+-------------------------+----------------------+ | Fedora 39 (Clang) | PASS | PASS | PASS | SKIPPED | SKIPPED | SKIPPED | +---------------------+--------------------+------------------+-------------------+-------------------+-------------------------+----------------------+ | Debian 12 | PASS | PASS | PASS | SKIPPED | SKIPPED | SKIPPED | +---------------------+--------------------+------------------+-------------------+-------------------+-------------------------+----------------------+ | Ubuntu 24.04 | PASS | PASS | PASS | SKIPPED | SKIPPED | SKIPPED | +---------------------+--------------------+------------------+-------------------+-------------------+-------------------------+----------------------+ | FreeBSD 13.4 | PASS | SKIPPED | SKIPPED | SKIPPED | SKIPPED | SKIPPED | +---------------------+--------------------+------------------+-------------------+-------------------+-------------------------+----------------------+ | Alpine | PASS | PASS | SKIPPED | SKIPPED | SKIPPED | SKIPPED | +---------------------+--------------------+------------------+-------------------+-------------------+-------------------------+----------------------+ | Windows Server 2022 | SKIPPED | SKIPPED | SKIPPED | PASS | PASS | PASS | +---------------------+--------------------+------------------+-------------------+-------------------+-------------------------+----------------------+ CentOS Stream 9 Kernel: Depends on container host Compiler: gcc 11.5.0 20240719 (Red Hat 11.5.0-2) Fedora 40 (Clang) Kernel: Depends on container host Compiler: clang 18.1.8 (Fedora 18.1.8-1.fc40) Fedora 39 Kernel: Depends on container host Compiler: gcc 13.3.1 20240522 (Red Hat 13.3.1-1) Fedora 40 Kernel: Depends on container host Compiler: gcc 14.2.1 20240912 (Red Hat 14.2.1-3) openSUSE Leap 15 Kernel: Depends on container host Compiler: gcc (SUSE Linux) 7.5.0 RHEL8 Kernel: Depends on container host Compiler: gcc 8.5.0 20210514 (Red Hat 8.5.0-22) Ubuntu 22.04 Kernel: Depends on container host Compiler: gcc (Ubuntu 11.4.0-1ubuntu1~22.04) 11.4.0 RHEL9 Kernel: Depends on container host Compiler: gcc 11.5.0 20240719 (Red Hat 11.5.0-2) Ubuntu 20.04 Kernel: Depends on container host Compiler: gcc (Ubuntu 9.4.0-1ubuntu1~20.04.2) 9.4.0 FreeBSD 14.2 Kernel: 14.2-RELEASE Compiler: clang 18.1.6 Fedora 39 (Clang) Kernel: Depends on container host Compiler: clang 17.0.6 (Fedora 17.0.6-2.fc39) Debian 12 Kernel: Depends on container host Compiler: gcc (Debian 12.2.0-14) 12.2.0 Ubuntu 24.04 Kernel: Depends on container host Compiler: gcc (Ubuntu 13.3.0-6ubuntu2~24.04) 13.3.0 FreeBSD 13.4 Kernel: 13.4-RELEASE-p1 Compiler: clang 18.1.6 Alpine Kernel: Depends on container host Compiler: gcc (Alpine 14.2.0) 14.2.0 Windows Server 2022 Kernel: 10.0.20348.2031 Compiler: clang 15.0.7, gcc 14.1.0 (MinGW), and MSVC VS 19.39.33521 To view detailed results, visit: https://lab.dpdk.org/results/dashboard/patchsets/32166/ UNH-IOL DPDK Community Lab To manage your email subscriptions, visit: https://lab.dpdk.org/results/dashboard/preferences/subscriptions/