From mboxrd@z Thu Jan 1 00:00:00 1970 Return-Path: Received: from mails.dpdk.org (mails.dpdk.org [217.70.189.124]) by inbox.dpdk.org (Postfix) with ESMTP id 5B449461BF for ; Fri, 7 Feb 2025 20:59:46 +0100 (CET) Received: from mails.dpdk.org (localhost [127.0.0.1]) by mails.dpdk.org (Postfix) with ESMTP id 3FAC540290; Fri, 7 Feb 2025 20:59:46 +0100 (CET) Received: from mail-il1-f226.google.com (mail-il1-f226.google.com [209.85.166.226]) by mails.dpdk.org (Postfix) with ESMTP id B02B3402A0 for ; Fri, 7 Feb 2025 20:59:42 +0100 (CET) Received: by mail-il1-f226.google.com with SMTP id e9e14a558f8ab-3ce873818a3so20613885ab.1 for ; Fri, 07 Feb 2025 11:59:42 -0800 (PST) DKIM-Signature: v=1; a=rsa-sha256; c=relaxed/relaxed; d=iol.unh.edu; s=unh-iol; t=1738958382; x=1739563182; darn=dpdk.org; h=references:in-reply-to:cc:to:from:subject:message-id:date:from:to :cc:subject:date:message-id:reply-to; bh=Rl2ixn2jBnK1lTv+RVzay8zmk2lfmoEpRmKUIPGawro=; b=RIxkWp5sT17FJPvkmsaJzanFA0l3wB726RyrnhI3zuWQOUJrQfCxht//3eNcqN0+65 R0JeS3SiA8LOYQSeW82/op2GWr8l6uxwolPY7RKxqF5DnMTd2zs2psaTzFLBDAybgH5p 5kBIqZ+zOyyjcJVFV6bMJzqSgfPyavR1ofUZU= X-Google-DKIM-Signature: v=1; a=rsa-sha256; c=relaxed/relaxed; d=1e100.net; s=20230601; t=1738958382; x=1739563182; h=references:in-reply-to:cc:to:from:subject:message-id:date :x-gm-message-state:from:to:cc:subject:date:message-id:reply-to; bh=Rl2ixn2jBnK1lTv+RVzay8zmk2lfmoEpRmKUIPGawro=; b=AGR+k7ykng4UXJXjWRtj4BTFjjoZDjcubXVYX1b/xn4oGBB0FvTxb0k1uX+x+sWl2q KP5CxCPzP+C6xeyO/zmvrKYsFNA3vQ5T8Zvm8D79rcn4TMDBlXJF0oiTTP6m5s85AaJa Rriycz+mJPmKbqogy/qta4YtCBULpwAW8j9A+cL9c9Ti2d0P+RFAdluBxCv+HSiZw0BE IH5HTA3LVLz7DTOx/xh5O3cr1zFHAtBQ6z6t6Ossrtr/UX1Tk6o24uAhJMPQ1G1848Ne E3mGm/uY16+Xrq+Ju7St3IFqGTL2oGxfF1xOVyxalGJtqKBMF8w/vp324h2KZDUrTs9u 0VCQ== X-Gm-Message-State: AOJu0YwjLab7P/1Z+r4GybxwDW4HzlrzFF/QXW4wexpxNFupARwRBW0W iCGdD4astVLXcHI68qEY0eO9jDJmXXMSP6k+Avq2qZXLEDH724LJe3YzBswdhMqEmc6B1ouR4Lt nRHdbPlBj201udASrPu3pc06k1KvqTDU/MkltenTr X-Gm-Gg: ASbGnct/611Rm1iEY4908VtleZf/gqXNiXi6xqI69ZcDTfRp58Db+7QInN9QH0Xnjud ZTW+OmUzpbdsrQfk1b0vUyAcvPV3smRLplxnSpmQy2TRhg4lZlvMdTYX+oQHFPwMviJK4ghL0GF biOM7SF025P33aoNS2W9bu8G3177WMLx/fjtPkPcPzlD//KENqhKN1o+fl13DF6A5gIy6Lzrh8V ApaEAPXyC0eeifsebts0JICRFOSKfs1Ze+SK3DWvtrHikguyY8eg8ap4LNAKUU5Vb9g6YAwVt1E webbnmz28zjkYIA+LgJvGvKSEONoew== X-Google-Smtp-Source: AGHT+IEsQj8++Gj4DKsFJfhVAjzm6cS1e8qRzRlsPUsHF362Dyuxya4V0yn9pOR+8RC9y/VzKTtlTO/kuXY/ X-Received: by 2002:a05:6e02:20c9:b0:3cf:cdb8:78fb with SMTP id e9e14a558f8ab-3d13df0fb5fmr41657915ab.16.1738958382102; Fri, 07 Feb 2025 11:59:42 -0800 (PST) Received: from postal.iol.unh.edu (postal.iol.unh.edu. [132.177.123.84]) by smtp-relay.gmail.com with ESMTPS id e9e14a558f8ab-3d05e6d7213sm2820585ab.0.2025.02.07.11.59.42 (version=TLS1_2 cipher=ECDHE-ECDSA-AES128-GCM-SHA256 bits=128/128); Fri, 07 Feb 2025 11:59:42 -0800 (PST) X-Relaying-Domain: iol.unh.edu Date: Fri, 07 Feb 2025 11:59:42 -0800 (PST) Message-ID: <67a6662e.050a0220.2bfdcd.ebe8SMTPIN_ADDED_MISSING@mx.google.com> Received: from [172.21.0.13] (unknown [172.18.0.240]) by postal.iol.unh.edu (Postfix) with ESMTP id 99FD16052477; Fri, 7 Feb 2025 14:59:11 -0500 (EST) Subject: |SUCCESS| pw149319 [PATCH] cryptodev: allow use of global variables From: dpdklab@iol.unh.edu To: Test Report Cc: dpdk-test-reports@iol.unh.edu In-Reply-To: <20241219163523.164992-1-mattias.ronnblom@ericsson.com> References: <20241219163523.164992-1-mattias.ronnblom@ericsson.com> Content-Type: text/plain X-BeenThere: test-report@dpdk.org X-Mailman-Version: 2.1.29 Precedence: list List-Id: automatic DPDK test reports List-Unsubscribe: , List-Archive: List-Post: List-Help: List-Subscribe: , Errors-To: test-report-bounces@dpdk.org Test-Label: iol-compile-amd64-testing Test-Status: SUCCESS http://dpdk.org/patch/149319 _Testing PASS_ Submitter: Mattias Ronnblom Date: Thursday, December 19 2024 16:35:23 DPDK git baseline: Repo:dpdk Branch: master CommitID:7df61db6c387703a36306c1aea92225921e2eeb2 149319 --> testing pass Test environment and result as below: +---------------------+--------------------+------------------+-------------------+-------------------------+-------------------+----------------------+ | Environment | dpdk_meson_compile | dpdk_compile_ovs | dpdk_compile_spdk | dpdk_llvm_clang_compile | dpdk_msvc_compile | dpdk_mingw64_compile | +=====================+====================+==================+===================+=========================+===================+======================+ | CentOS Stream 9 | PASS | PASS | PASS | SKIPPED | SKIPPED | SKIPPED | +---------------------+--------------------+------------------+-------------------+-------------------------+-------------------+----------------------+ | Fedora 39 (Clang) | PASS | PASS | PASS | SKIPPED | SKIPPED | SKIPPED | +---------------------+--------------------+------------------+-------------------+-------------------------+-------------------+----------------------+ | Debian 12 | PASS | PASS | PASS | SKIPPED | SKIPPED | SKIPPED | +---------------------+--------------------+------------------+-------------------+-------------------------+-------------------+----------------------+ | Fedora 39 | PASS | PASS | PASS | SKIPPED | SKIPPED | SKIPPED | +---------------------+--------------------+------------------+-------------------+-------------------------+-------------------+----------------------+ | Fedora 40 (Clang) | PASS | PASS | PASS | SKIPPED | SKIPPED | SKIPPED | +---------------------+--------------------+------------------+-------------------+-------------------------+-------------------+----------------------+ | openSUSE Leap 15 | PASS | SKIPPED | SKIPPED | SKIPPED | SKIPPED | SKIPPED | +---------------------+--------------------+------------------+-------------------+-------------------------+-------------------+----------------------+ | RHEL8 | PASS | PASS | SKIPPED | SKIPPED | SKIPPED | SKIPPED | +---------------------+--------------------+------------------+-------------------+-------------------------+-------------------+----------------------+ | Ubuntu 20.04 | PASS | SKIPPED | SKIPPED | SKIPPED | SKIPPED | SKIPPED | +---------------------+--------------------+------------------+-------------------+-------------------------+-------------------+----------------------+ | RHEL9 | PASS | PASS | SKIPPED | SKIPPED | SKIPPED | SKIPPED | +---------------------+--------------------+------------------+-------------------+-------------------------+-------------------+----------------------+ | Ubuntu 22.04 | PASS | PASS | PASS | SKIPPED | SKIPPED | SKIPPED | +---------------------+--------------------+------------------+-------------------+-------------------------+-------------------+----------------------+ | Ubuntu 24.04 | PASS | PASS | PASS | SKIPPED | SKIPPED | SKIPPED | +---------------------+--------------------+------------------+-------------------+-------------------------+-------------------+----------------------+ | Alpine | PASS | PASS | SKIPPED | SKIPPED | SKIPPED | SKIPPED | +---------------------+--------------------+------------------+-------------------+-------------------------+-------------------+----------------------+ | FreeBSD 13.4 | PASS | SKIPPED | SKIPPED | SKIPPED | SKIPPED | SKIPPED | +---------------------+--------------------+------------------+-------------------+-------------------------+-------------------+----------------------+ | Fedora 40 | PASS | PASS | PASS | SKIPPED | SKIPPED | SKIPPED | +---------------------+--------------------+------------------+-------------------+-------------------------+-------------------+----------------------+ | FreeBSD 14.2 | PASS | SKIPPED | SKIPPED | SKIPPED | SKIPPED | SKIPPED | +---------------------+--------------------+------------------+-------------------+-------------------------+-------------------+----------------------+ | Windows Server 2022 | SKIPPED | SKIPPED | SKIPPED | PASS | PASS | PASS | +---------------------+--------------------+------------------+-------------------+-------------------------+-------------------+----------------------+ CentOS Stream 9 Kernel: Depends on container host Compiler: gcc 11.5.0 20240719 (Red Hat 11.5.0-2) Fedora 39 (Clang) Kernel: Depends on container host Compiler: clang 17.0.6 (Fedora 17.0.6-2.fc39) Debian 12 Kernel: Depends on container host Compiler: gcc (Debian 12.2.0-14) 12.2.0 Fedora 39 Kernel: Depends on container host Compiler: gcc 13.3.1 20240522 (Red Hat 13.3.1-1) Fedora 40 (Clang) Kernel: Depends on container host Compiler: clang 18.1.8 (Fedora 18.1.8-1.fc40) openSUSE Leap 15 Kernel: Depends on container host Compiler: gcc (SUSE Linux) 7.5.0 RHEL8 Kernel: Depends on container host Compiler: gcc 8.5.0 20210514 (Red Hat 8.5.0-22) Ubuntu 20.04 Kernel: Depends on container host Compiler: gcc (Ubuntu 9.4.0-1ubuntu1~20.04.2) 9.4.0 RHEL9 Kernel: Depends on container host Compiler: gcc 11.5.0 20240719 (Red Hat 11.5.0-2) Ubuntu 22.04 Kernel: Depends on container host Compiler: gcc (Ubuntu 11.4.0-1ubuntu1~22.04) 11.4.0 Ubuntu 24.04 Kernel: Depends on container host Compiler: gcc (Ubuntu 13.3.0-6ubuntu2~24.04) 13.3.0 Alpine Kernel: Depends on container host Compiler: gcc (Alpine 14.2.0) 14.2.0 FreeBSD 13.4 Kernel: 13.4-RELEASE-p1 Compiler: clang 18.1.6 Fedora 40 Kernel: Depends on container host Compiler: gcc 14.2.1 20240912 (Red Hat 14.2.1-3) FreeBSD 14.2 Kernel: 14.2-RELEASE Compiler: clang 18.1.6 Windows Server 2022 Kernel: 10.0.20348.2031 Compiler: clang 15.0.7, gcc 14.1.0 (MinGW), and MSVC VS 19.39.33521 To view detailed results, visit: https://lab.dpdk.org/results/dashboard/patchsets/32174/ UNH-IOL DPDK Community Lab To manage your email subscriptions, visit: https://lab.dpdk.org/results/dashboard/preferences/subscriptions/