From mboxrd@z Thu Jan 1 00:00:00 1970 Return-Path: Received: from mails.dpdk.org (mails.dpdk.org [217.70.189.124]) by inbox.dpdk.org (Postfix) with ESMTP id 8E88D461BF for ; Fri, 7 Feb 2025 21:00:02 +0100 (CET) Received: from mails.dpdk.org (localhost [127.0.0.1]) by mails.dpdk.org (Postfix) with ESMTP id 8BE7740290; Fri, 7 Feb 2025 21:00:02 +0100 (CET) Received: from mail-io1-f100.google.com (mail-io1-f100.google.com [209.85.166.100]) by mails.dpdk.org (Postfix) with ESMTP id 8163C4026C for ; Fri, 7 Feb 2025 21:00:01 +0100 (CET) Received: by mail-io1-f100.google.com with SMTP id ca18e2360f4ac-852050432a8so74050439f.1 for ; Fri, 07 Feb 2025 12:00:01 -0800 (PST) DKIM-Signature: v=1; a=rsa-sha256; c=relaxed/relaxed; d=iol.unh.edu; s=unh-iol; t=1738958401; x=1739563201; darn=dpdk.org; h=cc:to:from:subject:message-id:date:from:to:cc:subject:date :message-id:reply-to; bh=dwUKfkcYjyb8vBkvkl8ed8XQTSFCTfOTwWsShrfF7R0=; b=Ldi3/7LFm5qvcTR8HkYdXExmC0nUmue86H+Ak7a4RZ88ZziDwGyez1p9rbMzoDA6jR 683J/SoneC7i8mMBNXYehbtfFP4bQxrH5+vY4uErA8LhdUIa4x0Rug5t2BDa7qNJOPqD 4P4Jq7ouC7Yy2iz974asxGCHxCli6XeAxkNNE= X-Google-DKIM-Signature: v=1; a=rsa-sha256; c=relaxed/relaxed; d=1e100.net; s=20230601; t=1738958401; x=1739563201; h=cc:to:from:subject:message-id:date:x-gm-message-state:from:to:cc :subject:date:message-id:reply-to; bh=dwUKfkcYjyb8vBkvkl8ed8XQTSFCTfOTwWsShrfF7R0=; b=WLOSm4eoMxzjYO1m389+O87obkFXnfxUrUHtu2YuLIsjX1U0tm+2AhnUZuucvOnB0e oP4C6pc8XO5s7lNZGogozovj57O8sZqcYVwJdeSebmKVIaT08jmfDfhOBJE7/qHONAlC 7daiADbxGtw8SAbua6rg/CRV2facr56eLVIiFdgecMeZK3YRYmw13n7nwbB/FQEF3UuX x4kZHeNtq5UcwxH2TvHBKqOyATZJWaVArMCs+o4z/0TPFQYTeTbzLR7DDNmezQI9mSgP TmfYI22jN/Yl5KeDKYGh42Jh9tMnTtZMZGoCqCrP/QhJgkmDBQnIf6FccQ895h7I6dOf JgRw== X-Gm-Message-State: AOJu0Yzdu2PZsnoeYshvlcHY625eJnBXqlwq/zCRm6qj4ayqQd0PZ8ac KmRL2FXF/NpSU/1x3oRCzMbj2//Tp97QHvxfwu36d6rnMqezmNOg6/riEffOOyvvWw9DBrukLkh ZKIXtWJm29+TdtZTTqUtqk4sUsqowntelmX+rGfVD X-Gm-Gg: ASbGncvYY3rEp/YP0lRkuUiGDOs93JC2Kyhv2reB1pc+u1lFF8Hv8K8KfI4mqcRq0r6 J+8vU+YGMZo1j0c+GQquxQEBlLXlgHibflkZGfyUIPTrBq1HCdlyZwTRcpXtTBTfcteG4t3nj+m pIKi9f9BQmim0sXmYnhbBvFhU9wAZvSLW5lyujMS7oGTEQJDoq6uwLoHoVRxkDP/sDPSPkXJIFX eeemJDE3Up65aea/O5RYLy7/BD0uvAW34d6G8V0amOt109erHxN4gCEgDe9vHtW97iB8+pmTAxH 7TRMjaxBpKzZGy/3fXNRN3es9pH4xg== X-Google-Smtp-Source: AGHT+IE0wFh4M/1mliGokuO9K/wNG0XbK127iqQppWLDJ6fS7RDyLqS++Jsupi1EXplVTNdfyJyRtx2SZGRb X-Received: by 2002:a05:6602:4802:b0:835:3dfc:5ba5 with SMTP id ca18e2360f4ac-854f3a4cadbmr941417739f.5.1738958400879; Fri, 07 Feb 2025 12:00:00 -0800 (PST) Received: from postal.iol.unh.edu (postal.iol.unh.edu. [132.177.123.84]) by smtp-relay.gmail.com with ESMTPS id ca18e2360f4ac-854f669ab6bsm23048039f.15.2025.02.07.12.00.00 (version=TLS1_2 cipher=ECDHE-ECDSA-AES128-GCM-SHA256 bits=128/128); Fri, 07 Feb 2025 12:00:00 -0800 (PST) X-Relaying-Domain: iol.unh.edu Date: Fri, 07 Feb 2025 12:00:00 -0800 (PST) Message-ID: <67a66640.050a0220.a7d3e.b8b3SMTPIN_ADDED_MISSING@mx.google.com> Received: from [172.21.0.8] (unknown [172.18.0.240]) by postal.iol.unh.edu (Postfix) with ESMTP id 64F67605247D; Fri, 7 Feb 2025 15:00:00 -0500 (EST) Subject: |SUCCESS| [GIT MASTER] 07604f264417959d76aa9fcb8cb0c3665f62f0d3 From: dpdklab@iol.unh.edu To: Test Report Cc: dpdk-test-reports@iol.unh.edu Content-Type: text/plain X-BeenThere: test-report@dpdk.org X-Mailman-Version: 2.1.29 Precedence: list List-Id: automatic DPDK test reports List-Unsubscribe: , List-Archive: List-Post: List-Help: List-Subscribe: , Errors-To: test-report-bounces@dpdk.org _Testing PASS_ Branch: dpdk 07604f264417959d76aa9fcb8cb0c3665f62f0d3 --> testing pass Test environment and result as below: +---------------------+--------------------+------------------+-------------------+-------------------+-------------------------+----------------------+ | Environment | dpdk_meson_compile | dpdk_compile_ovs | dpdk_compile_spdk | dpdk_msvc_compile | dpdk_llvm_clang_compile | dpdk_mingw64_compile | +=====================+====================+==================+===================+===================+=========================+======================+ | CentOS Stream 9 | PASS | PASS | PASS | SKIPPED | SKIPPED | SKIPPED | +---------------------+--------------------+------------------+-------------------+-------------------+-------------------------+----------------------+ | Fedora 39 | PASS | PASS | PASS | SKIPPED | SKIPPED | SKIPPED | +---------------------+--------------------+------------------+-------------------+-------------------+-------------------------+----------------------+ | Debian 12 | PASS | PASS | PASS | SKIPPED | SKIPPED | SKIPPED | +---------------------+--------------------+------------------+-------------------+-------------------+-------------------------+----------------------+ | Fedora 40 (Clang) | PASS | PASS | PASS | SKIPPED | SKIPPED | SKIPPED | +---------------------+--------------------+------------------+-------------------+-------------------+-------------------------+----------------------+ | Fedora 40 | PASS | PASS | PASS | SKIPPED | SKIPPED | SKIPPED | +---------------------+--------------------+------------------+-------------------+-------------------+-------------------------+----------------------+ | openSUSE Leap 15 | PASS | SKIPPED | SKIPPED | SKIPPED | SKIPPED | SKIPPED | +---------------------+--------------------+------------------+-------------------+-------------------+-------------------------+----------------------+ | RHEL8 | PASS | PASS | SKIPPED | SKIPPED | SKIPPED | SKIPPED | +---------------------+--------------------+------------------+-------------------+-------------------+-------------------------+----------------------+ | RHEL9 | PASS | PASS | SKIPPED | SKIPPED | SKIPPED | SKIPPED | +---------------------+--------------------+------------------+-------------------+-------------------+-------------------------+----------------------+ | Ubuntu 20.04 | PASS | SKIPPED | SKIPPED | SKIPPED | SKIPPED | SKIPPED | +---------------------+--------------------+------------------+-------------------+-------------------+-------------------------+----------------------+ | Ubuntu 24.04 | PASS | PASS | PASS | SKIPPED | SKIPPED | SKIPPED | +---------------------+--------------------+------------------+-------------------+-------------------+-------------------------+----------------------+ | Ubuntu 22.04 | PASS | PASS | PASS | SKIPPED | SKIPPED | SKIPPED | +---------------------+--------------------+------------------+-------------------+-------------------+-------------------------+----------------------+ | Arch Linux | PASS | PASS | SKIPPED | SKIPPED | SKIPPED | SKIPPED | +---------------------+--------------------+------------------+-------------------+-------------------+-------------------------+----------------------+ | FreeBSD 13.4 | PASS | SKIPPED | SKIPPED | SKIPPED | SKIPPED | SKIPPED | +---------------------+--------------------+------------------+-------------------+-------------------+-------------------------+----------------------+ | FreeBSD 14.2 | PASS | SKIPPED | SKIPPED | SKIPPED | SKIPPED | SKIPPED | +---------------------+--------------------+------------------+-------------------+-------------------+-------------------------+----------------------+ | Fedora 39 (Clang) | PASS | PASS | PASS | SKIPPED | SKIPPED | SKIPPED | +---------------------+--------------------+------------------+-------------------+-------------------+-------------------------+----------------------+ | Alpine | PASS | PASS | SKIPPED | SKIPPED | SKIPPED | SKIPPED | +---------------------+--------------------+------------------+-------------------+-------------------+-------------------------+----------------------+ | Windows Server 2022 | SKIPPED | SKIPPED | SKIPPED | PASS | PASS | PASS | +---------------------+--------------------+------------------+-------------------+-------------------+-------------------------+----------------------+ CentOS Stream 9 Kernel: Depends on container host Compiler: gcc 11.5.0 20240719 (Red Hat 11.5.0-2) Fedora 39 Kernel: Depends on container host Compiler: gcc 13.3.1 20240522 (Red Hat 13.3.1-1) Debian 12 Kernel: Depends on container host Compiler: gcc (Debian 12.2.0-14) 12.2.0 Fedora 40 (Clang) Kernel: Depends on container host Compiler: clang 18.1.8 (Fedora 18.1.8-1.fc40) Fedora 40 Kernel: Depends on container host Compiler: gcc 14.2.1 20240912 (Red Hat 14.2.1-3) openSUSE Leap 15 Kernel: Depends on container host Compiler: gcc (SUSE Linux) 7.5.0 RHEL8 Kernel: Depends on container host Compiler: gcc 8.5.0 20210514 (Red Hat 8.5.0-22) RHEL9 Kernel: Depends on container host Compiler: gcc 11.5.0 20240719 (Red Hat 11.5.0-2) Ubuntu 20.04 Kernel: Depends on container host Compiler: gcc (Ubuntu 9.4.0-1ubuntu1~20.04.2) 9.4.0 Ubuntu 24.04 Kernel: Depends on container host Compiler: gcc (Ubuntu 13.3.0-6ubuntu2~24.04) 13.3.0 Ubuntu 22.04 Kernel: Depends on container host Compiler: gcc (Ubuntu 11.4.0-1ubuntu1~22.04) 11.4.0 Arch Linux Kernel: Depends on container host Compiler: gcc 14.2.1 20240910 FreeBSD 13.4 Kernel: 13.4-RELEASE-p1 Compiler: clang 18.1.6 FreeBSD 14.2 Kernel: 14.2-RELEASE Compiler: clang 18.1.6 Fedora 39 (Clang) Kernel: Depends on container host Compiler: clang 17.0.6 (Fedora 17.0.6-2.fc39) Alpine Kernel: Depends on container host Compiler: gcc (Alpine 14.2.0) 14.2.0 Windows Server 2022 Kernel: 10.0.20348.2031 Compiler: clang 15.0.7, gcc 14.1.0 (MinGW), and MSVC VS 19.39.33521 To view detailed results, visit: https://lab.dpdk.org/results/dashboard/tarballs/31977/ UNH-IOL DPDK Community Lab To manage your email subscriptions, visit: https://lab.dpdk.org/results/dashboard/preferences/subscriptions/