From mboxrd@z Thu Jan 1 00:00:00 1970 Return-Path: Received: from mails.dpdk.org (mails.dpdk.org [217.70.189.124]) by inbox.dpdk.org (Postfix) with ESMTP id BC7DC461BF for ; Fri, 7 Feb 2025 21:00:16 +0100 (CET) Received: from mails.dpdk.org (localhost [127.0.0.1]) by mails.dpdk.org (Postfix) with ESMTP id B377C402B3; Fri, 7 Feb 2025 21:00:16 +0100 (CET) Received: from mail-il1-f226.google.com (mail-il1-f226.google.com [209.85.166.226]) by mails.dpdk.org (Postfix) with ESMTP id 66C0B40290 for ; Fri, 7 Feb 2025 21:00:15 +0100 (CET) Received: by mail-il1-f226.google.com with SMTP id e9e14a558f8ab-3cfc79a8a95so7653395ab.2 for ; Fri, 07 Feb 2025 12:00:15 -0800 (PST) DKIM-Signature: v=1; a=rsa-sha256; c=relaxed/relaxed; d=iol.unh.edu; s=unh-iol; t=1738958415; x=1739563215; darn=dpdk.org; h=references:in-reply-to:cc:to:from:subject:message-id:date:from:to :cc:subject:date:message-id:reply-to; bh=ipmzHRf9Acdzch2S/7s3D3CpaP6flLvS6YMJVeve+Aw=; b=Rq7xfs9Y68S1YnPPxCZqEPoFqaceOP3Tlr6UlmjTTRM+KdZzz0Blz8HJY5B1wIiIz+ 2cn5UHXDTQbZ7SYWaufwsU0poXFsFQscipNE2T8QmSH6Z13nsDyDeHd3EjxXglXF155D NUTKyK01P4eWDo/SO6RgSg1VBRNXbgQwDt5iI= X-Google-DKIM-Signature: v=1; a=rsa-sha256; c=relaxed/relaxed; d=1e100.net; s=20230601; t=1738958415; x=1739563215; h=references:in-reply-to:cc:to:from:subject:message-id:date :x-gm-message-state:from:to:cc:subject:date:message-id:reply-to; bh=ipmzHRf9Acdzch2S/7s3D3CpaP6flLvS6YMJVeve+Aw=; b=SKbqyEdk8vdCjFSncEIw46tHwyRlqVTAdcRogY3w8WuuOrGgmCJV1/kS8isKLFlpF5 5cViNDX1iBviH4i8Cco4RHTZefjzTQiTkXwP3S30vPqyCB2RKN9Bkn6o4XYnCHMyF8Nl ayN7lQIDGlDTkLtdFyPW7HSuRR+Bemr99Lx7e4+J+WqQaEA9Gwr70xLQsUtBRpfCPq2l OJuVS7piaUGbLS0bAkwuqG0O34reefnBkjia8sTCgVreS/McSlSiaz8vxspCkWnhcavm N9fGOB4JrBAG9893DDLUH7yK7cvK3B88Qd7kj5E2b6woQQgo/tgumRCkpBhGZF0xnGIm o2Cg== X-Gm-Message-State: AOJu0YylYR5+rSiAxAJdmKExZbvNppJizBQ3vARnVmyCPLsLtZdMURVb OA/K+qOj67RdLdm7K4I25JccDgbI9ZP5zp+N5l+svY720VPkeqkfKMYzSxSpd4GM5F6phV42tLq 2Xz3TS2iuIL5ateAG31+wTst2tcFUqGzfgacoqmS7 X-Gm-Gg: ASbGnctWSg5/gYApJOMkEnv53Nkb5z9FuCPgPCokloohKJ6F+qIn3YJQuq3LPsrQ4Xf g7qM+l5KVtRqjKY6cvmrL8HdYy7jO6igl+/bKscQQY52XdcG/K3dVzVjBTInq4rql/SFgOTFuOL Huk9EolRa0FsE4DK1NYKk+TK7EYTBIgT3QFAkV2Y7dd46op2lW8qoTK9pEffV9DSW7LEgj1zfnI TLqGuM++YThwYYawjc4rTnyBXAr7YsnIfIM89D6GhVRanewGvj+j/TVfyempH+F4vdvQa9CE+x5 SDzesHsJRC9aJORg88mZZjP8/DHrUA== X-Google-Smtp-Source: AGHT+IH/B4FA5fGAQCRJeFZt8ChOfg3r+v8YXXJzFAx1J/V3CeK9uz+D3FuAaIb3srFY427U2lnc183zsPmr X-Received: by 2002:a05:6e02:1a05:b0:3d0:4b0d:b226 with SMTP id e9e14a558f8ab-3d13df7f5a9mr39487505ab.21.1738958414800; Fri, 07 Feb 2025 12:00:14 -0800 (PST) Received: from postal.iol.unh.edu (postal.iol.unh.edu. [132.177.123.84]) by smtp-relay.gmail.com with ESMTPS id e9e14a558f8ab-3d05ea1bce4sm2641045ab.58.2025.02.07.12.00.14 (version=TLS1_2 cipher=ECDHE-ECDSA-AES128-GCM-SHA256 bits=128/128); Fri, 07 Feb 2025 12:00:14 -0800 (PST) X-Relaying-Domain: iol.unh.edu Date: Fri, 07 Feb 2025 12:00:14 -0800 (PST) Message-ID: <67a6664e.920a0220.7901a.d778SMTPIN_ADDED_MISSING@mx.google.com> Received: from [172.21.0.7] (unknown [172.18.0.240]) by postal.iol.unh.edu (Postfix) with ESMTP id 421666052471; Fri, 7 Feb 2025 14:59:44 -0500 (EST) Subject: |SUCCESS| pw149310 [PATCH] [1/1] vhost: fix a double fetch when dequ From: dpdklab@iol.unh.edu To: Test Report Cc: dpdk-test-reports@iol.unh.edu In-Reply-To: <91dc12662805a3867413940f856ba9454b91c579.1734588243.git.wangyunjian@huawei.com> References: <91dc12662805a3867413940f856ba9454b91c579.1734588243.git.wangyunjian@huawei.com> Content-Type: text/plain X-BeenThere: test-report@dpdk.org X-Mailman-Version: 2.1.29 Precedence: list List-Id: automatic DPDK test reports List-Unsubscribe: , List-Archive: List-Post: List-Help: List-Subscribe: , Errors-To: test-report-bounces@dpdk.org Test-Label: iol-compile-amd64-testing Test-Status: SUCCESS http://dpdk.org/patch/149310 _Testing PASS_ Submitter: Yunjian Wang Date: Thursday, December 19 2024 06:38:28 DPDK git baseline: Repo:dpdk Branch: master CommitID:510b460e02594a70d4ce19e2d29df3ade8af36d7 149310 --> testing pass Test environment and result as below: +---------------------+--------------------+------------------+-------------------+-------------------+-------------------------+----------------------+ | Environment | dpdk_meson_compile | dpdk_compile_ovs | dpdk_compile_spdk | dpdk_msvc_compile | dpdk_llvm_clang_compile | dpdk_mingw64_compile | +=====================+====================+==================+===================+===================+=========================+======================+ | CentOS Stream 9 | PASS | PASS | PASS | SKIPPED | SKIPPED | SKIPPED | +---------------------+--------------------+------------------+-------------------+-------------------+-------------------------+----------------------+ | Debian 12 | PASS | PASS | PASS | SKIPPED | SKIPPED | SKIPPED | +---------------------+--------------------+------------------+-------------------+-------------------+-------------------------+----------------------+ | Fedora 39 (Clang) | PASS | PASS | PASS | SKIPPED | SKIPPED | SKIPPED | +---------------------+--------------------+------------------+-------------------+-------------------+-------------------------+----------------------+ | Fedora 39 | PASS | PASS | PASS | SKIPPED | SKIPPED | SKIPPED | +---------------------+--------------------+------------------+-------------------+-------------------+-------------------------+----------------------+ | Fedora 40 (Clang) | PASS | PASS | PASS | SKIPPED | SKIPPED | SKIPPED | +---------------------+--------------------+------------------+-------------------+-------------------+-------------------------+----------------------+ | Fedora 40 | PASS | PASS | PASS | SKIPPED | SKIPPED | SKIPPED | +---------------------+--------------------+------------------+-------------------+-------------------+-------------------------+----------------------+ | RHEL9 | PASS | PASS | SKIPPED | SKIPPED | SKIPPED | SKIPPED | +---------------------+--------------------+------------------+-------------------+-------------------+-------------------------+----------------------+ | RHEL8 | PASS | PASS | SKIPPED | SKIPPED | SKIPPED | SKIPPED | +---------------------+--------------------+------------------+-------------------+-------------------+-------------------------+----------------------+ | Ubuntu 20.04 | PASS | SKIPPED | SKIPPED | SKIPPED | SKIPPED | SKIPPED | +---------------------+--------------------+------------------+-------------------+-------------------+-------------------------+----------------------+ | Ubuntu 22.04 | PASS | PASS | PASS | SKIPPED | SKIPPED | SKIPPED | +---------------------+--------------------+------------------+-------------------+-------------------+-------------------------+----------------------+ | Ubuntu 24.04 | PASS | PASS | PASS | SKIPPED | SKIPPED | SKIPPED | +---------------------+--------------------+------------------+-------------------+-------------------+-------------------------+----------------------+ | FreeBSD 13.4 | PASS | SKIPPED | SKIPPED | SKIPPED | SKIPPED | SKIPPED | +---------------------+--------------------+------------------+-------------------+-------------------+-------------------------+----------------------+ | FreeBSD 14.2 | PASS | SKIPPED | SKIPPED | SKIPPED | SKIPPED | SKIPPED | +---------------------+--------------------+------------------+-------------------+-------------------+-------------------------+----------------------+ | openSUSE Leap 15 | PASS | SKIPPED | SKIPPED | SKIPPED | SKIPPED | SKIPPED | +---------------------+--------------------+------------------+-------------------+-------------------+-------------------------+----------------------+ | Alpine | PASS | PASS | SKIPPED | SKIPPED | SKIPPED | SKIPPED | +---------------------+--------------------+------------------+-------------------+-------------------+-------------------------+----------------------+ | Windows Server 2022 | SKIPPED | SKIPPED | SKIPPED | PASS | PASS | PASS | +---------------------+--------------------+------------------+-------------------+-------------------+-------------------------+----------------------+ CentOS Stream 9 Kernel: Depends on container host Compiler: gcc 11.5.0 20240719 (Red Hat 11.5.0-2) Debian 12 Kernel: Depends on container host Compiler: gcc (Debian 12.2.0-14) 12.2.0 Fedora 39 (Clang) Kernel: Depends on container host Compiler: clang 17.0.6 (Fedora 17.0.6-2.fc39) Fedora 39 Kernel: Depends on container host Compiler: gcc 13.3.1 20240522 (Red Hat 13.3.1-1) Fedora 40 (Clang) Kernel: Depends on container host Compiler: clang 18.1.8 (Fedora 18.1.8-1.fc40) Fedora 40 Kernel: Depends on container host Compiler: gcc 14.2.1 20240912 (Red Hat 14.2.1-3) RHEL9 Kernel: Depends on container host Compiler: gcc 11.5.0 20240719 (Red Hat 11.5.0-2) RHEL8 Kernel: Depends on container host Compiler: gcc 8.5.0 20210514 (Red Hat 8.5.0-22) Ubuntu 20.04 Kernel: Depends on container host Compiler: gcc (Ubuntu 9.4.0-1ubuntu1~20.04.2) 9.4.0 Ubuntu 22.04 Kernel: Depends on container host Compiler: gcc (Ubuntu 11.4.0-1ubuntu1~22.04) 11.4.0 Ubuntu 24.04 Kernel: Depends on container host Compiler: gcc (Ubuntu 13.3.0-6ubuntu2~24.04) 13.3.0 FreeBSD 13.4 Kernel: 13.4-RELEASE-p1 Compiler: clang 18.1.6 FreeBSD 14.2 Kernel: 14.2-RELEASE Compiler: clang 18.1.6 openSUSE Leap 15 Kernel: Depends on container host Compiler: gcc (SUSE Linux) 7.5.0 Alpine Kernel: Depends on container host Compiler: gcc (Alpine 14.2.0) 14.2.0 Windows Server 2022 Kernel: 10.0.20348.2031 Compiler: clang 15.0.7, gcc 14.1.0 (MinGW), and MSVC VS 19.39.33521 To view detailed results, visit: https://lab.dpdk.org/results/dashboard/patchsets/32165/ UNH-IOL DPDK Community Lab To manage your email subscriptions, visit: https://lab.dpdk.org/results/dashboard/preferences/subscriptions/